Workbook
Name 세액구분: option!$F$2:$F$4
Name 연도: option!$A$2:$A$35
Name 월: option!$B$2:$B$13
Name 월별공급가액: option!$K$16
Name 월별세액: option!$K$17
Name 월별수량: option!$K$15
Name 월별합계: option!$K$18
Name 일자별건수: option!$K$5
Name 일자별공급가액: option!$K$7
Name 일자별세액: option!$K$8
Name 일자별수량: option!$K$6
Name 일자별합계: option!$K$9
Name 품목: OFFSET(표2[[#Headers],[품목]],1,0,COUNTA(표2[품목]))

Sheet 판매내역
B2: 손익계산표 | 판매내역
B4: 판매내역 | N4: 품목정보
B5: 판매일자 | C5: 품목 | D5: 규격 · 사양 | E5: 단위 | F5: 판매량 | G5: 판매가 | H5: 공급가액 | I5: 세액 | J5: 판매금액 | K5: 세액구분 | L5: 비고 | N5: 품목 | O5: 규격 · 사양 | P5: 단위 | Q5: 판매가
G6: =IFERROR(IF(OR(표1[[#This Row],[판매일자]]="",표1[[#This Row],[품목]]=""),0,VLOOKUP(표1[[#This Row],[품목]],표2[#All],4,FALSE)),0) -> 0 | H6: =IFERROR(IF(OR(표1[[#This Row],[판매일자]]="",표1[[#This Row],[세액구분]]=""),0,IF(AND(표1[[#This Row],[판매일자]]<>"",표1[[#This Row],[세액구분]]="포함"),표1[[#This Row],[판매량]]*표1[[#This Row],[판매가]]/1.1,표1[[#This Row],[판매량]]*표1[[#This Row],[판매가]])),0) -> 0 | I6: =IFERROR(IF(OR(표1[[#This Row],[판매일자]]="",표1[[#This Row],[세액구분]]="",표1[[#This Row],[세액구분]]="없음"),0,표1[[#This Row],[공급가액]]*0.1),0) -> 0 | J6: =IFERROR(IF(AND(표1[[#This Row],[공급가액]]="",표1[[#This Row],[세액]]=""),0,표1[[#This Row],[공급가액]]+표1[[#This Row],[세액]]),0) -> 0 | S6: 시작일자 | T6: 44562
G7: =IFERROR(IF(OR(표1[[#This Row],[판매일자]]="",표1[[#This Row],[품목]]=""),0,VLOOKUP(표1[[#This Row],[품목]],표2[#All],4,FALSE)),0) -> 0 | H7: =IFERROR(IF(OR(표1[[#This Row],[판매일자]]="",표1[[#This Row],[세액구분]]=""),0,IF(AND(표1[[#This Row],[판매일자]]<>"",표1[[#This Row],[세액구분]]="포함"),표1[[#This Row],[판매량]]*표1[[#This Row],[판매가]]/1.1,표1[[#This Row],[판매량]]*표1[[#This Row],[판매가]])),0) -> 0 | I7: =IFERROR(IF(OR(표1[[#This Row],[판매일자]]="",표1[[#This Row],[세액구분]]="",표1[[#This Row],[세액구분]]="없음"),0,표1[[#This Row],[공급가액]]*0.1),0) -> 0 | J7: =IFERROR(IF(AND(표1[[#This Row],[공급가액]]="",표1[[#This Row],[세액]]=""),0,표1[[#This Row],[공급가액]]+표1[[#This Row],[세액]]),0) -> 0 | S7: 종료일자 | T7: 44926
G8: =IFERROR(IF(OR(표1[[#This Row],[판매일자]]="",표1[[#This Row],[품목]]=""),0,VLOOKUP(표1[[#This Row],[품목]],표2[#All],4,FALSE)),0) -> 0 | H8: =IFERROR(IF(OR(표1[[#This Row],[판매일자]]="",표1[[#This Row],[세액구분]]=""),0,IF(AND(표1[[#This Row],[판매일자]]<>"",표1[[#This Row],[세액구분]]="포함"),표1[[#This Row],[판매량]]*표1[[#This Row],[판매가]]/1.1,표1[[#This Row],[판매량]]*표1[[#This Row],[판매가]])),0) -> 0 | I8: =IFERROR(IF(OR(표1[[#This Row],[판매일자]]="",표1[[#This Row],[세액구분]]="",표1[[#This Row],[세액구분]]="없음"),0,표1[[#This Row],[공급가액]]*0.1),0) -> 0 | J8: =IFERROR(IF(AND(표1[[#This Row],[공급가액]]="",표1[[#This Row],[세액]]=""),0,표1[[#This Row],[공급가액]]+표1[[#This Row],[세액]]),0) -> 0 | S8: 품목
G9: =IFERROR(IF(OR(표1[[#This Row],[판매일자]]="",표1[[#This Row],[품목]]=""),0,VLOOKUP(표1[[#This Row],[품목]],표2[#All],4,FALSE)),0) -> 0 | H9: =IFERROR(IF(OR(표1[[#This Row],[판매일자]]="",표1[[#This Row],[세액구분]]=""),0,IF(AND(표1[[#This Row],[판매일자]]<>"",표1[[#This Row],[세액구분]]="포함"),표1[[#This Row],[판매량]]*표1[[#This Row],[판매가]]/1.1,표1[[#This Row],[판매량]]*표1[[#This Row],[판매가]])),0) -> 0 | I9: =IFERROR(IF(OR(표1[[#This Row],[판매일자]]="",표1[[#This Row],[세액구분]]="",표1[[#This Row],[세액구분]]="없음"),0,표1[[#This Row],[공급가액]]*0.1),0) -> 0 | J9: =IFERROR(IF(AND(표1[[#This Row],[공급가액]]="",표1[[#This Row],[세액]]=""),0,표1[[#This Row],[공급가액]]+표1[[#This Row],[세액]]),0) -> 0 | S9: 판매건수 | T9: =IFERROR(일자별건수,"") -> 0
G10: =IFERROR(IF(OR(표1[[#This Row],[판매일자]]="",표1[[#This Row],[품목]]=""),0,VLOOKUP(표1[[#This Row],[품목]],표2[#All],4,FALSE)),0) -> 0 | H10: =IFERROR(IF(OR(표1[[#This Row],[판매일자]]="",표1[[#This Row],[세액구분]]=""),0,IF(AND(표1[[#This Row],[판매일자]]<>"",표1[[#This Row],[세액구분]]="포함"),표1[[#This Row],[판매량]]*표1[[#This Row],[판매가]]/1.1,표1[[#This Row],[판매량]]*표1[[#This Row],[판매가]])),0) -> 0 | I10: =IFERROR(IF(OR(표1[[#This Row],[판매일자]]="",표1[[#This Row],[세액구분]]="",표1[[#This Row],[세액구분]]="없음"),0,표1[[#This Row],[공급가액]]*0.1),0) -> 0 | J10: =IFERROR(IF(AND(표1[[#This Row],[공급가액]]="",표1[[#This Row],[세액]]=""),0,표1[[#This Row],[공급가액]]+표1[[#This Row],[세액]]),0) -> 0 | S10: 판매수량 | T10: =IFERROR(일자별수량,"") -> 0
G11: =IFERROR(IF(OR(표1[[#This Row],[판매일자]]="",표1[[#This Row],[품목]]=""),0,VLOOKUP(표1[[#This Row],[품목]],표2[#All],4,FALSE)),0) -> 0 | H11: =IFERROR(IF(OR(표1[[#This Row],[판매일자]]="",표1[[#This Row],[세액구분]]=""),0,IF(AND(표1[[#This Row],[판매일자]]<>"",표1[[#This Row],[세액구분]]="포함"),표1[[#This Row],[판매량]]*표1[[#This Row],[판매가]]/1.1,표1[[#This Row],[판매량]]*표1[[#This Row],[판매가]])),0) -> 0 | I11: =IFERROR(IF(OR(표1[[#This Row],[판매일자]]="",표1[[#This Row],[세액구분]]="",표1[[#This Row],[세액구분]]="없음"),0,표1[[#This Row],[공급가액]]*0.1),0) -> 0 | J11: =IFERROR(IF(AND(표1[[#This Row],[공급가액]]="",표1[[#This Row],[세액]]=""),0,표1[[#This Row],[공급가액]]+표1[[#This Row],[세액]]),0) -> 0 | S11: 공급가액 | T11: =IFERROR(일자별공급가액,"") -> 0
G12: =IFERROR(IF(OR(표1[[#This Row],[판매일자]]="",표1[[#This Row],[품목]]=""),0,VLOOKUP(표1[[#This Row],[품목]],표2[#All],4,FALSE)),0) -> 0 | H12: =IFERROR(IF(OR(표1[[#This Row],[판매일자]]="",표1[[#This Row],[세액구분]]=""),0,IF(AND(표1[[#This Row],[판매일자]]<>"",표1[[#This Row],[세액구분]]="포함"),표1[[#This Row],[판매량]]*표1[[#This Row],[판매가]]/1.1,표1[[#This Row],[판매량]]*표1[[#This Row],[판매가]])),0) -> 0 | I12: =IFERROR(IF(OR(표1[[#This Row],[판매일자]]="",표1[[#This Row],[세액구분]]="",표1[[#This Row],[세액구분]]="없음"),0,표1[[#This Row],[공급가액]]*0.1),0) -> 0 | J12: =IFERROR(IF(AND(표1[[#This Row],[공급가액]]="",표1[[#This Row],[세액]]=""),0,표1[[#This Row],[공급가액]]+표1[[#This Row],[세액]]),0) -> 0 | S12: 세액 | T12: =IFERROR(일자별세액,"") -> 0
G13: =IFERROR(IF(OR(표1[[#This Row],[판매일자]]="",표1[[#This Row],[품목]]=""),0,VLOOKUP(표1[[#This Row],[품목]],표2[#All],4,FALSE)),0) -> 0 | H13: =IFERROR(IF(OR(표1[[#This Row],[판매일자]]="",표1[[#This Row],[세액구분]]=""),0,IF(AND(표1[[#This Row],[판매일자]]<>"",표1[[#This Row],[세액구분]]="포함"),표1[[#This Row],[판매량]]*표1[[#This Row],[판매가]]/1.1,표1[[#This Row],[판매량]]*표1[[#This Row],[판매가]])),0) -> 0 | I13: =IFERROR(IF(OR(표1[[#This Row],[판매일자]]="",표1[[#This Row],[세액구분]]="",표1[[#This Row],[세액구분]]="없음"),0,표1[[#This Row],[공급가액]]*0.1),0) -> 0 | J13: =IFERROR(IF(AND(표1[[#This Row],[공급가액]]="",표1[[#This Row],[세액]]=""),0,표1[[#This Row],[공급가액]]+표1[[#This Row],[세액]]),0) -> 0 | S13: 판매금액 | T13: =IFERROR(일자별합계,"") -> 0
G14: =IFERROR(IF(OR(표1[[#This Row],[판매일자]]="",표1[[#This Row],[품목]]=""),0,VLOOKUP(표1[[#This Row],[품목]],표2[#All],4,FALSE)),0) -> 0 | H14: =IFERROR(IF(OR(표1[[#This Row],[판매일자]]="",표1[[#This Row],[세액구분]]=""),0,IF(AND(표1[[#This Row],[판매일자]]<>"",표1[[#This Row],[세액구분]]="포함"),표1[[#This Row],[판매량]]*표1[[#This Row],[판매가]]/1.1,표1[[#This Row],[판매량]]*표1[[#This Row],[판매가]])),0) -> 0 | I14: =IFERROR(IF(OR(표1[[#This Row],[판매일자]]="",표1[[#This Row],[세액구분]]="",표1[[#This Row],[세액구분]]="없음"),0,표1[[#This Row],[공급가액]]*0.1),0) -> 0 | J14: =IFERROR(IF(AND(표1[[#This Row],[공급가액]]="",표1[[#This Row],[세액]]=""),0,표1[[#This Row],[공급가액]]+표1[[#This Row],[세액]]),0) -> 0
G15: =IFERROR(IF(OR(표1[[#This Row],[판매일자]]="",표1[[#This Row],[품목]]=""),0,VLOOKUP(표1[[#This Row],[품목]],표2[#All],4,FALSE)),0) -> 0 | H15: =IFERROR(IF(OR(표1[[#This Row],[판매일자]]="",표1[[#This Row],[세액구분]]=""),0,IF(AND(표1[[#This Row],[판매일자]]<>"",표1[[#This Row],[세액구분]]="포함"),표1[[#This Row],[판매량]]*표1[[#This Row],[판매가]]/1.1,표1[[#This Row],[판매량]]*표1[[#This Row],[판매가]])),0) -> 0 | I15: =IFERROR(IF(OR(표1[[#This Row],[판매일자]]="",표1[[#This Row],[세액구분]]="",표1[[#This Row],[세액구분]]="없음"),0,표1[[#This Row],[공급가액]]*0.1),0) -> 0 | J15: =IFERROR(IF(AND(표1[[#This Row],[공급가액]]="",표1[[#This Row],[세액]]=""),0,표1[[#This Row],[공급가액]]+표1[[#This Row],[세액]]),0) -> 0 | S15: 연도 | T15: 2022
G16: =IFERROR(IF(OR(표1[[#This Row],[판매일자]]="",표1[[#This Row],[품목]]=""),0,VLOOKUP(표1[[#This Row],[품목]],표2[#All],4,FALSE)),0) -> 0 | H16: =IFERROR(IF(OR(표1[[#This Row],[판매일자]]="",표1[[#This Row],[세액구분]]=""),0,IF(AND(표1[[#This Row],[판매일자]]<>"",표1[[#This Row],[세액구분]]="포함"),표1[[#This Row],[판매량]]*표1[[#This Row],[판매가]]/1.1,표1[[#This Row],[판매량]]*표1[[#This Row],[판매가]])),0) -> 0 | I16: =IFERROR(IF(OR(표1[[#This Row],[판매일자]]="",표1[[#This Row],[세액구분]]="",표1[[#This Row],[세액구분]]="없음"),0,표1[[#This Row],[공급가액]]*0.1),0) -> 0 | J16: =IFERROR(IF(AND(표1[[#This Row],[공급가액]]="",표1[[#This Row],[세액]]=""),0,표1[[#This Row],[공급가액]]+표1[[#This Row],[세액]]),0) -> 0 | S16: 품목
G17: =IFERROR(IF(OR(표1[[#This Row],[판매일자]]="",표1[[#This Row],[품목]]=""),0,VLOOKUP(표1[[#This Row],[품목]],표2[#All],4,FALSE)),0) -> 0 | H17: =IFERROR(IF(OR(표1[[#This Row],[판매일자]]="",표1[[#This Row],[세액구분]]=""),0,IF(AND(표1[[#This Row],[판매일자]]<>"",표1[[#This Row],[세액구분]]="포함"),표1[[#This Row],[판매량]]*표1[[#This Row],[판매가]]/1.1,표1[[#This Row],[판매량]]*표1[[#This Row],[판매가]])),0) -> 0 | I17: =IFERROR(IF(OR(표1[[#This Row],[판매일자]]="",표1[[#This Row],[세액구분]]="",표1[[#This Row],[세액구분]]="없음"),0,표1[[#This Row],[공급가액]]*0.1),0) -> 0 | J17: =IFERROR(IF(AND(표1[[#This Row],[공급가액]]="",표1[[#This Row],[세액]]=""),0,표1[[#This Row],[공급가액]]+표1[[#This Row],[세액]]),0) -> 0
G18: =IFERROR(IF(OR(표1[[#This Row],[판매일자]]="",표1[[#This Row],[품목]]=""),0,VLOOKUP(표1[[#This Row],[품목]],표2[#All],4,FALSE)),0) -> 0 | H18: =IFERROR(IF(OR(표1[[#This Row],[판매일자]]="",표1[[#This Row],[세액구분]]=""),0,IF(AND(표1[[#This Row],[판매일자]]<>"",표1[[#This Row],[세액구분]]="포함"),표1[[#This Row],[판매량]]*표1[[#This Row],[판매가]]/1.1,표1[[#This Row],[판매량]]*표1[[#This Row],[판매가]])),0) -> 0 | I18: =IFERROR(IF(OR(표1[[#This Row],[판매일자]]="",표1[[#This Row],[세액구분]]="",표1[[#This Row],[세액구분]]="없음"),0,표1[[#This Row],[공급가액]]*0.1),0) -> 0 | J18: =IFERROR(IF(AND(표1[[#This Row],[공급가액]]="",표1[[#This Row],[세액]]=""),0,표1[[#This Row],[공급가액]]+표1[[#This Row],[세액]]),0) -> 0
G19: =IFERROR(IF(OR(표1[[#This Row],[판매일자]]="",표1[[#This Row],[품목]]=""),0,VLOOKUP(표1[[#This Row],[품목]],표2[#All],4,FALSE)),0) -> 0 | H19: =IFERROR(IF(OR(표1[[#This Row],[판매일자]]="",표1[[#This Row],[세액구분]]=""),0,IF(AND(표1[[#This Row],[판매일자]]<>"",표1[[#This Row],[세액구분]]="포함"),표1[[#This Row],[판매량]]*표1[[#This Row],[판매가]]/1.1,표1[[#This Row],[판매량]]*표1[[#This Row],[판매가]])),0) -> 0 | I19: =IFERROR(IF(OR(표1[[#This Row],[판매일자]]="",표1[[#This Row],[세액구분]]="",표1[[#This Row],[세액구분]]="없음"),0,표1[[#This Row],[공급가액]]*0.1),0) -> 0 | J19: =IFERROR(IF(AND(표1[[#This Row],[공급가액]]="",표1[[#This Row],[세액]]=""),0,표1[[#This Row],[공급가액]]+표1[[#This Row],[세액]]),0) -> 0
G20: =IFERROR(IF(OR(표1[[#This Row],[판매일자]]="",표1[[#This Row],[품목]]=""),0,VLOOKUP(표1[[#This Row],[품목]],표2[#All],4,FALSE)),0) -> 0 | H20: =IFERROR(IF(OR(표1[[#This Row],[판매일자]]="",표1[[#This Row],[세액구분]]=""),0,IF(AND(표1[[#This Row],[판매일자]]<>"",표1[[#This Row],[세액구분]]="포함"),표1[[#This Row],[판매량]]*표1[[#This Row],[판매가]]/1.1,표1[[#This Row],[판매량]]*표1[[#This Row],[판매가]])),0) -> 0 | I20: =IFERROR(IF(OR(표1[[#This Row],[판매일자]]="",표1[[#This Row],[세액구분]]="",표1[[#This Row],[세액구분]]="없음"),0,표1[[#This Row],[공급가액]]*0.1),0) -> 0 | J20: =IFERROR(IF(AND(표1[[#This Row],[공급가액]]="",표1[[#This Row],[세액]]=""),0,표1[[#This Row],[공급가액]]+표1[[#This Row],[세액]]),0) -> 0
G21: =IFERROR(IF(OR(표1[[#This Row],[판매일자]]="",표1[[#This Row],[품목]]=""),0,VLOOKUP(표1[[#This Row],[품목]],표2[#All],4,FALSE)),0) -> 0 | H21: =IFERROR(IF(OR(표1[[#This Row],[판매일자]]="",표1[[#This Row],[세액구분]]=""),0,IF(AND(표1[[#This Row],[판매일자]]<>"",표1[[#This Row],[세액구분]]="포함"),표1[[#This Row],[판매량]]*표1[[#This Row],[판매가]]/1.1,표1[[#This Row],[판매량]]*표1[[#This Row],[판매가]])),0) -> 0 | I21: =IFERROR(IF(OR(표1[[#This Row],[판매일자]]="",표1[[#This Row],[세액구분]]="",표1[[#This Row],[세액구분]]="없음"),0,표1[[#This Row],[공급가액]]*0.1),0) -> 0 | J21: =IFERROR(IF(AND(표1[[#This Row],[공급가액]]="",표1[[#This Row],[세액]]=""),0,표1[[#This Row],[공급가액]]+표1[[#This Row],[세액]]),0) -> 0
G22: =IFERROR(IF(OR(표1[[#This Row],[판매일자]]="",표1[[#This Row],[품목]]=""),0,VLOOKUP(표1[[#This Row],[품목]],표2[#All],4,FALSE)),0) -> 0 | H22: =IFERROR(IF(OR(표1[[#This Row],[판매일자]]="",표1[[#This Row],[세액구분]]=""),0,IF(AND(표1[[#This Row],[판매일자]]<>"",표1[[#This Row],[세액구분]]="포함"),표1[[#This Row],[판매량]]*표1[[#This Row],[판매가]]/1.1,표1[[#This Row],[판매량]]*표1[[#This Row],[판매가]])),0) -> 0 | I22: =IFERROR(IF(OR(표1[[#This Row],[판매일자]]="",표1[[#This Row],[세액구분]]="",표1[[#This Row],[세액구분]]="없음"),0,표1[[#This Row],[공급가액]]*0.1),0) -> 0 | J22: =IFERROR(IF(AND(표1[[#This Row],[공급가액]]="",표1[[#This Row],[세액]]=""),0,표1[[#This Row],[공급가액]]+표1[[#This Row],[세액]]),0) -> 0
G23: =IFERROR(IF(OR(표1[[#This Row],[판매일자]]="",표1[[#This Row],[품목]]=""),0,VLOOKUP(표1[[#This Row],[품목]],표2[#All],4,FALSE)),0) -> 0 | H23: =IFERROR(IF(OR(표1[[#This Row],[판매일자]]="",표1[[#This Row],[세액구분]]=""),0,IF(AND(표1[[#This Row],[판매일자]]<>"",표1[[#This Row],[세액구분]]="포함"),표1[[#This Row],[판매량]]*표1[[#This Row],[판매가]]/1.1,표1[[#This Row],[판매량]]*표1[[#This Row],[판매가]])),0) -> 0 | I23: =IFERROR(IF(OR(표1[[#This Row],[판매일자]]="",표1[[#This Row],[세액구분]]="",표1[[#This Row],[세액구분]]="없음"),0,표1[[#This Row],[공급가액]]*0.1),0) -> 0 | J23: =IFERROR(IF(AND(표1[[#This Row],[공급가액]]="",표1[[#This Row],[세액]]=""),0,표1[[#This Row],[공급가액]]+표1[[#This Row],[세액]]),0) -> 0
G24: =IFERROR(IF(OR(표1[[#This Row],[판매일자]]="",표1[[#This Row],[품목]]=""),0,VLOOKUP(표1[[#This Row],[품목]],표2[#All],4,FALSE)),0) -> 0 | H24: =IFERROR(IF(OR(표1[[#This Row],[판매일자]]="",표1[[#This Row],[세액구분]]=""),0,IF(AND(표1[[#This Row],[판매일자]]<>"",표1[[#This Row],[세액구분]]="포함"),표1[[#This Row],[판매량]]*표1[[#This Row],[판매가]]/1.1,표1[[#This Row],[판매량]]*표1[[#This Row],[판매가]])),0) -> 0 | I24: =IFERROR(IF(OR(표1[[#This Row],[판매일자]]="",표1[[#This Row],[세액구분]]="",표1[[#This Row],[세액구분]]="없음"),0,표1[[#This Row],[공급가액]]*0.1),0) -> 0 | J24: =IFERROR(IF(AND(표1[[#This Row],[공급가액]]="",표1[[#This Row],[세액]]=""),0,표1[[#This Row],[공급가액]]+표1[[#This Row],[세액]]),0) -> 0
G25: =IFERROR(IF(OR(표1[[#This Row],[판매일자]]="",표1[[#This Row],[품목]]=""),0,VLOOKUP(표1[[#This Row],[품목]],표2[#All],4,FALSE)),0) -> 0 | H25: =IFERROR(IF(OR(표1[[#This Row],[판매일자]]="",표1[[#This Row],[세액구분]]=""),0,IF(AND(표1[[#This Row],[판매일자]]<>"",표1[[#This Row],[세액구분]]="포함"),표1[[#This Row],[판매량]]*표1[[#This Row],[판매가]]/1.1,표1[[#This Row],[판매량]]*표1[[#This Row],[판매가]])),0) -> 0 | I25: =IFERROR(IF(OR(표1[[#This Row],[판매일자]]="",표1[[#This Row],[세액구분]]="",표1[[#This Row],[세액구분]]="없음"),0,표1[[#This Row],[공급가액]]*0.1),0) -> 0 | J25: =IFERROR(IF(AND(표1[[#This Row],[공급가액]]="",표1[[#This Row],[세액]]=""),0,표1[[#This Row],[공급가액]]+표1[[#This Row],[세액]]),0) -> 0
G26: =IFERROR(IF(OR(표1[[#This Row],[판매일자]]="",표1[[#This Row],[품목]]=""),0,VLOOKUP(표1[[#This Row],[품목]],표2[#All],4,FALSE)),0) -> 0 | H26: =IFERROR(IF(OR(표1[[#This Row],[판매일자]]="",표1[[#This Row],[세액구분]]=""),0,IF(AND(표1[[#This Row],[판매일자]]<>"",표1[[#This Row],[세액구분]]="포함"),표1[[#This Row],[판매량]]*표1[[#This Row],[판매가]]/1.1,표1[[#This Row],[판매량]]*표1[[#This Row],[판매가]])),0) -> 0 | I26: =IFERROR(IF(OR(표1[[#This Row],[판매일자]]="",표1[[#This Row],[세액구분]]="",표1[[#This Row],[세액구분]]="없음"),0,표1[[#This Row],[공급가액]]*0.1),0) -> 0 | J26: =IFERROR(IF(AND(표1[[#This Row],[공급가액]]="",표1[[#This Row],[세액]]=""),0,표1[[#This Row],[공급가액]]+표1[[#This Row],[세액]]),0) -> 0
G27: =IFERROR(IF(OR(표1[[#This Row],[판매일자]]="",표1[[#This Row],[품목]]=""),0,VLOOKUP(표1[[#This Row],[품목]],표2[#All],4,FALSE)),0) -> 0 | H27: =IFERROR(IF(OR(표1[[#This Row],[판매일자]]="",표1[[#This Row],[세액구분]]=""),0,IF(AND(표1[[#This Row],[판매일자]]<>"",표1[[#This Row],[세액구분]]="포함"),표1[[#This Row],[판매량]]*표1[[#This Row],[판매가]]/1.1,표1[[#This Row],[판매량]]*표1[[#This Row],[판매가]])),0) -> 0 | I27: =IFERROR(IF(OR(표1[[#This Row],[판매일자]]="",표1[[#This Row],[세액구분]]="",표1[[#This Row],[세액구분]]="없음"),0,표1[[#This Row],[공급가액]]*0.1),0) -> 0 | J27: =IFERROR(IF(AND(표1[[#This Row],[공급가액]]="",표1[[#This Row],[세액]]=""),0,표1[[#This Row],[공급가액]]+표1[[#This Row],[세액]]),0) -> 0
G28: =IFERROR(IF(OR(표1[[#This Row],[판매일자]]="",표1[[#This Row],[품목]]=""),0,VLOOKUP(표1[[#This Row],[품목]],표2[#All],4,FALSE)),0) -> 0 | H28: =IFERROR(IF(OR(표1[[#This Row],[판매일자]]="",표1[[#This Row],[세액구분]]=""),0,IF(AND(표1[[#This Row],[판매일자]]<>"",표1[[#This Row],[세액구분]]="포함"),표1[[#This Row],[판매량]]*표1[[#This Row],[판매가]]/1.1,표1[[#This Row],[판매량]]*표1[[#This Row],[판매가]])),0) -> 0 | I28: =IFERROR(IF(OR(표1[[#This Row],[판매일자]]="",표1[[#This Row],[세액구분]]="",표1[[#This Row],[세액구분]]="없음"),0,표1[[#This Row],[공급가액]]*0.1),0) -> 0 | J28: =IFERROR(IF(AND(표1[[#This Row],[공급가액]]="",표1[[#This Row],[세액]]=""),0,표1[[#This Row],[공급가액]]+표1[[#This Row],[세액]]),0) -> 0
... G31: =IFERROR(IF(OR(표1[[#This Row],[판매일자]]="",표1[[#This Row],[품목]]=""),0,VLOOKUP(표1[[#This Row],[품목]],표2[#All],4,FALSE)),0) -> 0 | H31: =IFERROR(IF(OR(표1[[#This Row],[판매일자]]="",표1[[#This Row],[세액구분]]=""),0,IF(AND(표1[[#This Row],[판매일자]]<>"",표1[[#This Row],[세액구분]]="포함"),표1[[#This Row],[판매량]]*표1[[#This Row],[판매가]]/1.1,표1[[#This Row],[판매량]]*표1[[#This Row],[판매가]])),0) -> 0 | I31: =IFERROR(IF(OR(표1[[#This Row],[판매일자]]="",표1[[#This Row],[세액구분]]="",표1[[#This Row],[세액구분]]="없음"),0,표1[[#This Row],[공급가액]]*0.1),0) -> 0 | J31: =IFERROR(IF(AND(표1[[#This Row],[공급가액]]="",표1[[#This Row],[세액]]=""),0,표1[[#This Row],[공급가액]]+표1[[#This Row],[세액]]),0) -> 0
D32: =IFERROR(IF(OR(표1[[#This Row],[판매일자]]="",표1[[#This Row],[품목]]=""),"",VLOOKUP(표1[[#This Row],[품목]],표2[#All],2,FALSE)),"") | E32: =IFERROR(IF(OR(표1[[#This Row],[판매일자]]="",표1[[#This Row],[품목]]=""),"",VLOOKUP(표1[[#This Row],[품목]],표2[#All],3,FALSE)),"") | G32: =IFERROR(IF(OR(표1[[#This Row],[판매일자]]="",표1[[#This Row],[품목]]=""),0,VLOOKUP(표1[[#This Row],[품목]],표2[#All],4,FALSE)),0) -> 0 | H32: =IFERROR(IF(OR(표1[[#This Row],[판매일자]]="",표1[[#This Row],[세액구분]]=""),0,IF(AND(표1[[#This Row],[판매일자]]<>"",표1[[#This Row],[세액구분]]="포함"),표1[[#This Row],[판매량]]*표1[[#This Row],[판매가]]/1.1,표1[[#This Row],[판매량]]*표1[[#This Row],[판매가]])),0) -> 0 | I32: =IFERROR(IF(OR(표1[[#This Row],[판매일자]]="",표1[[#This Row],[세액구분]]="",표1[[#This Row],[세액구분]]="없음"),0,표1[[#This Row],[공급가액]]*0.1),0) -> 0 | J32: =IFERROR(IF(AND(표1[[#This Row],[공급가액]]="",표1[[#This Row],[세액]]=""),0,표1[[#This Row],[공급가액]]+표1[[#This Row],[세액]]),0) -> 0
D33: =IFERROR(IF(OR(표1[[#This Row],[판매일자]]="",표1[[#This Row],[품목]]=""),"",VLOOKUP(표1[[#This Row],[품목]],표2[#All],2,FALSE)),"") | E33: =IFERROR(IF(OR(표1[[#This Row],[판매일자]]="",표1[[#This Row],[품목]]=""),"",VLOOKUP(표1[[#This Row],[품목]],표2[#All],3,FALSE)),"") | G33: =IFERROR(IF(OR(표1[[#This Row],[판매일자]]="",표1[[#This Row],[품목]]=""),0,VLOOKUP(표1[[#This Row],[품목]],표2[#All],4,FALSE)),0) -> 0 | H33: =IFERROR(IF(OR(표1[[#This Row],[판매일자]]="",표1[[#This Row],[세액구분]]=""),0,IF(AND(표1[[#This Row],[판매일자]]<>"",표1[[#This Row],[세액구분]]="포함"),표1[[#This Row],[판매량]]*표1[[#This Row],[판매가]]/1.1,표1[[#This Row],[판매량]]*표1[[#This Row],[판매가]])),0) -> 0 | I33: =IFERROR(IF(OR(표1[[#This Row],[판매일자]]="",표1[[#This Row],[세액구분]]="",표1[[#This Row],[세액구분]]="없음"),0,표1[[#This Row],[공급가액]]*0.1),0) -> 0 | J33: =IFERROR(IF(AND(표1[[#This Row],[공급가액]]="",표1[[#This Row],[세액]]=""),0,표1[[#This Row],[공급가액]]+표1[[#This Row],[세액]]),0) -> 0
D34: =IFERROR(IF(OR(표1[[#This Row],[판매일자]]="",표1[[#This Row],[품목]]=""),"",VLOOKUP(표1[[#This Row],[품목]],표2[#All],2,FALSE)),"") | E34: =IFERROR(IF(OR(표1[[#This Row],[판매일자]]="",표1[[#This Row],[품목]]=""),"",VLOOKUP(표1[[#This Row],[품목]],표2[#All],3,FALSE)),"") | G34: =IFERROR(IF(OR(표1[[#This Row],[판매일자]]="",표1[[#This Row],[품목]]=""),0,VLOOKUP(표1[[#This Row],[품목]],표2[#All],4,FALSE)),0) -> 0 | H34: =IFERROR(IF(OR(표1[[#This Row],[판매일자]]="",표1[[#This Row],[세액구분]]=""),0,IF(AND(표1[[#This Row],[판매일자]]<>"",표1[[#This Row],[세액구분]]="포함"),표1[[#This Row],[판매량]]*표1[[#This Row],[판매가]]/1.1,표1[[#This Row],[판매량]]*표1[[#This Row],[판매가]])),0) -> 0 | I34: =IFERROR(IF(OR(표1[[#This Row],[판매일자]]="",표1[[#This Row],[세액구분]]="",표1[[#This Row],[세액구분]]="없음"),0,표1[[#This Row],[공급가액]]*0.1),0) -> 0 | J34: =IFERROR(IF(AND(표1[[#This Row],[공급가액]]="",표1[[#This Row],[세액]]=""),0,표1[[#This Row],[공급가액]]+표1[[#This Row],[세액]]),0) -> 0
D35: =IFERROR(IF(OR(표1[[#This Row],[판매일자]]="",표1[[#This Row],[품목]]=""),"",VLOOKUP(표1[[#This Row],[품목]],표2[#All],2,FALSE)),"") | E35: =IFERROR(IF(OR(표1[[#This Row],[판매일자]]="",표1[[#This Row],[품목]]=""),"",VLOOKUP(표1[[#This Row],[품목]],표2[#All],3,FALSE)),"") | G35: =IFERROR(IF(OR(표1[[#This Row],[판매일자]]="",표1[[#This Row],[품목]]=""),0,VLOOKUP(표1[[#This Row],[품목]],표2[#All],4,FALSE)),0) -> 0 | H35: =IFERROR(IF(OR(표1[[#This Row],[판매일자]]="",표1[[#This Row],[세액구분]]=""),0,IF(AND(표1[[#This Row],[판매일자]]<>"",표1[[#This Row],[세액구분]]="포함"),표1[[#This Row],[판매량]]*표1[[#This Row],[판매가]]/1.1,표1[[#This Row],[판매량]]*표1[[#This Row],[판매가]])),0) -> 0 | I35: =IFERROR(IF(OR(표1[[#This Row],[판매일자]]="",표1[[#This Row],[세액구분]]="",표1[[#This Row],[세액구분]]="없음"),0,표1[[#This Row],[공급가액]]*0.1),0) -> 0 | J35: =IFERROR(IF(AND(표1[[#This Row],[공급가액]]="",표1[[#This Row],[세액]]=""),0,표1[[#This Row],[공급가액]]+표1[[#This Row],[세액]]),0) -> 0
D36: =IFERROR(IF(OR(표1[[#This Row],[판매일자]]="",표1[[#This Row],[품목]]=""),"",VLOOKUP(표1[[#This Row],[품목]],표2[#All],2,FALSE)),"") | E36: =IFERROR(IF(OR(표1[[#This Row],[판매일자]]="",표1[[#This Row],[품목]]=""),"",VLOOKUP(표1[[#This Row],[품목]],표2[#All],3,FALSE)),"") | G36: =IFERROR(IF(OR(표1[[#This Row],[판매일자]]="",표1[[#This Row],[품목]]=""),0,VLOOKUP(표1[[#This Row],[품목]],표2[#All],4,FALSE)),0) -> 0 | H36: =IFERROR(IF(OR(표1[[#This Row],[판매일자]]="",표1[[#This Row],[세액구분]]=""),0,IF(AND(표1[[#This Row],[판매일자]]<>"",표1[[#This Row],[세액구분]]="포함"),표1[[#This Row],[판매량]]*표1[[#This Row],[판매가]]/1.1,표1[[#This Row],[판매량]]*표1[[#This Row],[판매가]])),0) -> 0 | I36: =IFERROR(IF(OR(표1[[#This Row],[판매일자]]="",표1[[#This Row],[세액구분]]="",표1[[#This Row],[세액구분]]="없음"),0,표1[[#This Row],[공급가액]]*0.1),0) -> 0 | J36: =IFERROR(IF(AND(표1[[#This Row],[공급가액]]="",표1[[#This Row],[세액]]=""),0,표1[[#This Row],[공급가액]]+표1[[#This Row],[세액]]),0) -> 0
D37: =IFERROR(IF(OR(표1[[#This Row],[판매일자]]="",표1[[#This Row],[품목]]=""),"",VLOOKUP(표1[[#This Row],[품목]],표2[#All],2,FALSE)),"") | E37: =IFERROR(IF(OR(표1[[#This Row],[판매일자]]="",표1[[#This Row],[품목]]=""),"",VLOOKUP(표1[[#This Row],[품목]],표2[#All],3,FALSE)),"") | G37: =IFERROR(IF(OR(표1[[#This Row],[판매일자]]="",표1[[#This Row],[품목]]=""),0,VLOOKUP(표1[[#This Row],[품목]],표2[#All],4,FALSE)),0) -> 0 | H37: =IFERROR(IF(OR(표1[[#This Row],[판매일자]]="",표1[[#This Row],[세액구분]]=""),0,IF(AND(표1[[#This Row],[판매일자]]<>"",표1[[#This Row],[세액구분]]="포함"),표1[[#This Row],[판매량]]*표1[[#This Row],[판매가]]/1.1,표1[[#This Row],[판매량]]*표1[[#This Row],[판매가]])),0) -> 0 | I37: =IFERROR(IF(OR(표1[[#This Row],[판매일자]]="",표1[[#This Row],[세액구분]]="",표1[[#This Row],[세액구분]]="없음"),0,표1[[#This Row],[공급가액]]*0.1),0) -> 0 | J37: =IFERROR(IF(AND(표1[[#This Row],[공급가액]]="",표1[[#This Row],[세액]]=""),0,표1[[#This Row],[공급가액]]+표1[[#This Row],[세액]]),0) -> 0
D38: =IFERROR(IF(OR(표1[[#This Row],[판매일자]]="",표1[[#This Row],[품목]]=""),"",VLOOKUP(표1[[#This Row],[품목]],표2[#All],2,FALSE)),"") | E38: =IFERROR(IF(OR(표1[[#This Row],[판매일자]]="",표1[[#This Row],[품목]]=""),"",VLOOKUP(표1[[#This Row],[품목]],표2[#All],3,FALSE)),"") | G38: =IFERROR(IF(OR(표1[[#This Row],[판매일자]]="",표1[[#This Row],[품목]]=""),0,VLOOKUP(표1[[#This Row],[품목]],표2[#All],4,FALSE)),0) -> 0 | H38: =IFERROR(IF(OR(표1[[#This Row],[판매일자]]="",표1[[#This Row],[세액구분]]=""),0,IF(AND(표1[[#This Row],[판매일자]]<>"",표1[[#This Row],[세액구분]]="포함"),표1[[#This Row],[판매량]]*표1[[#This Row],[판매가]]/1.1,표1[[#This Row],[판매량]]*표1[[#This Row],[판매가]])),0) -> 0 | I38: =IFERROR(IF(OR(표1[[#This Row],[판매일자]]="",표1[[#This Row],[세액구분]]="",표1[[#This Row],[세액구분]]="없음"),0,표1[[#This Row],[공급가액]]*0.1),0) -> 0 | J38: =IFERROR(IF(AND(표1[[#This Row],[공급가액]]="",표1[[#This Row],[세액]]=""),0,표1[[#This Row],[공급가액]]+표1[[#This Row],[세액]]),0) -> 0
D39: =IFERROR(IF(OR(표1[[#This Row],[판매일자]]="",표1[[#This Row],[품목]]=""),"",VLOOKUP(표1[[#This Row],[품목]],표2[#All],2,FALSE)),"") | E39: =IFERROR(IF(OR(표1[[#This Row],[판매일자]]="",표1[[#This Row],[품목]]=""),"",VLOOKUP(표1[[#This Row],[품목]],표2[#All],3,FALSE)),"") | G39: =IFERROR(IF(OR(표1[[#This Row],[판매일자]]="",표1[[#This Row],[품목]]=""),0,VLOOKUP(표1[[#This Row],[품목]],표2[#All],4,FALSE)),0) -> 0 | H39: =IFERROR(IF(OR(표1[[#This Row],[판매일자]]="",표1[[#This Row],[세액구분]]=""),0,IF(AND(표1[[#This Row],[판매일자]]<>"",표1[[#This Row],[세액구분]]="포함"),표1[[#This Row],[판매량]]*표1[[#This Row],[판매가]]/1.1,표1[[#This Row],[판매량]]*표1[[#This Row],[판매가]])),0) -> 0 | I39: =IFERROR(IF(OR(표1[[#This Row],[판매일자]]="",표1[[#This Row],[세액구분]]="",표1[[#This Row],[세액구분]]="없음"),0,표1[[#This Row],[공급가액]]*0.1),0) -> 0 | J39: =IFERROR(IF(AND(표1[[#This Row],[공급가액]]="",표1[[#This Row],[세액]]=""),0,표1[[#This Row],[공급가액]]+표1[[#This Row],[세액]]),0) -> 0
D40: =IFERROR(IF(OR(표1[[#This Row],[판매일자]]="",표1[[#This Row],[품목]]=""),"",VLOOKUP(표1[[#This Row],[품목]],표2[#All],2,FALSE)),"") | E40: =IFERROR(IF(OR(표1[[#This Row],[판매일자]]="",표1[[#This Row],[품목]]=""),"",VLOOKUP(표1[[#This Row],[품목]],표2[#All],3,FALSE)),"") | G40: =IFERROR(IF(OR(표1[[#This Row],[판매일자]]="",표1[[#This Row],[품목]]=""),0,VLOOKUP(표1[[#This Row],[품목]],표2[#All],4,FALSE)),0) -> 0 | H40: =IFERROR(IF(OR(표1[[#This Row],[판매일자]]="",표1[[#This Row],[세액구분]]=""),0,IF(AND(표1[[#This Row],[판매일자]]<>"",표1[[#This Row],[세액구분]]="포함"),표1[[#This Row],[판매량]]*표1[[#This Row],[판매가]]/1.1,표1[[#This Row],[판매량]]*표1[[#This Row],[판매가]])),0) -> 0 | I40: =IFERROR(IF(OR(표1[[#This Row],[판매일자]]="",표1[[#This Row],[세액구분]]="",표1[[#This Row],[세액구분]]="없음"),0,표1[[#This Row],[공급가액]]*0.1),0) -> 0 | J40: =IFERROR(IF(AND(표1[[#This Row],[공급가액]]="",표1[[#This Row],[세액]]=""),0,표1[[#This Row],[공급가액]]+표1[[#This Row],[세액]]),0) -> 0
D41: =IFERROR(IF(OR(표1[[#This Row],[판매일자]]="",표1[[#This Row],[품목]]=""),"",VLOOKUP(표1[[#This Row],[품목]],표2[#All],2,FALSE)),"") | E41: =IFERROR(IF(OR(표1[[#This Row],[판매일자]]="",표1[[#This Row],[품목]]=""),"",VLOOKUP(표1[[#This Row],[품목]],표2[#All],3,FALSE)),"") | G41: =IFERROR(IF(OR(표1[[#This Row],[판매일자]]="",표1[[#This Row],[품목]]=""),0,VLOOKUP(표1[[#This Row],[품목]],표2[#All],4,FALSE)),0) -> 0 | H41: =IFERROR(IF(OR(표1[[#This Row],[판매일자]]="",표1[[#This Row],[세액구분]]=""),0,IF(AND(표1[[#This Row],[판매일자]]<>"",표1[[#This Row],[세액구분]]="포함"),표1[[#This Row],[판매량]]*표1[[#This Row],[판매가]]/1.1,표1[[#This Row],[판매량]]*표1[[#This Row],[판매가]])),0) -> 0 | I41: =IFERROR(IF(OR(표1[[#This Row],[판매일자]]="",표1[[#This Row],[세액구분]]="",표1[[#This Row],[세액구분]]="없음"),0,표1[[#This Row],[공급가액]]*0.1),0) -> 0 | J41: =IFERROR(IF(AND(표1[[#This Row],[공급가액]]="",표1[[#This Row],[세액]]=""),0,표1[[#This Row],[공급가액]]+표1[[#This Row],[세액]]),0) -> 0

Sheet 손익계산표
B2: 손익계산표 | 손익계산표
B4: 손익계산표(검색조건별 현황) | G4: 고정항목 | H4: 고정비용(월) | I4: 비율 | K4: 변동항목 | L4: 변동비용(단위당) | M4: 비율
B5: 연도 | C5: 2022 | D5: 월 | E5: 1 | I5: =IFERROR(IF($H5="","",$H5/$H$15),"") | M5: =IFERROR(IF($L5="","",$L5/$L$15),"")
B6: 품목 | D6: 규격 · 사양 | E6: =IFERROR(IF($C$6="","",VLOOKUP($C$6,표2[#All],2,FALSE)),"") | I6: =IFERROR(IF($H6="","",$H6/$H$15),"") | M6: =IFERROR(IF($L6="","",$L6/$L$15),"")
B7: 판매량 | C7: =IFERROR(IF($C$6="","",월별수량),"") | D7: 판매가(단위당) | E7: =IFERROR(IF($C$6="","",VLOOKUP($C$6,표2[#All],4,FALSE)),"") | I7: =IFERROR(IF($H7="","",$H7/$H$15),"") | M7: =IFERROR(IF($L7="","",$L7/$L$15),"")
B8: 매출액 | C8: =IFERROR(IF($C$6="","",월별합계),"") | I8: =IFERROR(IF($H8="","",$H8/$H$15),"") | M8: =IFERROR(IF($L8="","",$L8/$L$15),"")
I9: =IFERROR(IF($H9="","",$H9/$H$15),"") | M9: =IFERROR(IF($L9="","",$L9/$L$15),"")
I10: =IFERROR(IF($H10="","",$H10/$H$15),"") | M10: =IFERROR(IF($L10="","",$L10/$L$15),"")
B11: 단위당 공헌이익 | C11: =IFERROR(IF(OR($E$7="",$L$15=""),"",$E$7-$L$15),"") | D11: 단위당 공헌이익률 | E11: =IFERROR(IF(OR($E$7="",$C$11=""),"",$C$11/$E$7),"") | I11: =IFERROR(IF($H11="","",$H11/$H$15),"") | M11: =IFERROR(IF($L11="","",$L11/$L$15),"")
B12: 공헌이익(근사치) | C12: =IFERROR(IF(OR($C$7="",$C$8="",$L$15=""),"",$C$8-$C$7*$L$15),"") | D12: 공헌이익률(근사치) | E12: =IFERROR(IF(OR($C$8="",$C$12=""),"",$C$12/$C$8),"") | I12: =IFERROR(IF($H12="","",$H12/$H$15),"") | M12: =IFERROR(IF($L12="","",$L12/$L$15),"")
B13: BEP 판매량(근사치) | C13: =IFERROR(IF(OR($C$11="",$H$15=""),"",$H$15/$C$11),"") | D13: BEP 매출액(근사치) | E13: =IFERROR(IF(OR($C$7="",$C$8="",$H$15="",$L$15=""),"",$H$15/(1-$C$7*$L$15/$C$8)),"") | I13: =IFERROR(IF($H13="","",$H13/$H$15),"") | M13: =IFERROR(IF($L13="","",$L13/$L$15),"")
B14: 손익액(근사치) | C14: =IFERROR(IF(OR($C$8="",$E$13=""),"",$C$8-$E$13),"") | I14: =IFERROR(IF($H14="","",$H14/$H$15),"") | M14: =IFERROR(IF($L14="","",$L14/$L$15),"")
G15: 합계 | H15: =IFERROR(IF(SUM(H$5:H$14)=0,"",SUM(H$5:H$14)),"") | I15: =IFERROR(IF(SUM(I$5:I$14)=0,"",SUM(I$5:I$14)),"") | K15: 합계 | L15: =IFERROR(IF(SUM(L$5:L$14)=0,"",SUM(L$5:L$14)),"") | M15: =IFERROR(IF(SUM(M$5:M$14)=0,"",SUM(M$5:M$14)),"")
B17: 손익계산표(가상분석)
B18: 구분 | C18: 현황 | D18: 가상분석
B19: 판매가(단위당) | C19: =IFERROR(IF(OR(AND($C$5="",$E$5="",$C$6<>""),AND($C$5<>"",$E$5="",$C$6<>""),AND($C$5<>"",$E$5<>"",$C$6<>"")),VLOOKUP($C$6,표2[#All],4,FALSE),""),"")
B20: 판매량 | C20: =IFERROR(IF(OR(AND($C$5="",$E$5="",$C$6<>""),AND($C$5<>"",$E$5="",$C$6<>""),AND($C$5<>"",$E$5<>"",$C$6<>"")),월별수량,""),"")
B21: 고정비합계 | C21: =IFERROR(IF(SUM(H$5:H$14)=0,"",SUM(H$5:H$14)),"")
B22: 단위당 변동비합계 | C22: =IFERROR(IF(SUM(L$5:L$14)=0,"",SUM(L$5:L$14)),"")
B23: 변동비합계 | C23: =IFERROR(IF(OR(C$20="",C$22=""),"",C$20*C$22),"") | D23: =IFERROR(IF(OR(D$20="",D$22=""),"",D$20*D$22),"")
B24: 매출액 | C24: =IFERROR(IF(OR(AND($C$5="",$E$5="",$C$6<>""),AND($C$5<>"",$E$5="",$C$6<>""),AND($C$5<>"",$E$5<>"",$C$6<>"")),월별합계,""),"") | D24: =IFERROR(IF(OR(D$19="",D$20=""),"",D$19*D$20),"")
B26: BEP 판매량(근사치) | C26: =IFERROR(IF(OR(C$19="",C$21="",C$22=""),"",C$21/(C$19-C$22)),"") | D26: =IFERROR(IF(OR(D$19="",D$21="",D$22=""),"",D$21/(D$19-D$22)),"")
B27: BEP 매출액(근사치) | C27: =IFERROR(IF(OR(C$24="",C$21="",C$23=""),"",C$21/(1-C$23/C$24)),"") | D27: =IFERROR(IF(OR(D$24="",D$21="",D$23=""),"",D$21/(1-D$23/D$24)),"")
B28: 손익액(근사치) | C28: =IFERROR(IF(OR(C$24="",C$27=""),"",C$24-C$27),"") | D28: =IFERROR(IF(OR(D$24="",D$27=""),"",D$24-D$27),"")

Sheet option
A1: 연도 | B1: 월 | F1: 세액구분 | J1: 판매내역 시트 - 검색
A2: 2017 | B2: 1 | F2: 없음 | J2: 시작일자 | K2: =IFERROR(IF(판매내역!$T$6="","",판매내역!$T$6),"") -> 44562
A3: 2018 | B3: 2 | F3: 별도 | J3: 종료일자 | K3: =IFERROR(IF(판매내역!$T$7="","",판매내역!$T$7),"") -> 44926
A4: 2019 | B4: 3 | F4: 포함 | J4: 품목 | K4: =IFERROR(IF(판매내역!$T$8="","",판매내역!$T$8),"")
A5: 2020 | B5: 4 | J5: 건수 | K5: =IFERROR(IF(AND($K$2="",$K$3="",$K$4=""),SUM(표1[공급가액]),IF(AND($K$2="",$K$3<>"",$K$4=""),SUMPRODUCT((표1[판매일자]<=$K$3)*1),IF(AND($K$2="",$K$3="",$K$4<>""),SUMPRODUCT((표1[품목]=$K$4)*1),IF(AND($K$2="",$K$3<>"",$K$4<>""),SUMPRODUCT((표1[판매일자]<=$K$3)*(표1[품목]=$K$4)*1),IF(AND($K$2<>"",$K$3="",$K$4=""),SUMPRODUCT((표1[판매일자]>=$K$2)*1),IF(AND($K$2<>"",$K$3="",$K$4<>""),SUMPRODUCT((표1[판매일자]>=$K$2)*(표1[품목]=$K$4)*1),IF(AND($K$2<>"",$K$3<>"",$K$4=""),SUMPRODUCT((표1[판매일자]>=$K$2)*(표1[판매일자]<=$K$3)*1),IF(AND($K$2<>"",$K$3<>"",$K$4<>""),SUMPRODUCT((표1[판매일자]>=$K$2)*(표1[판매일자]<=$K$3)*(표1[품목]=$K$4)*1),"")))))))),"") -> 0
A6: 2021 | B6: 5 | J6: 수량 | K6: =IFERROR(IF(AND($K$2="",$K$3="",$K$4=""),SUM(표1[판매량]),IF(AND($K$2="",$K$3<>"",$K$4=""),SUMPRODUCT((표1[판매일자]<=$K$3)*(표1[판매량])),IF(AND($K$2="",$K$3="",$K$4<>""),SUMPRODUCT((표1[품목]=$K$4)*(표1[판매량])),IF(AND($K$2="",$K$3<>"",$K$4<>""),SUMPRODUCT((표1[판매일자]<=$K$3)*(표1[품목]=$K$4)*(표1[판매량])),IF(AND($K$2<>"",$K$3="",$K$4=""),SUMPRODUCT((표1[판매일자]>=$K$2)*(표1[판매량])),IF(AND($K$2<>"",$K$3="",$K$4<>""),SUMPRODUCT((표1[판매일자]>=$K$2)*(표1[품목]=$K$4)*(표1[판매량])),IF(AND($K$2<>"",$K$3<>"",$K$4=""),SUMPRODUCT((표1[판매일자]>=$K$2)*(표1[판매일자]<=$K$3)*(표1[판매량])),IF(AND($K$2<>"",$K$3<>"",$K$4<>""),SUMPRODUCT((표1[판매일자]>=$K$2)*(표1[판매일자]<=$K$3)*(표1[품목]=$K$4)*(표1[판매량])),"")))))))),"") -> 0
A7: 2022 | B7: 6 | J7: 공급가액 | K7: =IFERROR(IF(AND($K$2="",$K$3="",$K$4=""),SUM(표1[공급가액]),IF(AND($K$2="",$K$3<>"",$K$4=""),SUMPRODUCT((표1[판매일자]<=$K$3)*(표1[공급가액])),IF(AND($K$2="",$K$3="",$K$4<>""),SUMPRODUCT((표1[품목]=$K$4)*(표1[공급가액])),IF(AND($K$2="",$K$3<>"",$K$4<>""),SUMPRODUCT((표1[판매일자]<=$K$3)*(표1[품목]=$K$4)*(표1[공급가액])),IF(AND($K$2<>"",$K$3="",$K$4=""),SUMPRODUCT((표1[판매일자]>=$K$2)*(표1[공급가액])),IF(AND($K$2<>"",$K$3="",$K$4<>""),SUMPRODUCT((표1[판매일자]>=$K$2)*(표1[품목]=$K$4)*(표1[공급가액])),IF(AND($K$2<>"",$K$3<>"",$K$4=""),SUMPRODUCT((표1[판매일자]>=$K$2)*(표1[판매일자]<=$K$3)*(표1[공급가액])),IF(AND($K$2<>"",$K$3<>"",$K$4<>""),SUMPRODUCT((표1[판매일자]>=$K$2)*(표1[판매일자]<=$K$3)*(표1[품목]=$K$4)*(표1[공급가액])),"")))))))),"") -> 0
A8: 2023 | B8: 7 | J8: 세액 | K8: =IFERROR(IF(AND($K$2="",$K$3="",$K$4=""),SUM(표1[세액]),IF(AND($K$2="",$K$3<>"",$K$4=""),SUMPRODUCT((표1[판매일자]<=$K$3)*(표1[세액])),IF(AND($K$2="",$K$3="",$K$4<>""),SUMPRODUCT((표1[품목]=$K$4)*(표1[세액])),IF(AND($K$2="",$K$3<>"",$K$4<>""),SUMPRODUCT((표1[판매일자]<=$K$3)*(표1[품목]=$K$4)*(표1[세액])),IF(AND($K$2<>"",$K$3="",$K$4=""),SUMPRODUCT((표1[판매일자]>=$K$2)*(표1[세액])),IF(AND($K$2<>"",$K$3="",$K$4<>""),SUMPRODUCT((표1[판매일자]>=$K$2)*(표1[품목]=$K$4)*(표1[세액])),IF(AND($K$2<>"",$K$3<>"",$K$4=""),SUMPRODUCT((표1[판매일자]>=$K$2)*(표1[판매일자]<=$K$3)*(표1[세액])),IF(AND($K$2<>"",$K$3<>"",$K$4<>""),SUMPRODUCT((표1[판매일자]>=$K$2)*(표1[판매일자]<=$K$3)*(표1[품목]=$K$4)*(표1[세액])),"")))))))),"") -> 0
A9: 2024 | B9: 8 | J9: 합계 | K9: =IFERROR(IF(SUM($K$7:$K$8)="","",SUM($K$7:$K$8)),"") -> 0
A10: 2025 | B10: 9
A11: 2026 | B11: 10 | J11: 손익계산표 시트 - 시뮬레이션
A12: 2027 | B12: 11 | J12: 연도 | K12: =IFERROR(IF(손익계산표!$C$5="","",손익계산표!$C$5),"") -> 2022
A13: 2028 | B13: 12 | J13: 월 | K13: =IFERROR(IF(손익계산표!$E$5="","",손익계산표!$E$5),"") -> 1
A14: 2029 | J14: 품목 | K14: =IFERROR(IF(손익계산표!$C$6="","",손익계산표!$C$6),"")
A15: 2030 | J15: 수량 | K15: =IFERROR(IF(AND($K$12="",$K$13="",$K$14=""),SUM(표1[판매량]),IF(AND($K$12="",$K$13="",$K$14<>""),SUMPRODUCT((표1[품목]=$K$14)*(표1[판매량])),IF(AND($K$12<>"",$K$13="",$K$14=""),SUMPRODUCT((YEAR(표1[판매일자])=$K$12)*(표1[판매량])),IF(AND($K$12<>"",$K$13<>"",$K$14=""),SUMPRODUCT((YEAR(표1[판매일자])=$K$12)*(MONTH(표1[판매일자])=$K$13)*(표1[판매량])),IF(AND($K$12<>"",$K$13="",$K$14<>""),SUMPRODUCT((YEAR(표1[판매일자])=$K$12)*(표1[품목]=$K$14)*(표1[판매량])),IF(AND($K$12<>"",$K$13<>"",$K$14<>""),SUMPRODUCT((YEAR(표1[판매일자])=$K$12)*(MONTH(표1[판매일자])=$K$13)*(표1[품목]=$K$14)*(표1[판매량])),"")))))),"") -> 0
A16: 2031 | J16: 공급가액 | K16: =IFERROR(IF(AND($K$12="",$K$13="",$K$14=""),SUM(표1[공급가액]),IF(AND($K$12="",$K$13="",$K$14<>""),SUMPRODUCT((표1[품목]=$K$14)*(표1[공급가액])),IF(AND($K$12<>"",$K$13="",$K$14=""),SUMPRODUCT((YEAR(표1[판매일자])=$K$12)*(표1[공급가액])),IF(AND($K$12<>"",$K$13<>"",$K$14=""),SUMPRODUCT((YEAR(표1[판매일자])=$K$12)*(MONTH(표1[판매일자])=$K$13)*(표1[공급가액])),IF(AND($K$12<>"",$K$13="",$K$14<>""),SUMPRODUCT((YEAR(표1[판매일자])=$K$12)*(표1[품목]=$K$14)*(표1[공급가액])),IF(AND($K$12<>"",$K$13<>"",$K$14<>""),SUMPRODUCT((YEAR(표1[판매일자])=$K$12)*(MONTH(표1[판매일자])=$K$13)*(표1[품목]=$K$14)*(표1[공급가액])),"")))))),"") -> 0
A17: 2032 | J17: 세액 | K17: =IFERROR(IF(AND($K$12="",$K$13="",$K$14=""),SUM(표1[세액]),IF(AND($K$12="",$K$13="",$K$14<>""),SUMPRODUCT((표1[품목]=$K$14)*(표1[세액])),IF(AND($K$12<>"",$K$13="",$K$14=""),SUMPRODUCT((YEAR(표1[판매일자])=$K$12)*(표1[세액])),IF(AND($K$12<>"",$K$13<>"",$K$14=""),SUMPRODUCT((YEAR(표1[판매일자])=$K$12)*(MONTH(표1[판매일자])=$K$13)*(표1[세액])),IF(AND($K$12<>"",$K$13="",$K$14<>""),SUMPRODUCT((YEAR(표1[판매일자])=$K$12)*(표1[품목]=$K$14)*(표1[세액])),IF(AND($K$12<>"",$K$13<>"",$K$14<>""),SUMPRODUCT((YEAR(표1[판매일자])=$K$12)*(MONTH(표1[판매일자])=$K$13)*(표1[품목]=$K$14)*(표1[세액])),"")))))),"") -> 0
A18: 2033 | J18: 합계 | K18: =IFERROR(IF(SUM($K$16:$K$17)=0,"",SUM($K$16:$K$17)),"")
A19: 2034
A20: 2035
A21: 2036
A22: 2037
A23: 2038
A24: 2039
A25: 2040
A26: 2041
A27: 2042
A28: 2043
A29: 2044
A30: 2045
... A35: 2050
A37: 판매내역 시트 -월별현황
A38: 연도 | B38: =IFERROR(IF(판매내역!$T$15="","",판매내역!$T$15),"") -> 2022
A39: 품목 | B39: =IFERROR(IF(판매내역!$T$16="","",판매내역!$T$16),"")
A40: 구분 | B40: 판매금액
A41: 1 | B41: =IFERROR(IF($B$38="","",IF(AND($B$38<>"",$B$39=""),SUMPRODUCT((YEAR(표1[판매일자])=$B$38)*(MONTH(표1[판매일자])=$A41)*(표1[판매금액])),IF(AND($B$38<>"",$B$39<>""),SUMPRODUCT((YEAR(표1[판매일자])=$B$38)*(MONTH(표1[판매일자])=$A41)*(표1[품목]=$B$39)*(표1[판매금액])),""))),"") -> 0
A42: 2 | B42: =IFERROR(IF($B$38="","",IF(AND($B$38<>"",$B$39=""),SUMPRODUCT((YEAR(표1[판매일자])=$B$38)*(MONTH(표1[판매일자])=$A42)*(표1[판매금액])),IF(AND($B$38<>"",$B$39<>""),SUMPRODUCT((YEAR(표1[판매일자])=$B$38)*(MONTH(표1[판매일자])=$A42)*(표1[품목]=$B$39)*(표1[판매금액])),""))),"") -> 0
A43: 3 | B43: =IFERROR(IF($B$38="","",IF(AND($B$38<>"",$B$39=""),SUMPRODUCT((YEAR(표1[판매일자])=$B$38)*(MONTH(표1[판매일자])=$A43)*(표1[판매금액])),IF(AND($B$38<>"",$B$39<>""),SUMPRODUCT((YEAR(표1[판매일자])=$B$38)*(MONTH(표1[판매일자])=$A43)*(표1[품목]=$B$39)*(표1[판매금액])),""))),"") -> 0
A44: 4 | B44: =IFERROR(IF($B$38="","",IF(AND($B$38<>"",$B$39=""),SUMPRODUCT((YEAR(표1[판매일자])=$B$38)*(MONTH(표1[판매일자])=$A44)*(표1[판매금액])),IF(AND($B$38<>"",$B$39<>""),SUMPRODUCT((YEAR(표1[판매일자])=$B$38)*(MONTH(표1[판매일자])=$A44)*(표1[품목]=$B$39)*(표1[판매금액])),""))),"") -> 0
A45: 5 | B45: =IFERROR(IF($B$38="","",IF(AND($B$38<>"",$B$39=""),SUMPRODUCT((YEAR(표1[판매일자])=$B$38)*(MONTH(표1[판매일자])=$A45)*(표1[판매금액])),IF(AND($B$38<>"",$B$39<>""),SUMPRODUCT((YEAR(표1[판매일자])=$B$38)*(MONTH(표1[판매일자])=$A45)*(표1[품목]=$B$39)*(표1[판매금액])),""))),"") -> 0
...
