Workbook
Name Objective: OFFSET('OKR 구성'!Objective_항목명,1,0,COUNTA(표1[Objective]))
Name Objective: OFFSET(Objective_항목명,1,0,COUNTA(표1[Objective]))
Name Objective_항목명: 표1[[#Headers],[Objective]]
Name Objective_항목명: 표1[[#Headers],[Objective]]
Name OKR_KR1: option!$G$4
Name OKR_KR1_Goal: option!$G$11
Name OKR_KR1_Result: option!$G$15
Name OKR_KR1_Total: option!$G$19
Name OKR_KR2: option!$G$5
Name OKR_KR2_Goal: option!$G$12
Name OKR_KR2_Result: option!$G$16
Name OKR_KR2_Total: option!$G$20
Name OKR_KR3: option!$G$6
Name OKR_KR3_Goal: option!$G$13
Name OKR_KR3_Result: option!$G$17
Name OKR_KR3_Total: option!$G$21
Name OKR_O: option!$G$3
Name OKR_O_Goal: option!$G$10
Name OKR_O_Result: option!$G$14
Name OKR_O_Total: option!$G$18
Name OKR_담당자_KR1: option!$G$7
Name OKR_담당자_KR2: option!$G$8
Name OKR_담당자_KR3: option!$G$9
Name 성명: OFFSET(표2[[#Headers],[담당자]],1,0,COUNTA(표2[담당자]))
Name 성명: OFFSET(표2[[#Headers],[담당자]],1,0,COUNTA(표2[담당자]))
Name 연도: option!$A$2:$A$37

Sheet OKR 설정
B2: OKR 간단형 OKR 설정
B4: OKR 설정 | N4: 담당자 설정
B5: Objective | C5: Key Results(1) | D5: Key Results(2) | E5: Key Results(3) | F5: 담당자(KR1) | G5: 담당자(KR2) | H5: 담당자(KR3) | I5: 목표치(O) | J5: 목표치(KR1) | K5: 목표치(KR2) | L5: 목표치(KR3) | N5: 담당자

Sheet OKR 구성
B2: OKR 간단형 OKR 구성
B4: OKR 구성
B5: 구분 | C5: OKR | G5: 담당자 | H5: 목표치 | I5: 결과치 | J5: 달성률
B6: Objective | H6: =IFERROR(IF(OKR_O="","",OKR_O_Goal),"") | I6: =IFERROR(IF(OKR_O="","",MAX(OKR_KR1_Result,OKR_KR2_Result,OKR_KR3_Result)),"") | J6: =IFERROR(IF(OKR_O="","",OKR_O_Total),"")
B7: Key Results(1) | C7: =IFERROR(IF(OKR_O="","",OKR_KR1),"") | G7: =IFERROR(IF(OKR_O="","",OKR_담당자_KR1),"") | H7: =IFERROR(IF(OKR_O="","",OKR_KR1_Goal),"") | I7: =IFERROR(IF(OKR_O="","",OKR_KR1_Result),"") | J7: =IFERROR(IF(OKR_O="","",OKR_KR1_Total),"")
B8: Key Results(2) | C8: =IFERROR(IF(OKR_O="","",OKR_KR2),"") | G8: =IFERROR(IF(OKR_O="","",OKR_담당자_KR2),"") | H8: =IFERROR(IF(OKR_O="","",OKR_KR2_Goal),"") | I8: =IFERROR(IF(OKR_O="","",OKR_KR2_Result),"") | J8: =IFERROR(IF(OKR_O="","",OKR_KR2_Total),"")
B9: Key Results(3) | C9: =IFERROR(IF(OKR_O="","",OKR_KR3),"") | G9: =IFERROR(IF(OKR_O="","",OKR_담당자_KR3),"") | H9: =IFERROR(IF(OKR_O="","",OKR_KR3_Goal),"") | I9: =IFERROR(IF(OKR_O="","",OKR_KR3_Result),"") | J9: =IFERROR(IF(OKR_O="","",OKR_KR3_Total),"")
B13: 연도 | C13: 2023
B14: 구분 | C14: 1 | D14: 2 | E14: 3 | F14: 4 | G14: 5 | H14: 6 | I14: 7 | J14: 8 | K14: 9 | L14: 10 | M14: 11 | N14: 12 | O14: 달성
B15: KR(1) 목표치 | O15: =IFERROR(MAX($C15:$N15),"") -> 0
B16: KR(1) 결과치 | O16: =IFERROR(MAX($C16:$N16),"") -> 0
B17: KR(1) 달성률 | C17: =IFERROR(IF(AND(C$15="",C$16=""),"",C$16/C$15),"") | D17: =IFERROR(IF(AND(D$15="",D$16=""),"",D$16/D$15),"") | E17: =IFERROR(IF(AND(E$15="",E$16=""),"",E$16/E$15),"") | F17: =IFERROR(IF(AND(F$15="",F$16=""),"",F$16/F$15),"") | G17: =IFERROR(IF(AND(G$15="",G$16=""),"",G$16/G$15),"") | H17: =IFERROR(IF(AND(H$15="",H$16=""),"",H$16/H$15),"") | I17: =IFERROR(IF(AND(I$15="",I$16=""),"",I$16/I$15),"") | J17: =IFERROR(IF(AND(J$15="",J$16=""),"",J$16/J$15),"") | ... N17: =IFERROR(IF(AND(N$15="",N$16=""),"",N$16/N$15),"") | O17: =IFERROR(MAX($C17:$N17),"") -> 0
B18: KR(2) 목표치 | O18: =IFERROR(MAX($C18:$N18),"") -> 0
B19: KR(2) 결과치 | O19: =IFERROR(MAX($C19:$N19),"") -> 0
B20: KR(2) 달성률 | C20: =IFERROR(IF(AND(C$18="",C$19=""),"",C$19/C$18),"") | D20: =IFERROR(IF(AND(D$18="",D$19=""),"",D$19/D$18),"") | E20: =IFERROR(IF(AND(E$18="",E$19=""),"",E$19/E$18),"") | F20: =IFERROR(IF(AND(F$18="",F$19=""),"",F$19/F$18),"") | G20: =IFERROR(IF(AND(G$18="",G$19=""),"",G$19/G$18),"") | H20: =IFERROR(IF(AND(H$18="",H$19=""),"",H$19/H$18),"") | I20: =IFERROR(IF(AND(I$18="",I$19=""),"",I$19/I$18),"") | J20: =IFERROR(IF(AND(J$18="",J$19=""),"",J$19/J$18),"") | ... N20: =IFERROR(IF(AND(N$18="",N$19=""),"",N$19/N$18),"") | O20: =IFERROR(MAX($C20:$N20),"") -> 0
B21: KR(3) 목표치 | O21: =IFERROR(MAX($C21:$N21),"") -> 0
B22: KR(3) 결과치 | O22: =IFERROR(MAX($C22:$N22),"") -> 0
B23: KR(3) 달성률 | C23: =IFERROR(IF(AND(C$21="",C$22=""),"",C$22/C$21),"") | D23: =IFERROR(IF(AND(D$21="",D$22=""),"",D$22/D$21),"") | E23: =IFERROR(IF(AND(E$21="",E$22=""),"",E$22/E$21),"") | F23: =IFERROR(IF(AND(F$21="",F$22=""),"",F$22/F$21),"") | G23: =IFERROR(IF(AND(G$21="",G$22=""),"",G$22/G$21),"") | H23: =IFERROR(IF(AND(H$21="",H$22=""),"",H$22/H$21),"") | I23: =IFERROR(IF(AND(I$21="",I$22=""),"",I$22/I$21),"") | J23: =IFERROR(IF(AND(J$21="",J$22=""),"",J$22/J$21),"") | ... N23: =IFERROR(IF(AND(N$21="",N$22=""),"",N$22/N$21),"") | O23: =IFERROR(MAX($C23:$N23),"") -> 0

Sheet option
A1: 연도 | B1: 월 | F1: OKR 현황 | K1: 구분 | L1: Key Results(1) | M1: Key Results(2) | N1: Key Results(3)
A2: 2015 | B2: 1 | F2: 순서 | G2: 1 | K2: 결과치 | L2: =IFERROR(IF('OKR 구성'!$O$16=0,"",'OKR 구성'!$O$16),"") | M2: =IFERROR(IF('OKR 구성'!$O$19=0,"",'OKR 구성'!$O$19),"") | N2: =IFERROR(IF('OKR 구성'!$O$22=0,"",'OKR 구성'!$O$22),"")
A3: 2016 | B3: 2 | F3: Objective | G3: =IFERROR(IF('OKR 구성'!$C6="","",'OKR 구성'!$C6),"") | K3: 목표치 | L3: =IFERROR(IF('OKR 구성'!$O$15=0,"",'OKR 구성'!$O$15),"") | M3: =IFERROR(IF('OKR 구성'!$O$18=0,"",'OKR 구성'!$O$18),"") | N3: =IFERROR(IF('OKR 구성'!$O$21=0,"",'OKR 구성'!$O$21),"")
A4: 2017 | B4: 3 | F4: Key Results1 | G4: =IFERROR(IF(OKR_O="","",VLOOKUP(OKR_O,표1[#All],2,FALSE)),"") | K4: 달성률 | L4: =IFERROR(IF('OKR 구성'!$O$17=0,"",'OKR 구성'!$O$17),"") | M4: =IFERROR(IF('OKR 구성'!$O$20=0,"",'OKR 구성'!$O$20),"") | N4: =IFERROR(IF('OKR 구성'!$O$23=0,"",'OKR 구성'!$O$23),"")
A5: 2018 | B5: 4 | F5: Key Results2 | G5: =IFERROR(IF(OKR_O="","",VLOOKUP(OKR_O,표1[#All],3,FALSE)),"")
A6: 2019 | B6: 5 | F6: Key Results3 | G6: =IFERROR(IF(OKR_O="","",VLOOKUP(OKR_O,표1[#All],4,FALSE)),"")
A7: 2020 | B7: 6 | F7: 담당자_KR1 | G7: =IFERROR(IF(OKR_O="","",VLOOKUP(OKR_O,표1[#All],5,FALSE)),"")
A8: 2021 | B8: 7 | F8: 담당자_KR2 | G8: =IFERROR(IF(OKR_O="","",VLOOKUP(OKR_O,표1[#All],6,FALSE)),"")
A9: 2022 | B9: 8 | F9: 담당자_KR3 | G9: =IFERROR(IF(OKR_O="","",VLOOKUP(OKR_O,표1[#All],7,FALSE)),"")
A10: 2023 | B10: 9 | F10: 목표치_O | G10: =IFERROR(IF(OKR_O=0,"",VLOOKUP(OKR_O,표1[#All],8,FALSE)),"")
A11: 2024 | B11: 10 | F11: 목표치_KR1 | G11: =IFERROR(IF(OKR_O=0,"",VLOOKUP(OKR_O,표1[#All],9,FALSE)),"")
A12: 2025 | B12: 11 | F12: 목표치_KR2 | G12: =IFERROR(IF(OKR_O=0,"",VLOOKUP(OKR_O,표1[#All],10,FALSE)),"")
A13: 2026 | B13: 12 | F13: 목표치_KR3 | G13: =IFERROR(IF(OKR_O=0,"",VLOOKUP(OKR_O,표1[#All],11,FALSE)),"")
A14: 2027 | F14: 결과치_O | G14: =IFERROR(IF('OKR 구성'!$I$6=0,"",'OKR 구성'!$I$6),"")
A15: 2028 | F15: 결과치_KR1 | G15: =IFERROR(IF('OKR 구성'!$O$16=0,"",'OKR 구성'!$O$16),"")
A16: 2029 | F16: 결과치_KR2 | G16: =IFERROR(IF('OKR 구성'!$O$19=0,"",'OKR 구성'!$O$19),"")
A17: 2030 | F17: 결과치_KR3 | G17: =IFERROR(IF('OKR 구성'!$O$22=0,"",'OKR 구성'!$O$22),"")
A18: 2031 | F18: 달성률_O | G18: =IFERROR(IF(AND(OKR_O_Goal=0,OKR_KR3_Goal=0),"",OKR_KR3_Goal/OKR_O_Goal),"")
A19: 2032 | F19: 달성률_KR1 | G19: =IFERROR(IF('OKR 구성'!$O$17=0,"",'OKR 구성'!$O$17),"")
A20: 2033 | F20: 달성률_KR2 | G20: =IFERROR(IF('OKR 구성'!$O$20=0,"",'OKR 구성'!$O$20),"")
A21: 2034 | F21: 달성률_KR3 | G21: =IFERROR(IF('OKR 구성'!$O$23=0,"",'OKR 구성'!$O$23),"")
A22: 2035
A23: 2036
A24: 2037
A25: 2038
A26: 2039
A27: 2040
A28: 2041
A29: 2042
A30: 2043
A31: 2044
A32: 2045
A33: 2046
... A37: 2050
