Workbook

Sheet 내용입력
B2: Kanban Board
B5: 목록 | E5: No | F5: 업무명 | G5: 담당자 | H5: 업무중요도 | I5: 완료일 | J5: 비고 | AB5: * 칸반보드 표시를 위한 부분으로, 하기 내용 수정/삭제 시 정상적으로 작동되지 않을 수 있습니다.
B6: 목록1 | E6: 1 | F6: 업무내용1 | G6: 홍길동 | H6: 높음 | I6: 45291 | AB6: =IF(내용입력!F6="","",내용입력!F6) -> 업무내용1 | AE6: =IF(내용입력!F10="","",내용입력!F10)
E7: 2 | AB7: 담당자 | AC7: =IF(내용입력!G6="","",내용입력!G6) -> 홍길동 | AE7: 담당자 | AF7: =IF(내용입력!G10="","",내용입력!G10)
E8: 3 | AB8: 중요도 | AC8: =IF(내용입력!H6="","",내용입력!H6) -> 높음 | AE8: 중요도 | AF8: =IF(내용입력!H10="","",내용입력!H10)
E9: 4 | AB9: 완료일 | AC9: =IF(내용입력!I6="","",내용입력!I6) -> 45291 | AE9: 완료일 | AF9: =IF(내용입력!I10="","",내용입력!I10)
E10: 5
E11: 6 | AB11: =IF(내용입력!F7="","",내용입력!F7) | AE11: =IF(내용입력!F11="","",내용입력!F11)
E12: 7 | AB12: 담당자 | AC12: =IF(내용입력!G7="","",내용입력!G7) | AE12: 담당자 | AF12: =IF(내용입력!G11="","",내용입력!G11)
E13: 8 | AB13: 중요도 | AC13: =IF(내용입력!H7="","",내용입력!H7) | AE13: 중요도 | AF13: =IF(내용입력!H11="","",내용입력!H11)
AB14: 완료일 | AC14: =IF(내용입력!I7="","",내용입력!I7) | AE14: 완료일 | AF14: =IF(내용입력!I11="","",내용입력!I11)
AB16: =IF(내용입력!F8="","",내용입력!F8) | AE16: =IF(내용입력!F12="","",내용입력!F12)
AB17: 담당자 | AC17: =IF(내용입력!G8="","",내용입력!G8) | AE17: 담당자 | AF17: =IF(내용입력!G12="","",내용입력!G12)
AB18: 중요도 | AC18: =IF(내용입력!H8="","",내용입력!H8) | AE18: 중요도 | AF18: =IF(내용입력!H12="","",내용입력!H12)
AB19: 완료일 | AC19: =IF(내용입력!I8="","",내용입력!I8) | AE19: 완료일 | AF19: =IF(내용입력!I12="","",내용입력!I12)
AB21: =IF(내용입력!F9="","",내용입력!F9) | AE21: =IF(내용입력!F13="","",내용입력!F13)
AB22: 담당자 | AC22: =IF(내용입력!G9="","",내용입력!G9) | AE22: 담당자 | AF22: =IF(내용입력!G13="","",내용입력!G13)
AB23: 중요도 | AC23: =IF(내용입력!H9="","",내용입력!H9) | AE23: 중요도 | AF23: =IF(내용입력!H13="","",내용입력!H13)
AB24: 완료일 | AC24: =IF(내용입력!I9="","",내용입력!I9) | AE24: 완료일 | AF24: =IF(내용입력!I13="","",내용입력!I13)

Sheet 칸반보드
B2: Kanban Board
I4: =IF(내용입력!B6="","",내용입력!B6) -> 목록1 | J4: =IF(내용입력!B7="","",내용입력!B7) | K4: =IF(내용입력!B8="","",내용입력!B8) | L4: =IF(내용입력!B9="","",내용입력!B9) | M4: =IF(내용입력!B10="","",내용입력!B10)
