Workbook

Sheet 내용입력
B2: Kanban Board
B5: No | C5: 업무명 | D5: 부서명 | E5: 담당자 | F5: 업무중요도 | G5: 시작일 | H5: 마감일 | I5: 비고 | K5: 구분
B6: 1 | C6: 업무내용1 | D6: 기획실 | E6: 홍길동 | F6: 높음 | G6: 44927 | H6: 45291 | K6: 대기
B8: 2 | K8: 진행
B10: 3 | K10: 피드백
B12: 4 | K12: 완료
B14: 5 | K14: 보류
B16: 6
B17: 7
B18: 8
AK32: * 칸반보드 표시를 위한 부분으로, 하기 내용 수정/삭제 시 정상적으로 작동되지 않을 수 있습니다.
AK33: =IF(C6="","",C6) -> 업무내용1 | AN33: =IF(C14="","",C14)
AK34: 부서명 | AL34: =IF(D6="","",D6) -> 기획실 | AN34: 부서명 | AO34: =IF(D14="","",D14)
AK35: 담당자 | AL35: =IF(E6="","",E6) -> 홍길동 | AN35: 담당자 | AO35: =IF(E14="","",E14)
AK36: 업무중요도 | AL36: =IF(F6="","",F6) -> 높음 | AN36: 업무중요도 | AO36: =IF(F14="","",F14)
AK37: 마감일 | AL37: =IF(H6="","",H6) -> 45291 | AN37: 마감일 | AO37: =IF(H14="","",H14)
AK39: =IF(C8="","",C8) | AN39: =IF(C16="","",C16)
AK40: 부서명 | AL40: =IF(D8="","",D8) | AN40: 부서명 | AO40: =IF(D16="","",D16)
AK41: 담당자 | AL41: =IF(E8="","",E8) | AN41: 담당자 | AO41: =IF(E16="","",E16)
AK42: 업무중요도 | AL42: =IF(F8="","",F8) | AN42: 업무중요도 | AO42: =IF(F16="","",F16)
AK43: 마감일 | AL43: =IF(H8="","",H8) | AN43: 마감일 | AO43: =IF(H16="","",H16)
AK45: =IF(C10="","",C10) | AN45: =IF(C17="","",C17)
AK46: 부서명 | AL46: =IF(D10="","",D10) | AN46: 부서명 | AO46: =IF(D17="","",D17)
AK47: 담당자 | AL47: =IF(E10="","",E10) | AN47: 담당자 | AO47: =IF(E17="","",E17)
AK48: 업무중요도 | AL48: =IF(F10="","",F10) | AN48: 업무중요도 | AO48: =IF(F17="","",F17)
AK49: 마감일 | AL49: =IF(H10="","",H10) | AN49: 마감일 | AO49: =IF(H17="","",H17)
AK51: =IF(C12="","",C12) | AN51: =IF(C18="","",C18)
AK52: 부서명 | AL52: =IF(D12="","",D12) | AN52: 부서명 | AO52: =IF(D18="","",D18)
AK53: 담당자 | AL53: =IF(E12="","",E12) | AN53: 담당자 | AO53: =IF(E18="","",E18)
AK54: 업무중요도 | AL54: =IF(F12="","",F12) | AN54: 업무중요도 | AO54: =IF(F18="","",F18)
AK55: 마감일 | AL55: =IF(H12="","",H12) | AN55: 마감일 | AO55: =IF(H18="","",H18)

Sheet 칸반보드
B2: Kanban Board
D5: =IF(내용입력!K6="","",내용입력!K6) -> 대기 | F5: =IF(내용입력!K8="","",내용입력!K8) -> 진행 | H5: =IF(내용입력!K10="","",내용입력!K10) -> 피드백 | J5: =IF(내용입력!K12="","",내용입력!K12) -> 완료 | L5: =IF(내용입력!K14="","",내용입력!K14) -> 보류
