Workbook
Name 부서명: 내용입력!#REF!
Name 부서명: 칸반보드!#REF!
Name 부서명: #REF!

Sheet 내용입력
B2: Kanban Board
B4: NO. | C4: 업무명 | D4: 부서명 | E4: 담당자 | F4: 중요도 | G4: 시작일 | H4: 완료예정일 | I4: 비고 | K4: 진행 상태
B5: =IF(C5="","",ROW()-4) -> 1 | C5: 업무내용1 | D5: 엑셀팀 | E5: 홍길동 | F5: 높음 | G5: 44980 | H5: 45016 | K5: 취소
B6: =IF(C6="","",ROW()-4) | K6: 보류
B7: =IF(C7="","",ROW()-4) | K7: 리서치 및 검토중
B8: =IF(C8="","",ROW()-4) | K8: 진행중
B9: =IF(C9="","",ROW()-4) | K9: 완료
B10: =IF(C10="","",ROW()-4)
B11: =IF(C11="","",ROW()-4)
B12: =IF(C12="","",ROW()-4)
AI73: * 칸반보드 표시를 위한 부분으로, 하기 내용 수정/삭제 시 정상적으로 작동되지 않을 수 있습니다.
AI75: =IF(내용입력!C5="","",내용입력!C5) -> 업무내용1 | AJ75: =IF(내용입력!D4="","",내용입력!D4) -> 부서명 | AL75: =IF(내용입력!C9="","",내용입력!C9) | AM75: =IF(내용입력!G4="","",내용입력!G4) -> 시작일
AI76: 부서명 | AJ76: =IF(내용입력!D5="","",내용입력!D5) -> 엑셀팀 | AL76: 부서명 | AM76: =IF(내용입력!D9="","",내용입력!D9)
AI77: 담당자 | AJ77: =IF(내용입력!E5="","",내용입력!E5) -> 홍길동 | AL77: 담당자 | AM77: =IF(내용입력!E9="","",내용입력!E9)
AI78: 중요도 | AJ78: =IF(내용입력!F5="","",내용입력!F5) -> 높음 | AL78: 중요도 | AM78: =IF(내용입력!F9="","",내용입력!F9)
AI79: 완료예정일 | AJ79: =IF(내용입력!H5="","",내용입력!H5) -> 45016 | AL79: 완료예정일 | AM79: =IF(내용입력!H9="","",내용입력!H9)
AI81: =IF(내용입력!C6="","",내용입력!C6) | AJ81: =IF(내용입력!D10="","",내용입력!D10) | AL81: =IF(내용입력!C10="","",내용입력!C10) | AM81: =IF(내용입력!G10="","",내용입력!G10)
AI82: 부서명 | AJ82: =IF(내용입력!D6="","",내용입력!D6) | AL82: 부서명 | AM82: =IF(내용입력!D10="","",내용입력!D10)
AI83: 담당자 | AJ83: =IF(내용입력!E6="","",내용입력!E6) | AL83: 담당자 | AM83: =IF(내용입력!E10="","",내용입력!E10)
AI84: 중요도 | AJ84: =IF(내용입력!F6="","",내용입력!F6) | AL84: 중요도 | AM84: =IF(내용입력!F10="","",내용입력!F10)
AI85: 완료예정일 | AJ85: =IF(내용입력!H11="","",내용입력!H11) | AL85: 완료예정일 | AM85: =IF(내용입력!H10="","",내용입력!H10)
AI87: =IF(내용입력!C7="","",내용입력!C7) | AJ87: =IF(내용입력!D16="","",내용입력!D16) | AL87: =IF(내용입력!C11="","",내용입력!C11) | AM87: =IF(내용입력!G16="","",내용입력!G16)
AI88: 부서명 | AJ88: =IF(내용입력!D7="","",내용입력!D7) | AL88: 부서명 | AM88: =IF(내용입력!D11="","",내용입력!D11)
AI89: 담당자 | AJ89: =IF(내용입력!E7="","",내용입력!E7) | AL89: 담당자 | AM89: =IF(내용입력!E11="","",내용입력!E11)
AI90: 중요도 | AJ90: =IF(내용입력!F7="","",내용입력!F7) | AL90: 중요도 | AM90: =IF(내용입력!F11="","",내용입력!F11)
AI91: 완료예정일 | AJ91: =IF(내용입력!H7="","",내용입력!H7) | AL91: 완료예정일 | AM91: =IF(내용입력!H11="","",내용입력!H11)
AI93: =IF(내용입력!C8="","",내용입력!C8) | AJ93: =IF(내용입력!D22="","",내용입력!D22) | AL93: =IF(내용입력!C12="","",내용입력!C12) | AM93: =IF(내용입력!G22="","",내용입력!G22)
AI94: 부서명 | AJ94: =IF(내용입력!D8="","",내용입력!D8) | AL94: 부서명 | AM94: =IF(내용입력!D12="","",내용입력!D12)
AI95: 담당자 | AJ95: =IF(내용입력!E8="","",내용입력!E8) | AL95: 담당자 | AM95: =IF(내용입력!E12="","",내용입력!E12)
AI96: 중요도 | AJ96: =IF(내용입력!F8="","",내용입력!F8) | AL96: 중요도 | AM96: =IF(내용입력!F12="","",내용입력!F12)
AI97: 완료예정일 | AJ97: =IF(내용입력!H8="","",내용입력!H8) | AL97: 완료예정일 | AM97: =IF(내용입력!H12="","",내용입력!H12)

Sheet 칸반보드
B2: Kanban Board
F4: =IF(내용입력!K5="","",내용입력!K5) -> 취소 | J4: =IF(내용입력!K6="","",내용입력!K6) -> 보류 | N4: =IF(내용입력!K7="","",내용입력!K7) -> 리서치 및 검토중 | R4: =IF(내용입력!K8="","",내용입력!K8) -> 진행중 | V4: =IF(내용입력!K9="","",내용입력!K9) -> 완료
