Workbook

Sheet 환경설정
B2: Kanban Board
B5: 프로젝트명 | D5: 부서명 | F5: 상태명 | H5: 우선순위
F6: 대기 | H6: 긴급
F7: 진행 | H7: 높음
F8: 피드백 | H8: 보통
F9: 완료 | H9: 낮음
F10: 보류

Sheet 내용입력
B2: Kanban Board
B5: 조합 | C5: 업무번호 | D5: 프로젝트명 | E5: 업무명 | F5: 부서명 | G5: 담당자 | H5: 업무중요도 | I5: 시작일 | J5: 마감일 | K5: 상태명 | L5: 비고
B6: =표1[[#This Row],[상태명]]&COUNTIF($K$5:K6,표1[[#This Row],[상태명]]) -> 0
B7: =표1[[#This Row],[상태명]]&COUNTIF($K$5:K7,표1[[#This Row],[상태명]]) -> 0
B8: =표1[[#This Row],[상태명]]&COUNTIF($K$5:K8,표1[[#This Row],[상태명]]) -> 0
B9: =표1[[#This Row],[상태명]]&COUNTIF($K$5:K9,표1[[#This Row],[상태명]]) -> 0
B10: =표1[[#This Row],[상태명]]&COUNTIF($K$5:K10,표1[[#This Row],[상태명]]) -> 0
B11: =표1[[#This Row],[상태명]]&COUNTIF($K$5:K11,표1[[#This Row],[상태명]]) -> 0
B12: =표1[[#This Row],[상태명]]&COUNTIF($K$5:K12,표1[[#This Row],[상태명]]) -> 0
B13: =표1[[#This Row],[상태명]]&COUNTIF($K$5:K13,표1[[#This Row],[상태명]]) -> 0
B14: =표1[[#This Row],[상태명]]&COUNTIF($K$5:K14,표1[[#This Row],[상태명]]) -> 0
B15: =표1[[#This Row],[상태명]]&COUNTIF($K$5:K15,표1[[#This Row],[상태명]]) -> 0
B16: =표1[[#This Row],[상태명]]&COUNTIF($K$5:K16,표1[[#This Row],[상태명]]) -> 0
B17: =표1[[#This Row],[상태명]]&COUNTIF($K$5:K17,표1[[#This Row],[상태명]]) -> 0
... B59: =표1[[#This Row],[상태명]]&COUNTIF($K$5:K59,표1[[#This Row],[상태명]]) -> 0

Sheet 칸반보드
C2: Kanban Board
C5: =환경설정!F6 -> 대기 | D5: =COUNTIF(D6:D187,C5&"*") -> 0 | F5: =환경설정!F7 -> 진행 | G5: =COUNTIF(G6:G187,F5&"*") -> 0 | I5: =환경설정!F8 -> 피드백 | J5: =COUNTIF(J6:J187,I5&"*") -> 0 | L5: =환경설정!F9 -> 완료 | M5: =COUNTIF(M6:M187,L5&"*") -> 0 | O5: =환경설정!F10 -> 보류 | P5: =COUNTIF(P6:P187,O5&"*") -> 0 | R5: =환경설정!F11 -> 0 | S5: =COUNTIF(S6:S187,R5&"*") -> 0 | U5: =환경설정!F12 -> 0 | V5: =COUNTIF(V6:V187,U5&"*") -> 0 | X5: =환경설정!F13 -> 0 | Y5: =COUNTIF(Y6:Y187,X5&"*") -> 0 | AA5: =환경설정!F14 -> 0 | AB5: =COUNTIF(AB6:AB187,AA5&"*") -> 0 | AD5: =환경설정!F15 -> 0 | AE5: =COUNTIF(AE6:AE187,AD5&"*") -> 0 | AG5: =환경설정!F16 -> 0 | AH5: =COUNTIF(AH6:AH187,AG5&"*") -> 0
A9: 1 | C9: =IFERROR(VLOOKUP(C$5&$A9,표1[],2,0),"") | D9: =IFERROR(VLOOKUP(C$5&$A9,표1[],9,0),"") | F9: =IFERROR(VLOOKUP(F$5&$A9,표1[],2,0),"") | G9: =IFERROR(VLOOKUP(F$5&$A9,표1[],9,0),"") | I9: =IFERROR(VLOOKUP(I$5&$A9,표1[],2,0),"") | J9: =IFERROR(VLOOKUP(I$5&$A9,표1[],9,0),"") | L9: =IFERROR(VLOOKUP(L$5&$A9,표1[],2,0),"") | M9: =IFERROR(VLOOKUP(L$5&$A9,표1[],9,0),"") | O9: =IFERROR(VLOOKUP(O$5&$A9,표1[],2,0),"") | P9: =IFERROR(VLOOKUP(O$5&$A9,표1[],9,0),"") | R9: =IFERROR(VLOOKUP(R$5&$A9,표1[],2,0),"") | S9: =IFERROR(VLOOKUP(R$5&$A9,표1[],9,0),"") | U9: =IFERROR(VLOOKUP(U$5&$A9,표1[],2,0),"") | V9: =IFERROR(VLOOKUP(U$5&$A9,표1[],9,0),"") | X9: =IFERROR(VLOOKUP(X$5&$A9,표1[],2,0),"") | Y9: =IFERROR(VLOOKUP(X$5&$A9,표1[],9,0),"") | AA9: =IFERROR(VLOOKUP(AA$5&$A9,표1[],2,0),"") | AB9: =IFERROR(VLOOKUP(AA$5&$A9,표1[],9,0),"") | AD9: =IFERROR(VLOOKUP(AD$5&$A9,표1[],2,0),"") | AE9: =IFERROR(VLOOKUP(AD$5&$A9,표1[],9,0),"") | AG9: =IFERROR(VLOOKUP(AG$5&$A9,표1[],2,0),"") | AH9: =IFERROR(VLOOKUP(AG$5&$A9,표1[],9,0),"")
C10: =IFERROR(VLOOKUP(C$5&$A9,표1[],4,0),"") | D10: =IFERROR(VLOOKUP(C$5&$A8,#REF!,2,0),"") | F10: =IFERROR(VLOOKUP(F$5&$A9,표1[],4,0),"") | G10: =IFERROR(VLOOKUP(F$5&$A8,#REF!,2,0),"") | I10: =IFERROR(VLOOKUP(I$5&$A9,표1[],4,0),"") | J10: =IFERROR(VLOOKUP(I$5&$A8,#REF!,2,0),"") | L10: =IFERROR(VLOOKUP(L$5&$A9,표1[],4,0),"") | M10: =IFERROR(VLOOKUP(L$5&$A8,#REF!,2,0),"") | O10: =IFERROR(VLOOKUP(O$5&$A9,표1[],4,0),"") | P10: =IFERROR(VLOOKUP(O$5&$A8,#REF!,2,0),"") | R10: =IFERROR(VLOOKUP(R$5&$A9,표1[],4,0),"") | S10: =IFERROR(VLOOKUP(R$5&$A8,#REF!,2,0),"") | U10: =IFERROR(VLOOKUP(U$5&$A9,표1[],4,0),"") | V10: =IFERROR(VLOOKUP(U$5&$A8,#REF!,2,0),"") | X10: =IFERROR(VLOOKUP(X$5&$A9,표1[],4,0),"") | Y10: =IFERROR(VLOOKUP(X$5&$A8,#REF!,2,0),"") | AA10: =IFERROR(VLOOKUP(AA$5&$A9,표1[],4,0),"") | AB10: =IFERROR(VLOOKUP(AA$5&$A8,#REF!,2,0),"") | AD10: =IFERROR(VLOOKUP(AD$5&$A9,표1[],4,0),"") | AE10: =IFERROR(VLOOKUP(AD$5&$A8,#REF!,2,0),"") | AG10: =IFERROR(VLOOKUP(AG$5&$A9,표1[],4,0),"") | AH10: =IFERROR(VLOOKUP(AG$5&$A8,#REF!,2,0),"")
C11: =IFERROR(VLOOKUP(C$5&$A9,표1[],6,0),"") | D11: =IFERROR(VLOOKUP(C$5&#REF!,#REF!,2,0),"") | F11: =IFERROR(VLOOKUP(F$5&$A9,표1[],6,0),"") | G11: =IFERROR(VLOOKUP(F$5&#REF!,#REF!,2,0),"") | I11: =IFERROR(VLOOKUP(I$5&$A9,표1[],6,0),"") | J11: =IFERROR(VLOOKUP(I$5&#REF!,#REF!,2,0),"") | L11: =IFERROR(VLOOKUP(L$5&$A9,표1[],6,0),"") | M11: =IFERROR(VLOOKUP(L$5&#REF!,#REF!,2,0),"") | O11: =IFERROR(VLOOKUP(O$5&$A9,표1[],6,0),"") | P11: =IFERROR(VLOOKUP(O$5&#REF!,#REF!,2,0),"") | R11: =IFERROR(VLOOKUP(R$5&$A9,표1[],6,0),"") | S11: =IFERROR(VLOOKUP(R$5&#REF!,#REF!,2,0),"") | U11: =IFERROR(VLOOKUP(U$5&$A9,표1[],6,0),"") | V11: =IFERROR(VLOOKUP(U$5&#REF!,#REF!,2,0),"") | X11: =IFERROR(VLOOKUP(X$5&$A9,표1[],6,0),"") | Y11: =IFERROR(VLOOKUP(X$5&#REF!,#REF!,2,0),"") | AA11: =IFERROR(VLOOKUP(AA$5&$A9,표1[],6,0),"") | AB11: =IFERROR(VLOOKUP(AA$5&#REF!,#REF!,2,0),"") | AD11: =IFERROR(VLOOKUP(AD$5&$A9,표1[],6,0),"") | AE11: =IFERROR(VLOOKUP(AD$5&#REF!,#REF!,2,0),"") | AG11: =IFERROR(VLOOKUP(AG$5&$A9,표1[],6,0),"") | AH11: =IFERROR(VLOOKUP(AG$5&#REF!,#REF!,2,0),"")
C12: =IFERROR(VLOOKUP(C$5&$A9,표1[],7,0),"") | D12: =IFERROR(VLOOKUP(C$5&$A9,표1[],1,0),"E") -> E | F12: =IFERROR(VLOOKUP(F$5&$A9,표1[],7,0),"") | G12: =IFERROR(VLOOKUP(F$5&$A9,표1[],1,0),"E") -> E | I12: =IFERROR(VLOOKUP(I$5&$A9,표1[],7,0),"") | J12: =IFERROR(VLOOKUP(I$5&$A9,표1[],1,0),"E") -> E | L12: =IFERROR(VLOOKUP(L$5&$A9,표1[],7,0),"") | M12: =IFERROR(VLOOKUP(L$5&$A9,표1[],1,0),"E") -> E | O12: =IFERROR(VLOOKUP(O$5&$A9,표1[],7,0),"") | P12: =IFERROR(VLOOKUP(O$5&$A9,표1[],1,0),"E") -> E | R12: =IFERROR(VLOOKUP(R$5&$A9,표1[],7,0),"") | S12: =IFERROR(VLOOKUP(R$5&$A9,표1[],1,0),"E") -> E | U12: =IFERROR(VLOOKUP(U$5&$A9,표1[],7,0),"") | V12: =IFERROR(VLOOKUP(U$5&$A9,표1[],1,0),"E") -> E | X12: =IFERROR(VLOOKUP(X$5&$A9,표1[],7,0),"") | Y12: =IFERROR(VLOOKUP(X$5&$A9,표1[],1,0),"E") -> E | AA12: =IFERROR(VLOOKUP(AA$5&$A9,표1[],7,0),"") | AB12: =IFERROR(VLOOKUP(AA$5&$A9,표1[],1,0),"E") -> E | AD12: =IFERROR(VLOOKUP(AD$5&$A9,표1[],7,0),"") | AE12: =IFERROR(VLOOKUP(AD$5&$A9,표1[],1,0),"E") -> E | AG12: =IFERROR(VLOOKUP(AG$5&$A9,표1[],7,0),"") | AH12: =IFERROR(VLOOKUP(AG$5&$A9,표1[],1,0),"E") -> E
A16: =A9+1 -> 2 | C16: =IFERROR(VLOOKUP(C$5&$A16,표1[],2,0),"") | D16: =IFERROR(VLOOKUP(C$5&$A16,표1[],9,0),"") | F16: =IFERROR(VLOOKUP(F$5&$A16,표1[],2,0),"") | G16: =IFERROR(VLOOKUP(F$5&$A16,표1[],9,0),"") | I16: =IFERROR(VLOOKUP(I$5&$A16,표1[],2,0),"") | J16: =IFERROR(VLOOKUP(I$5&$A16,표1[],9,0),"") | L16: =IFERROR(VLOOKUP(L$5&$A16,표1[],2,0),"") | M16: =IFERROR(VLOOKUP(L$5&$A16,표1[],9,0),"") | O16: =IFERROR(VLOOKUP(O$5&$A16,표1[],2,0),"") | P16: =IFERROR(VLOOKUP(O$5&$A16,표1[],9,0),"") | R16: =IFERROR(VLOOKUP(R$5&$A16,표1[],2,0),"") | S16: =IFERROR(VLOOKUP(R$5&$A16,표1[],9,0),"") | U16: =IFERROR(VLOOKUP(U$5&$A16,표1[],2,0),"") | V16: =IFERROR(VLOOKUP(U$5&$A16,표1[],9,0),"") | X16: =IFERROR(VLOOKUP(X$5&$A16,표1[],2,0),"") | Y16: =IFERROR(VLOOKUP(X$5&$A16,표1[],9,0),"") | AA16: =IFERROR(VLOOKUP(AA$5&$A16,표1[],2,0),"") | AB16: =IFERROR(VLOOKUP(AA$5&$A16,표1[],9,0),"") | AD16: =IFERROR(VLOOKUP(AD$5&$A16,표1[],2,0),"") | AE16: =IFERROR(VLOOKUP(AD$5&$A16,표1[],9,0),"") | AG16: =IFERROR(VLOOKUP(AG$5&$A16,표1[],2,0),"") | AH16: =IFERROR(VLOOKUP(AG$5&$A16,표1[],9,0),"")
C17: =IFERROR(VLOOKUP(C$5&$A16,표1[],4,0),"") | D17: =IFERROR(VLOOKUP(C$5&$A15,#REF!,2,0),"") | F17: =IFERROR(VLOOKUP(F$5&$A16,표1[],4,0),"") | G17: =IFERROR(VLOOKUP(F$5&$A15,#REF!,2,0),"") | I17: =IFERROR(VLOOKUP(I$5&$A16,표1[],4,0),"") | J17: =IFERROR(VLOOKUP(I$5&$A15,#REF!,2,0),"") | L17: =IFERROR(VLOOKUP(L$5&$A16,표1[],4,0),"") | M17: =IFERROR(VLOOKUP(L$5&$A15,#REF!,2,0),"") | O17: =IFERROR(VLOOKUP(O$5&$A16,표1[],4,0),"") | P17: =IFERROR(VLOOKUP(O$5&$A15,#REF!,2,0),"") | R17: =IFERROR(VLOOKUP(R$5&$A16,표1[],4,0),"") | S17: =IFERROR(VLOOKUP(R$5&$A15,#REF!,2,0),"") | U17: =IFERROR(VLOOKUP(U$5&$A16,표1[],4,0),"") | V17: =IFERROR(VLOOKUP(U$5&$A15,#REF!,2,0),"") | X17: =IFERROR(VLOOKUP(X$5&$A16,표1[],4,0),"") | Y17: =IFERROR(VLOOKUP(X$5&$A15,#REF!,2,0),"") | AA17: =IFERROR(VLOOKUP(AA$5&$A16,표1[],4,0),"") | AB17: =IFERROR(VLOOKUP(AA$5&$A15,#REF!,2,0),"") | AD17: =IFERROR(VLOOKUP(AD$5&$A16,표1[],4,0),"") | AE17: =IFERROR(VLOOKUP(AD$5&$A15,#REF!,2,0),"") | AG17: =IFERROR(VLOOKUP(AG$5&$A16,표1[],4,0),"") | AH17: =IFERROR(VLOOKUP(AG$5&$A15,#REF!,2,0),"")
C18: =IFERROR(VLOOKUP(C$5&$A16,표1[],6,0),"") | D18: =IFERROR(VLOOKUP(C$5&#REF!,#REF!,2,0),"") | F18: =IFERROR(VLOOKUP(F$5&$A16,표1[],6,0),"") | G18: =IFERROR(VLOOKUP(F$5&#REF!,#REF!,2,0),"") | I18: =IFERROR(VLOOKUP(I$5&$A16,표1[],6,0),"") | J18: =IFERROR(VLOOKUP(I$5&#REF!,#REF!,2,0),"") | L18: =IFERROR(VLOOKUP(L$5&$A16,표1[],6,0),"") | M18: =IFERROR(VLOOKUP(L$5&#REF!,#REF!,2,0),"") | O18: =IFERROR(VLOOKUP(O$5&$A16,표1[],6,0),"") | P18: =IFERROR(VLOOKUP(O$5&#REF!,#REF!,2,0),"") | R18: =IFERROR(VLOOKUP(R$5&$A16,표1[],6,0),"") | S18: =IFERROR(VLOOKUP(R$5&#REF!,#REF!,2,0),"") | U18: =IFERROR(VLOOKUP(U$5&$A16,표1[],6,0),"") | V18: =IFERROR(VLOOKUP(U$5&#REF!,#REF!,2,0),"") | X18: =IFERROR(VLOOKUP(X$5&$A16,표1[],6,0),"") | Y18: =IFERROR(VLOOKUP(X$5&#REF!,#REF!,2,0),"") | AA18: =IFERROR(VLOOKUP(AA$5&$A16,표1[],6,0),"") | AB18: =IFERROR(VLOOKUP(AA$5&#REF!,#REF!,2,0),"") | AD18: =IFERROR(VLOOKUP(AD$5&$A16,표1[],6,0),"") | AE18: =IFERROR(VLOOKUP(AD$5&#REF!,#REF!,2,0),"") | AG18: =IFERROR(VLOOKUP(AG$5&$A16,표1[],6,0),"") | AH18: =IFERROR(VLOOKUP(AG$5&#REF!,#REF!,2,0),"")
C19: =IFERROR(VLOOKUP(C$5&$A16,표1[],7,0),"") | D19: =IFERROR(VLOOKUP(C$5&$A16,표1[],1,0),"E") -> E | F19: =IFERROR(VLOOKUP(F$5&$A16,표1[],7,0),"") | G19: =IFERROR(VLOOKUP(F$5&$A16,표1[],1,0),"E") -> E | I19: =IFERROR(VLOOKUP(I$5&$A16,표1[],7,0),"") | J19: =IFERROR(VLOOKUP(I$5&$A16,표1[],1,0),"E") -> E | L19: =IFERROR(VLOOKUP(L$5&$A16,표1[],7,0),"") | M19: =IFERROR(VLOOKUP(L$5&$A16,표1[],1,0),"E") -> E | O19: =IFERROR(VLOOKUP(O$5&$A16,표1[],7,0),"") | P19: =IFERROR(VLOOKUP(O$5&$A16,표1[],1,0),"E") -> E | R19: =IFERROR(VLOOKUP(R$5&$A16,표1[],7,0),"") | S19: =IFERROR(VLOOKUP(R$5&$A16,표1[],1,0),"E") -> E | U19: =IFERROR(VLOOKUP(U$5&$A16,표1[],7,0),"") | V19: =IFERROR(VLOOKUP(U$5&$A16,표1[],1,0),"E") -> E | X19: =IFERROR(VLOOKUP(X$5&$A16,표1[],7,0),"") | Y19: =IFERROR(VLOOKUP(X$5&$A16,표1[],1,0),"E") -> E | AA19: =IFERROR(VLOOKUP(AA$5&$A16,표1[],7,0),"") | AB19: =IFERROR(VLOOKUP(AA$5&$A16,표1[],1,0),"E") -> E | AD19: =IFERROR(VLOOKUP(AD$5&$A16,표1[],7,0),"") | AE19: =IFERROR(VLOOKUP(AD$5&$A16,표1[],1,0),"E") -> E | AG19: =IFERROR(VLOOKUP(AG$5&$A16,표1[],7,0),"") | AH19: =IFERROR(VLOOKUP(AG$5&$A16,표1[],1,0),"E") -> E
A23: =A16+1 -> 3 | C23: =IFERROR(VLOOKUP(C$5&$A23,표1[],2,0),"") | D23: =IFERROR(VLOOKUP(C$5&$A23,표1[],9,0),"") | F23: =IFERROR(VLOOKUP(F$5&$A23,표1[],2,0),"") | G23: =IFERROR(VLOOKUP(F$5&$A23,표1[],9,0),"") | I23: =IFERROR(VLOOKUP(I$5&$A23,표1[],2,0),"") | J23: =IFERROR(VLOOKUP(I$5&$A23,표1[],9,0),"") | L23: =IFERROR(VLOOKUP(L$5&$A23,표1[],2,0),"") | M23: =IFERROR(VLOOKUP(L$5&$A23,표1[],9,0),"") | O23: =IFERROR(VLOOKUP(O$5&$A23,표1[],2,0),"") | P23: =IFERROR(VLOOKUP(O$5&$A23,표1[],9,0),"") | R23: =IFERROR(VLOOKUP(R$5&$A23,표1[],2,0),"") | S23: =IFERROR(VLOOKUP(R$5&$A23,표1[],9,0),"") | U23: =IFERROR(VLOOKUP(U$5&$A23,표1[],2,0),"") | V23: =IFERROR(VLOOKUP(U$5&$A23,표1[],9,0),"") | X23: =IFERROR(VLOOKUP(X$5&$A23,표1[],2,0),"") | Y23: =IFERROR(VLOOKUP(X$5&$A23,표1[],9,0),"") | AA23: =IFERROR(VLOOKUP(AA$5&$A23,표1[],2,0),"") | AB23: =IFERROR(VLOOKUP(AA$5&$A23,표1[],9,0),"") | AD23: =IFERROR(VLOOKUP(AD$5&$A23,표1[],2,0),"") | AE23: =IFERROR(VLOOKUP(AD$5&$A23,표1[],9,0),"") | AG23: =IFERROR(VLOOKUP(AG$5&$A23,표1[],2,0),"") | AH23: =IFERROR(VLOOKUP(AG$5&$A23,표1[],9,0),"")
C24: =IFERROR(VLOOKUP(C$5&$A23,표1[],4,0),"") | D24: =IFERROR(VLOOKUP(C$5&$A22,#REF!,2,0),"") | F24: =IFERROR(VLOOKUP(F$5&$A23,표1[],4,0),"") | G24: =IFERROR(VLOOKUP(F$5&$A22,#REF!,2,0),"") | I24: =IFERROR(VLOOKUP(I$5&$A23,표1[],4,0),"") | J24: =IFERROR(VLOOKUP(I$5&$A22,#REF!,2,0),"") | L24: =IFERROR(VLOOKUP(L$5&$A23,표1[],4,0),"") | M24: =IFERROR(VLOOKUP(L$5&$A22,#REF!,2,0),"") | O24: =IFERROR(VLOOKUP(O$5&$A23,표1[],4,0),"") | P24: =IFERROR(VLOOKUP(O$5&$A22,#REF!,2,0),"") | R24: =IFERROR(VLOOKUP(R$5&$A23,표1[],4,0),"") | S24: =IFERROR(VLOOKUP(R$5&$A22,#REF!,2,0),"") | U24: =IFERROR(VLOOKUP(U$5&$A23,표1[],4,0),"") | V24: =IFERROR(VLOOKUP(U$5&$A22,#REF!,2,0),"") | X24: =IFERROR(VLOOKUP(X$5&$A23,표1[],4,0),"") | Y24: =IFERROR(VLOOKUP(X$5&$A22,#REF!,2,0),"") | AA24: =IFERROR(VLOOKUP(AA$5&$A23,표1[],4,0),"") | AB24: =IFERROR(VLOOKUP(AA$5&$A22,#REF!,2,0),"") | AD24: =IFERROR(VLOOKUP(AD$5&$A23,표1[],4,0),"") | AE24: =IFERROR(VLOOKUP(AD$5&$A22,#REF!,2,0),"") | AG24: =IFERROR(VLOOKUP(AG$5&$A23,표1[],4,0),"") | AH24: =IFERROR(VLOOKUP(AG$5&$A22,#REF!,2,0),"")
C25: =IFERROR(VLOOKUP(C$5&$A23,표1[],6,0),"") | D25: =IFERROR(VLOOKUP(C$5&#REF!,#REF!,2,0),"") | F25: =IFERROR(VLOOKUP(F$5&$A23,표1[],6,0),"") | G25: =IFERROR(VLOOKUP(F$5&#REF!,#REF!,2,0),"") | I25: =IFERROR(VLOOKUP(I$5&$A23,표1[],6,0),"") | J25: =IFERROR(VLOOKUP(I$5&#REF!,#REF!,2,0),"") | L25: =IFERROR(VLOOKUP(L$5&$A23,표1[],6,0),"") | M25: =IFERROR(VLOOKUP(L$5&#REF!,#REF!,2,0),"") | O25: =IFERROR(VLOOKUP(O$5&$A23,표1[],6,0),"") | P25: =IFERROR(VLOOKUP(O$5&#REF!,#REF!,2,0),"") | R25: =IFERROR(VLOOKUP(R$5&$A23,표1[],6,0),"") | S25: =IFERROR(VLOOKUP(R$5&#REF!,#REF!,2,0),"") | U25: =IFERROR(VLOOKUP(U$5&$A23,표1[],6,0),"") | V25: =IFERROR(VLOOKUP(U$5&#REF!,#REF!,2,0),"") | X25: =IFERROR(VLOOKUP(X$5&$A23,표1[],6,0),"") | Y25: =IFERROR(VLOOKUP(X$5&#REF!,#REF!,2,0),"") | AA25: =IFERROR(VLOOKUP(AA$5&$A23,표1[],6,0),"") | AB25: =IFERROR(VLOOKUP(AA$5&#REF!,#REF!,2,0),"") | AD25: =IFERROR(VLOOKUP(AD$5&$A23,표1[],6,0),"") | AE25: =IFERROR(VLOOKUP(AD$5&#REF!,#REF!,2,0),"") | AG25: =IFERROR(VLOOKUP(AG$5&$A23,표1[],6,0),"") | AH25: =IFERROR(VLOOKUP(AG$5&#REF!,#REF!,2,0),"")
C26: =IFERROR(VLOOKUP(C$5&$A23,표1[],7,0),"") | D26: =IFERROR(VLOOKUP(C$5&$A23,표1[],1,0),"E") -> E | F26: =IFERROR(VLOOKUP(F$5&$A23,표1[],7,0),"") | G26: =IFERROR(VLOOKUP(F$5&$A23,표1[],1,0),"E") -> E | I26: =IFERROR(VLOOKUP(I$5&$A23,표1[],7,0),"") | J26: =IFERROR(VLOOKUP(I$5&$A23,표1[],1,0),"E") -> E | L26: =IFERROR(VLOOKUP(L$5&$A23,표1[],7,0),"") | M26: =IFERROR(VLOOKUP(L$5&$A23,표1[],1,0),"E") -> E | O26: =IFERROR(VLOOKUP(O$5&$A23,표1[],7,0),"") | P26: =IFERROR(VLOOKUP(O$5&$A23,표1[],1,0),"E") -> E | R26: =IFERROR(VLOOKUP(R$5&$A23,표1[],7,0),"") | S26: =IFERROR(VLOOKUP(R$5&$A23,표1[],1,0),"E") -> E | U26: =IFERROR(VLOOKUP(U$5&$A23,표1[],7,0),"") | V26: =IFERROR(VLOOKUP(U$5&$A23,표1[],1,0),"E") -> E | X26: =IFERROR(VLOOKUP(X$5&$A23,표1[],7,0),"") | Y26: =IFERROR(VLOOKUP(X$5&$A23,표1[],1,0),"E") -> E | AA26: =IFERROR(VLOOKUP(AA$5&$A23,표1[],7,0),"") | AB26: =IFERROR(VLOOKUP(AA$5&$A23,표1[],1,0),"E") -> E | AD26: =IFERROR(VLOOKUP(AD$5&$A23,표1[],7,0),"") | AE26: =IFERROR(VLOOKUP(AD$5&$A23,표1[],1,0),"E") -> E | AG26: =IFERROR(VLOOKUP(AG$5&$A23,표1[],7,0),"") | AH26: =IFERROR(VLOOKUP(AG$5&$A23,표1[],1,0),"E") -> E
A30: =A23+1 -> 4 | C30: =IFERROR(VLOOKUP(C$5&$A30,표1[],2,0),"") | D30: =IFERROR(VLOOKUP(C$5&$A30,표1[],9,0),"") | F30: =IFERROR(VLOOKUP(F$5&$A30,표1[],2,0),"") | G30: =IFERROR(VLOOKUP(F$5&$A30,표1[],9,0),"") | I30: =IFERROR(VLOOKUP(I$5&$A30,표1[],2,0),"") | J30: =IFERROR(VLOOKUP(I$5&$A30,표1[],9,0),"") | L30: =IFERROR(VLOOKUP(L$5&$A30,표1[],2,0),"") | M30: =IFERROR(VLOOKUP(L$5&$A30,표1[],9,0),"") | O30: =IFERROR(VLOOKUP(O$5&$A30,표1[],2,0),"") | P30: =IFERROR(VLOOKUP(O$5&$A30,표1[],9,0),"") | R30: =IFERROR(VLOOKUP(R$5&$A30,표1[],2,0),"") | S30: =IFERROR(VLOOKUP(R$5&$A30,표1[],9,0),"") | U30: =IFERROR(VLOOKUP(U$5&$A30,표1[],2,0),"") | V30: =IFERROR(VLOOKUP(U$5&$A30,표1[],9,0),"") | X30: =IFERROR(VLOOKUP(X$5&$A30,표1[],2,0),"") | Y30: =IFERROR(VLOOKUP(X$5&$A30,표1[],9,0),"") | AA30: =IFERROR(VLOOKUP(AA$5&$A30,표1[],2,0),"") | AB30: =IFERROR(VLOOKUP(AA$5&$A30,표1[],9,0),"") | AD30: =IFERROR(VLOOKUP(AD$5&$A30,표1[],2,0),"") | AE30: =IFERROR(VLOOKUP(AD$5&$A30,표1[],9,0),"") | AG30: =IFERROR(VLOOKUP(AG$5&$A30,표1[],2,0),"") | AH30: =IFERROR(VLOOKUP(AG$5&$A30,표1[],9,0),"")
C31: =IFERROR(VLOOKUP(C$5&$A30,표1[],4,0),"") | D31: =IFERROR(VLOOKUP(C$5&$A29,#REF!,2,0),"") | F31: =IFERROR(VLOOKUP(F$5&$A30,표1[],4,0),"") | G31: =IFERROR(VLOOKUP(F$5&$A29,#REF!,2,0),"") | I31: =IFERROR(VLOOKUP(I$5&$A30,표1[],4,0),"") | J31: =IFERROR(VLOOKUP(I$5&$A29,#REF!,2,0),"") | L31: =IFERROR(VLOOKUP(L$5&$A30,표1[],4,0),"") | M31: =IFERROR(VLOOKUP(L$5&$A29,#REF!,2,0),"") | O31: =IFERROR(VLOOKUP(O$5&$A30,표1[],4,0),"") | P31: =IFERROR(VLOOKUP(O$5&$A29,#REF!,2,0),"") | R31: =IFERROR(VLOOKUP(R$5&$A30,표1[],4,0),"") | S31: =IFERROR(VLOOKUP(R$5&$A29,#REF!,2,0),"") | U31: =IFERROR(VLOOKUP(U$5&$A30,표1[],4,0),"") | V31: =IFERROR(VLOOKUP(U$5&$A29,#REF!,2,0),"") | X31: =IFERROR(VLOOKUP(X$5&$A30,표1[],4,0),"") | Y31: =IFERROR(VLOOKUP(X$5&$A29,#REF!,2,0),"") | AA31: =IFERROR(VLOOKUP(AA$5&$A30,표1[],4,0),"") | AB31: =IFERROR(VLOOKUP(AA$5&$A29,#REF!,2,0),"") | AD31: =IFERROR(VLOOKUP(AD$5&$A30,표1[],4,0),"") | AE31: =IFERROR(VLOOKUP(AD$5&$A29,#REF!,2,0),"") | AG31: =IFERROR(VLOOKUP(AG$5&$A30,표1[],4,0),"") | AH31: =IFERROR(VLOOKUP(AG$5&$A29,#REF!,2,0),"")
C32: =IFERROR(VLOOKUP(C$5&$A30,표1[],6,0),"") | D32: =IFERROR(VLOOKUP(C$5&#REF!,#REF!,2,0),"") | F32: =IFERROR(VLOOKUP(F$5&$A30,표1[],6,0),"") | G32: =IFERROR(VLOOKUP(F$5&#REF!,#REF!,2,0),"") | I32: =IFERROR(VLOOKUP(I$5&$A30,표1[],6,0),"") | J32: =IFERROR(VLOOKUP(I$5&#REF!,#REF!,2,0),"") | L32: =IFERROR(VLOOKUP(L$5&$A30,표1[],6,0),"") | M32: =IFERROR(VLOOKUP(L$5&#REF!,#REF!,2,0),"") | O32: =IFERROR(VLOOKUP(O$5&$A30,표1[],6,0),"") | P32: =IFERROR(VLOOKUP(O$5&#REF!,#REF!,2,0),"") | R32: =IFERROR(VLOOKUP(R$5&$A30,표1[],6,0),"") | S32: =IFERROR(VLOOKUP(R$5&#REF!,#REF!,2,0),"") | U32: =IFERROR(VLOOKUP(U$5&$A30,표1[],6,0),"") | V32: =IFERROR(VLOOKUP(U$5&#REF!,#REF!,2,0),"") | X32: =IFERROR(VLOOKUP(X$5&$A30,표1[],6,0),"") | Y32: =IFERROR(VLOOKUP(X$5&#REF!,#REF!,2,0),"") | AA32: =IFERROR(VLOOKUP(AA$5&$A30,표1[],6,0),"") | AB32: =IFERROR(VLOOKUP(AA$5&#REF!,#REF!,2,0),"") | AD32: =IFERROR(VLOOKUP(AD$5&$A30,표1[],6,0),"") | AE32: =IFERROR(VLOOKUP(AD$5&#REF!,#REF!,2,0),"") | AG32: =IFERROR(VLOOKUP(AG$5&$A30,표1[],6,0),"") | AH32: =IFERROR(VLOOKUP(AG$5&#REF!,#REF!,2,0),"")
C33: =IFERROR(VLOOKUP(C$5&$A30,표1[],7,0),"") | D33: =IFERROR(VLOOKUP(C$5&$A30,표1[],1,0),"E") -> E | F33: =IFERROR(VLOOKUP(F$5&$A30,표1[],7,0),"") | G33: =IFERROR(VLOOKUP(F$5&$A30,표1[],1,0),"E") -> E | I33: =IFERROR(VLOOKUP(I$5&$A30,표1[],7,0),"") | J33: =IFERROR(VLOOKUP(I$5&$A30,표1[],1,0),"E") -> E | L33: =IFERROR(VLOOKUP(L$5&$A30,표1[],7,0),"") | M33: =IFERROR(VLOOKUP(L$5&$A30,표1[],1,0),"E") -> E | O33: =IFERROR(VLOOKUP(O$5&$A30,표1[],7,0),"") | P33: =IFERROR(VLOOKUP(O$5&$A30,표1[],1,0),"E") -> E | R33: =IFERROR(VLOOKUP(R$5&$A30,표1[],7,0),"") | S33: =IFERROR(VLOOKUP(R$5&$A30,표1[],1,0),"E") -> E | U33: =IFERROR(VLOOKUP(U$5&$A30,표1[],7,0),"") | V33: =IFERROR(VLOOKUP(U$5&$A30,표1[],1,0),"E") -> E | X33: =IFERROR(VLOOKUP(X$5&$A30,표1[],7,0),"") | Y33: =IFERROR(VLOOKUP(X$5&$A30,표1[],1,0),"E") -> E | AA33: =IFERROR(VLOOKUP(AA$5&$A30,표1[],7,0),"") | AB33: =IFERROR(VLOOKUP(AA$5&$A30,표1[],1,0),"E") -> E | AD33: =IFERROR(VLOOKUP(AD$5&$A30,표1[],7,0),"") | AE33: =IFERROR(VLOOKUP(AD$5&$A30,표1[],1,0),"E") -> E | AG33: =IFERROR(VLOOKUP(AG$5&$A30,표1[],7,0),"") | AH33: =IFERROR(VLOOKUP(AG$5&$A30,표1[],1,0),"E") -> E
A37: =A30+1 -> 5 | C37: =IFERROR(VLOOKUP(C$5&$A37,표1[],2,0),"") | D37: =IFERROR(VLOOKUP(C$5&$A37,표1[],9,0),"") | F37: =IFERROR(VLOOKUP(F$5&$A37,표1[],2,0),"") | G37: =IFERROR(VLOOKUP(F$5&$A37,표1[],9,0),"") | I37: =IFERROR(VLOOKUP(I$5&$A37,표1[],2,0),"") | J37: =IFERROR(VLOOKUP(I$5&$A37,표1[],9,0),"") | L37: =IFERROR(VLOOKUP(L$5&$A37,표1[],2,0),"") | M37: =IFERROR(VLOOKUP(L$5&$A37,표1[],9,0),"") | O37: =IFERROR(VLOOKUP(O$5&$A37,표1[],2,0),"") | P37: =IFERROR(VLOOKUP(O$5&$A37,표1[],9,0),"") | R37: =IFERROR(VLOOKUP(R$5&$A37,표1[],2,0),"") | S37: =IFERROR(VLOOKUP(R$5&$A37,표1[],9,0),"") | U37: =IFERROR(VLOOKUP(U$5&$A37,표1[],2,0),"") | V37: =IFERROR(VLOOKUP(U$5&$A37,표1[],9,0),"") | X37: =IFERROR(VLOOKUP(X$5&$A37,표1[],2,0),"") | Y37: =IFERROR(VLOOKUP(X$5&$A37,표1[],9,0),"") | AA37: =IFERROR(VLOOKUP(AA$5&$A37,표1[],2,0),"") | AB37: =IFERROR(VLOOKUP(AA$5&$A37,표1[],9,0),"") | AD37: =IFERROR(VLOOKUP(AD$5&$A37,표1[],2,0),"") | AE37: =IFERROR(VLOOKUP(AD$5&$A37,표1[],9,0),"") | AG37: =IFERROR(VLOOKUP(AG$5&$A37,표1[],2,0),"") | AH37: =IFERROR(VLOOKUP(AG$5&$A37,표1[],9,0),"")
C38: =IFERROR(VLOOKUP(C$5&$A37,표1[],4,0),"") | D38: =IFERROR(VLOOKUP(C$5&$A36,#REF!,2,0),"") | F38: =IFERROR(VLOOKUP(F$5&$A37,표1[],4,0),"") | G38: =IFERROR(VLOOKUP(F$5&$A36,#REF!,2,0),"") | I38: =IFERROR(VLOOKUP(I$5&$A37,표1[],4,0),"") | J38: =IFERROR(VLOOKUP(I$5&$A36,#REF!,2,0),"") | L38: =IFERROR(VLOOKUP(L$5&$A37,표1[],4,0),"") | M38: =IFERROR(VLOOKUP(L$5&$A36,#REF!,2,0),"") | O38: =IFERROR(VLOOKUP(O$5&$A37,표1[],4,0),"") | P38: =IFERROR(VLOOKUP(O$5&$A36,#REF!,2,0),"") | R38: =IFERROR(VLOOKUP(R$5&$A37,표1[],4,0),"") | S38: =IFERROR(VLOOKUP(R$5&$A36,#REF!,2,0),"") | U38: =IFERROR(VLOOKUP(U$5&$A37,표1[],4,0),"") | V38: =IFERROR(VLOOKUP(U$5&$A36,#REF!,2,0),"") | X38: =IFERROR(VLOOKUP(X$5&$A37,표1[],4,0),"") | Y38: =IFERROR(VLOOKUP(X$5&$A36,#REF!,2,0),"") | AA38: =IFERROR(VLOOKUP(AA$5&$A37,표1[],4,0),"") | AB38: =IFERROR(VLOOKUP(AA$5&$A36,#REF!,2,0),"") | AD38: =IFERROR(VLOOKUP(AD$5&$A37,표1[],4,0),"") | AE38: =IFERROR(VLOOKUP(AD$5&$A36,#REF!,2,0),"") | AG38: =IFERROR(VLOOKUP(AG$5&$A37,표1[],4,0),"") | AH38: =IFERROR(VLOOKUP(AG$5&$A36,#REF!,2,0),"")
C39: =IFERROR(VLOOKUP(C$5&$A37,표1[],6,0),"") | D39: =IFERROR(VLOOKUP(C$5&#REF!,#REF!,2,0),"") | F39: =IFERROR(VLOOKUP(F$5&$A37,표1[],6,0),"") | G39: =IFERROR(VLOOKUP(F$5&#REF!,#REF!,2,0),"") | I39: =IFERROR(VLOOKUP(I$5&$A37,표1[],6,0),"") | J39: =IFERROR(VLOOKUP(I$5&#REF!,#REF!,2,0),"") | L39: =IFERROR(VLOOKUP(L$5&$A37,표1[],6,0),"") | M39: =IFERROR(VLOOKUP(L$5&#REF!,#REF!,2,0),"") | O39: =IFERROR(VLOOKUP(O$5&$A37,표1[],6,0),"") | P39: =IFERROR(VLOOKUP(O$5&#REF!,#REF!,2,0),"") | R39: =IFERROR(VLOOKUP(R$5&$A37,표1[],6,0),"") | S39: =IFERROR(VLOOKUP(R$5&#REF!,#REF!,2,0),"") | U39: =IFERROR(VLOOKUP(U$5&$A37,표1[],6,0),"") | V39: =IFERROR(VLOOKUP(U$5&#REF!,#REF!,2,0),"") | X39: =IFERROR(VLOOKUP(X$5&$A37,표1[],6,0),"") | Y39: =IFERROR(VLOOKUP(X$5&#REF!,#REF!,2,0),"") | AA39: =IFERROR(VLOOKUP(AA$5&$A37,표1[],6,0),"") | AB39: =IFERROR(VLOOKUP(AA$5&#REF!,#REF!,2,0),"") | AD39: =IFERROR(VLOOKUP(AD$5&$A37,표1[],6,0),"") | AE39: =IFERROR(VLOOKUP(AD$5&#REF!,#REF!,2,0),"") | AG39: =IFERROR(VLOOKUP(AG$5&$A37,표1[],6,0),"") | AH39: =IFERROR(VLOOKUP(AG$5&#REF!,#REF!,2,0),"")
C40: =IFERROR(VLOOKUP(C$5&$A37,표1[],7,0),"") | D40: =IFERROR(VLOOKUP(C$5&$A37,표1[],1,0),"E") -> E | F40: =IFERROR(VLOOKUP(F$5&$A37,표1[],7,0),"") | G40: =IFERROR(VLOOKUP(F$5&$A37,표1[],1,0),"E") -> E | I40: =IFERROR(VLOOKUP(I$5&$A37,표1[],7,0),"") | J40: =IFERROR(VLOOKUP(I$5&$A37,표1[],1,0),"E") -> E | L40: =IFERROR(VLOOKUP(L$5&$A37,표1[],7,0),"") | M40: =IFERROR(VLOOKUP(L$5&$A37,표1[],1,0),"E") -> E | O40: =IFERROR(VLOOKUP(O$5&$A37,표1[],7,0),"") | P40: =IFERROR(VLOOKUP(O$5&$A37,표1[],1,0),"E") -> E | R40: =IFERROR(VLOOKUP(R$5&$A37,표1[],7,0),"") | S40: =IFERROR(VLOOKUP(R$5&$A37,표1[],1,0),"E") -> E | U40: =IFERROR(VLOOKUP(U$5&$A37,표1[],7,0),"") | V40: =IFERROR(VLOOKUP(U$5&$A37,표1[],1,0),"E") -> E | X40: =IFERROR(VLOOKUP(X$5&$A37,표1[],7,0),"") | Y40: =IFERROR(VLOOKUP(X$5&$A37,표1[],1,0),"E") -> E | AA40: =IFERROR(VLOOKUP(AA$5&$A37,표1[],7,0),"") | AB40: =IFERROR(VLOOKUP(AA$5&$A37,표1[],1,0),"E") -> E | AD40: =IFERROR(VLOOKUP(AD$5&$A37,표1[],7,0),"") | AE40: =IFERROR(VLOOKUP(AD$5&$A37,표1[],1,0),"E") -> E | AG40: =IFERROR(VLOOKUP(AG$5&$A37,표1[],7,0),"") | AH40: =IFERROR(VLOOKUP(AG$5&$A37,표1[],1,0),"E") -> E
A44: =A37+1 -> 6 | C44: =IFERROR(VLOOKUP(C$5&$A44,표1[],2,0),"") | D44: =IFERROR(VLOOKUP(C$5&$A44,표1[],9,0),"") | F44: =IFERROR(VLOOKUP(F$5&$A44,표1[],2,0),"") | G44: =IFERROR(VLOOKUP(F$5&$A44,표1[],9,0),"") | I44: =IFERROR(VLOOKUP(I$5&$A44,표1[],2,0),"") | J44: =IFERROR(VLOOKUP(I$5&$A44,표1[],9,0),"") | L44: =IFERROR(VLOOKUP(L$5&$A44,표1[],2,0),"") | M44: =IFERROR(VLOOKUP(L$5&$A44,표1[],9,0),"") | O44: =IFERROR(VLOOKUP(O$5&$A44,표1[],2,0),"") | P44: =IFERROR(VLOOKUP(O$5&$A44,표1[],9,0),"") | R44: =IFERROR(VLOOKUP(R$5&$A44,표1[],2,0),"") | S44: =IFERROR(VLOOKUP(R$5&$A44,표1[],9,0),"") | U44: =IFERROR(VLOOKUP(U$5&$A44,표1[],2,0),"") | V44: =IFERROR(VLOOKUP(U$5&$A44,표1[],9,0),"") | X44: =IFERROR(VLOOKUP(X$5&$A44,표1[],2,0),"") | Y44: =IFERROR(VLOOKUP(X$5&$A44,표1[],9,0),"") | AA44: =IFERROR(VLOOKUP(AA$5&$A44,표1[],2,0),"") | AB44: =IFERROR(VLOOKUP(AA$5&$A44,표1[],9,0),"") | AD44: =IFERROR(VLOOKUP(AD$5&$A44,표1[],2,0),"") | AE44: =IFERROR(VLOOKUP(AD$5&$A44,표1[],9,0),"") | AG44: =IFERROR(VLOOKUP(AG$5&$A44,표1[],2,0),"") | AH44: =IFERROR(VLOOKUP(AG$5&$A44,표1[],9,0),"")
C45: =IFERROR(VLOOKUP(C$5&$A44,표1[],4,0),"") | D45: =IFERROR(VLOOKUP(C$5&$A43,#REF!,2,0),"") | F45: =IFERROR(VLOOKUP(F$5&$A44,표1[],4,0),"") | G45: =IFERROR(VLOOKUP(F$5&$A43,#REF!,2,0),"") | I45: =IFERROR(VLOOKUP(I$5&$A44,표1[],4,0),"") | J45: =IFERROR(VLOOKUP(I$5&$A43,#REF!,2,0),"") | L45: =IFERROR(VLOOKUP(L$5&$A44,표1[],4,0),"") | M45: =IFERROR(VLOOKUP(L$5&$A43,#REF!,2,0),"") | O45: =IFERROR(VLOOKUP(O$5&$A44,표1[],4,0),"") | P45: =IFERROR(VLOOKUP(O$5&$A43,#REF!,2,0),"") | R45: =IFERROR(VLOOKUP(R$5&$A44,표1[],4,0),"") | S45: =IFERROR(VLOOKUP(R$5&$A43,#REF!,2,0),"") | U45: =IFERROR(VLOOKUP(U$5&$A44,표1[],4,0),"") | V45: =IFERROR(VLOOKUP(U$5&$A43,#REF!,2,0),"") | X45: =IFERROR(VLOOKUP(X$5&$A44,표1[],4,0),"") | Y45: =IFERROR(VLOOKUP(X$5&$A43,#REF!,2,0),"") | AA45: =IFERROR(VLOOKUP(AA$5&$A44,표1[],4,0),"") | AB45: =IFERROR(VLOOKUP(AA$5&$A43,#REF!,2,0),"") | AD45: =IFERROR(VLOOKUP(AD$5&$A44,표1[],4,0),"") | AE45: =IFERROR(VLOOKUP(AD$5&$A43,#REF!,2,0),"") | AG45: =IFERROR(VLOOKUP(AG$5&$A44,표1[],4,0),"") | AH45: =IFERROR(VLOOKUP(AG$5&$A43,#REF!,2,0),"")
C46: =IFERROR(VLOOKUP(C$5&$A44,표1[],6,0),"") | D46: =IFERROR(VLOOKUP(C$5&#REF!,#REF!,2,0),"") | F46: =IFERROR(VLOOKUP(F$5&$A44,표1[],6,0),"") | G46: =IFERROR(VLOOKUP(F$5&#REF!,#REF!,2,0),"") | I46: =IFERROR(VLOOKUP(I$5&$A44,표1[],6,0),"") | J46: =IFERROR(VLOOKUP(I$5&#REF!,#REF!,2,0),"") | L46: =IFERROR(VLOOKUP(L$5&$A44,표1[],6,0),"") | M46: =IFERROR(VLOOKUP(L$5&#REF!,#REF!,2,0),"") | O46: =IFERROR(VLOOKUP(O$5&$A44,표1[],6,0),"") | P46: =IFERROR(VLOOKUP(O$5&#REF!,#REF!,2,0),"") | R46: =IFERROR(VLOOKUP(R$5&$A44,표1[],6,0),"") | S46: =IFERROR(VLOOKUP(R$5&#REF!,#REF!,2,0),"") | U46: =IFERROR(VLOOKUP(U$5&$A44,표1[],6,0),"") | V46: =IFERROR(VLOOKUP(U$5&#REF!,#REF!,2,0),"") | X46: =IFERROR(VLOOKUP(X$5&$A44,표1[],6,0),"") | Y46: =IFERROR(VLOOKUP(X$5&#REF!,#REF!,2,0),"") | AA46: =IFERROR(VLOOKUP(AA$5&$A44,표1[],6,0),"") | AB46: =IFERROR(VLOOKUP(AA$5&#REF!,#REF!,2,0),"") | AD46: =IFERROR(VLOOKUP(AD$5&$A44,표1[],6,0),"") | AE46: =IFERROR(VLOOKUP(AD$5&#REF!,#REF!,2,0),"") | AG46: =IFERROR(VLOOKUP(AG$5&$A44,표1[],6,0),"") | AH46: =IFERROR(VLOOKUP(AG$5&#REF!,#REF!,2,0),"")
C47: =IFERROR(VLOOKUP(C$5&$A44,표1[],7,0),"") | D47: =IFERROR(VLOOKUP(C$5&$A44,표1[],1,0),"E") -> E | F47: =IFERROR(VLOOKUP(F$5&$A44,표1[],7,0),"") | G47: =IFERROR(VLOOKUP(F$5&$A44,표1[],1,0),"E") -> E | I47: =IFERROR(VLOOKUP(I$5&$A44,표1[],7,0),"") | J47: =IFERROR(VLOOKUP(I$5&$A44,표1[],1,0),"E") -> E | L47: =IFERROR(VLOOKUP(L$5&$A44,표1[],7,0),"") | M47: =IFERROR(VLOOKUP(L$5&$A44,표1[],1,0),"E") -> E | O47: =IFERROR(VLOOKUP(O$5&$A44,표1[],7,0),"") | P47: =IFERROR(VLOOKUP(O$5&$A44,표1[],1,0),"E") -> E | R47: =IFERROR(VLOOKUP(R$5&$A44,표1[],7,0),"") | S47: =IFERROR(VLOOKUP(R$5&$A44,표1[],1,0),"E") -> E | U47: =IFERROR(VLOOKUP(U$5&$A44,표1[],7,0),"") | V47: =IFERROR(VLOOKUP(U$5&$A44,표1[],1,0),"E") -> E | X47: =IFERROR(VLOOKUP(X$5&$A44,표1[],7,0),"") | Y47: =IFERROR(VLOOKUP(X$5&$A44,표1[],1,0),"E") -> E | AA47: =IFERROR(VLOOKUP(AA$5&$A44,표1[],7,0),"") | AB47: =IFERROR(VLOOKUP(AA$5&$A44,표1[],1,0),"E") -> E | AD47: =IFERROR(VLOOKUP(AD$5&$A44,표1[],7,0),"") | AE47: =IFERROR(VLOOKUP(AD$5&$A44,표1[],1,0),"E") -> E | AG47: =IFERROR(VLOOKUP(AG$5&$A44,표1[],7,0),"") | AH47: =IFERROR(VLOOKUP(AG$5&$A44,표1[],1,0),"E") -> E
A51: =A44+1 -> 7 | C51: =IFERROR(VLOOKUP(C$5&$A51,표1[],2,0),"") | D51: =IFERROR(VLOOKUP(C$5&$A51,표1[],9,0),"") | F51: =IFERROR(VLOOKUP(F$5&$A51,표1[],2,0),"") | G51: =IFERROR(VLOOKUP(F$5&$A51,표1[],9,0),"") | I51: =IFERROR(VLOOKUP(I$5&$A51,표1[],2,0),"") | J51: =IFERROR(VLOOKUP(I$5&$A51,표1[],9,0),"") | L51: =IFERROR(VLOOKUP(L$5&$A51,표1[],2,0),"") | M51: =IFERROR(VLOOKUP(L$5&$A51,표1[],9,0),"") | O51: =IFERROR(VLOOKUP(O$5&$A51,표1[],2,0),"") | P51: =IFERROR(VLOOKUP(O$5&$A51,표1[],9,0),"") | R51: =IFERROR(VLOOKUP(R$5&$A51,표1[],2,0),"") | S51: =IFERROR(VLOOKUP(R$5&$A51,표1[],9,0),"") | U51: =IFERROR(VLOOKUP(U$5&$A51,표1[],2,0),"") | V51: =IFERROR(VLOOKUP(U$5&$A51,표1[],9,0),"") | X51: =IFERROR(VLOOKUP(X$5&$A51,표1[],2,0),"") | Y51: =IFERROR(VLOOKUP(X$5&$A51,표1[],9,0),"") | AA51: =IFERROR(VLOOKUP(AA$5&$A51,표1[],2,0),"") | AB51: =IFERROR(VLOOKUP(AA$5&$A51,표1[],9,0),"") | AD51: =IFERROR(VLOOKUP(AD$5&$A51,표1[],2,0),"") | AE51: =IFERROR(VLOOKUP(AD$5&$A51,표1[],9,0),"") | AG51: =IFERROR(VLOOKUP(AG$5&$A51,표1[],2,0),"") | AH51: =IFERROR(VLOOKUP(AG$5&$A51,표1[],9,0),"")
C52: =IFERROR(VLOOKUP(C$5&$A51,표1[],4,0),"") | D52: =IFERROR(VLOOKUP(C$5&$A50,#REF!,2,0),"") | F52: =IFERROR(VLOOKUP(F$5&$A51,표1[],4,0),"") | G52: =IFERROR(VLOOKUP(F$5&$A50,#REF!,2,0),"") | I52: =IFERROR(VLOOKUP(I$5&$A51,표1[],4,0),"") | J52: =IFERROR(VLOOKUP(I$5&$A50,#REF!,2,0),"") | L52: =IFERROR(VLOOKUP(L$5&$A51,표1[],4,0),"") | M52: =IFERROR(VLOOKUP(L$5&$A50,#REF!,2,0),"") | O52: =IFERROR(VLOOKUP(O$5&$A51,표1[],4,0),"") | P52: =IFERROR(VLOOKUP(O$5&$A50,#REF!,2,0),"") | R52: =IFERROR(VLOOKUP(R$5&$A51,표1[],4,0),"") | S52: =IFERROR(VLOOKUP(R$5&$A50,#REF!,2,0),"") | U52: =IFERROR(VLOOKUP(U$5&$A51,표1[],4,0),"") | V52: =IFERROR(VLOOKUP(U$5&$A50,#REF!,2,0),"") | X52: =IFERROR(VLOOKUP(X$5&$A51,표1[],4,0),"") | Y52: =IFERROR(VLOOKUP(X$5&$A50,#REF!,2,0),"") | AA52: =IFERROR(VLOOKUP(AA$5&$A51,표1[],4,0),"") | AB52: =IFERROR(VLOOKUP(AA$5&$A50,#REF!,2,0),"") | AD52: =IFERROR(VLOOKUP(AD$5&$A51,표1[],4,0),"") | AE52: =IFERROR(VLOOKUP(AD$5&$A50,#REF!,2,0),"") | AG52: =IFERROR(VLOOKUP(AG$5&$A51,표1[],4,0),"") | AH52: =IFERROR(VLOOKUP(AG$5&$A50,#REF!,2,0),"")
C53: =IFERROR(VLOOKUP(C$5&$A51,표1[],6,0),"") | D53: =IFERROR(VLOOKUP(C$5&#REF!,#REF!,2,0),"") | F53: =IFERROR(VLOOKUP(F$5&$A51,표1[],6,0),"") | G53: =IFERROR(VLOOKUP(F$5&#REF!,#REF!,2,0),"") | I53: =IFERROR(VLOOKUP(I$5&$A51,표1[],6,0),"") | J53: =IFERROR(VLOOKUP(I$5&#REF!,#REF!,2,0),"") | L53: =IFERROR(VLOOKUP(L$5&$A51,표1[],6,0),"") | M53: =IFERROR(VLOOKUP(L$5&#REF!,#REF!,2,0),"") | O53: =IFERROR(VLOOKUP(O$5&$A51,표1[],6,0),"") | P53: =IFERROR(VLOOKUP(O$5&#REF!,#REF!,2,0),"") | R53: =IFERROR(VLOOKUP(R$5&$A51,표1[],6,0),"") | S53: =IFERROR(VLOOKUP(R$5&#REF!,#REF!,2,0),"") | U53: =IFERROR(VLOOKUP(U$5&$A51,표1[],6,0),"") | V53: =IFERROR(VLOOKUP(U$5&#REF!,#REF!,2,0),"") | X53: =IFERROR(VLOOKUP(X$5&$A51,표1[],6,0),"") | Y53: =IFERROR(VLOOKUP(X$5&#REF!,#REF!,2,0),"") | AA53: =IFERROR(VLOOKUP(AA$5&$A51,표1[],6,0),"") | AB53: =IFERROR(VLOOKUP(AA$5&#REF!,#REF!,2,0),"") | AD53: =IFERROR(VLOOKUP(AD$5&$A51,표1[],6,0),"") | AE53: =IFERROR(VLOOKUP(AD$5&#REF!,#REF!,2,0),"") | AG53: =IFERROR(VLOOKUP(AG$5&$A51,표1[],6,0),"") | AH53: =IFERROR(VLOOKUP(AG$5&#REF!,#REF!,2,0),"")
C54: =IFERROR(VLOOKUP(C$5&$A51,표1[],7,0),"") | D54: =IFERROR(VLOOKUP(C$5&$A51,표1[],1,0),"E") -> E | F54: =IFERROR(VLOOKUP(F$5&$A51,표1[],7,0),"") | G54: =IFERROR(VLOOKUP(F$5&$A51,표1[],1,0),"E") -> E | I54: =IFERROR(VLOOKUP(I$5&$A51,표1[],7,0),"") | J54: =IFERROR(VLOOKUP(I$5&$A51,표1[],1,0),"E") -> E | L54: =IFERROR(VLOOKUP(L$5&$A51,표1[],7,0),"") | M54: =IFERROR(VLOOKUP(L$5&$A51,표1[],1,0),"E") -> E | O54: =IFERROR(VLOOKUP(O$5&$A51,표1[],7,0),"") | P54: =IFERROR(VLOOKUP(O$5&$A51,표1[],1,0),"E") -> E | R54: =IFERROR(VLOOKUP(R$5&$A51,표1[],7,0),"") | S54: =IFERROR(VLOOKUP(R$5&$A51,표1[],1,0),"E") -> E | U54: =IFERROR(VLOOKUP(U$5&$A51,표1[],7,0),"") | V54: =IFERROR(VLOOKUP(U$5&$A51,표1[],1,0),"E") -> E | X54: =IFERROR(VLOOKUP(X$5&$A51,표1[],7,0),"") | Y54: =IFERROR(VLOOKUP(X$5&$A51,표1[],1,0),"E") -> E | AA54: =IFERROR(VLOOKUP(AA$5&$A51,표1[],7,0),"") | AB54: =IFERROR(VLOOKUP(AA$5&$A51,표1[],1,0),"E") -> E | AD54: =IFERROR(VLOOKUP(AD$5&$A51,표1[],7,0),"") | AE54: =IFERROR(VLOOKUP(AD$5&$A51,표1[],1,0),"E") -> E | AG54: =IFERROR(VLOOKUP(AG$5&$A51,표1[],7,0),"") | AH54: =IFERROR(VLOOKUP(AG$5&$A51,표1[],1,0),"E") -> E
A58: =A51+1 -> 8 | C58: =IFERROR(VLOOKUP(C$5&$A58,표1[],2,0),"") | D58: =IFERROR(VLOOKUP(C$5&$A58,표1[],9,0),"") | F58: =IFERROR(VLOOKUP(F$5&$A58,표1[],2,0),"") | G58: =IFERROR(VLOOKUP(F$5&$A58,표1[],9,0),"") | I58: =IFERROR(VLOOKUP(I$5&$A58,표1[],2,0),"") | J58: =IFERROR(VLOOKUP(I$5&$A58,표1[],9,0),"") | L58: =IFERROR(VLOOKUP(L$5&$A58,표1[],2,0),"") | M58: =IFERROR(VLOOKUP(L$5&$A58,표1[],9,0),"") | O58: =IFERROR(VLOOKUP(O$5&$A58,표1[],2,0),"") | P58: =IFERROR(VLOOKUP(O$5&$A58,표1[],9,0),"") | R58: =IFERROR(VLOOKUP(R$5&$A58,표1[],2,0),"") | S58: =IFERROR(VLOOKUP(R$5&$A58,표1[],9,0),"") | U58: =IFERROR(VLOOKUP(U$5&$A58,표1[],2,0),"") | V58: =IFERROR(VLOOKUP(U$5&$A58,표1[],9,0),"") | X58: =IFERROR(VLOOKUP(X$5&$A58,표1[],2,0),"") | Y58: =IFERROR(VLOOKUP(X$5&$A58,표1[],9,0),"") | AA58: =IFERROR(VLOOKUP(AA$5&$A58,표1[],2,0),"") | AB58: =IFERROR(VLOOKUP(AA$5&$A58,표1[],9,0),"") | AD58: =IFERROR(VLOOKUP(AD$5&$A58,표1[],2,0),"") | AE58: =IFERROR(VLOOKUP(AD$5&$A58,표1[],9,0),"") | AG58: =IFERROR(VLOOKUP(AG$5&$A58,표1[],2,0),"") | AH58: =IFERROR(VLOOKUP(AG$5&$A58,표1[],9,0),"")
C59: =IFERROR(VLOOKUP(C$5&$A58,표1[],4,0),"") | D59: =IFERROR(VLOOKUP(C$5&$A57,#REF!,2,0),"") | F59: =IFERROR(VLOOKUP(F$5&$A58,표1[],4,0),"") | G59: =IFERROR(VLOOKUP(F$5&$A57,#REF!,2,0),"") | I59: =IFERROR(VLOOKUP(I$5&$A58,표1[],4,0),"") | J59: =IFERROR(VLOOKUP(I$5&$A57,#REF!,2,0),"") | L59: =IFERROR(VLOOKUP(L$5&$A58,표1[],4,0),"") | M59: =IFERROR(VLOOKUP(L$5&$A57,#REF!,2,0),"") | O59: =IFERROR(VLOOKUP(O$5&$A58,표1[],4,0),"") | P59: =IFERROR(VLOOKUP(O$5&$A57,#REF!,2,0),"") | R59: =IFERROR(VLOOKUP(R$5&$A58,표1[],4,0),"") | S59: =IFERROR(VLOOKUP(R$5&$A57,#REF!,2,0),"") | U59: =IFERROR(VLOOKUP(U$5&$A58,표1[],4,0),"") | V59: =IFERROR(VLOOKUP(U$5&$A57,#REF!,2,0),"") | X59: =IFERROR(VLOOKUP(X$5&$A58,표1[],4,0),"") | Y59: =IFERROR(VLOOKUP(X$5&$A57,#REF!,2,0),"") | AA59: =IFERROR(VLOOKUP(AA$5&$A58,표1[],4,0),"") | AB59: =IFERROR(VLOOKUP(AA$5&$A57,#REF!,2,0),"") | AD59: =IFERROR(VLOOKUP(AD$5&$A58,표1[],4,0),"") | AE59: =IFERROR(VLOOKUP(AD$5&$A57,#REF!,2,0),"") | AG59: =IFERROR(VLOOKUP(AG$5&$A58,표1[],4,0),"") | AH59: =IFERROR(VLOOKUP(AG$5&$A57,#REF!,2,0),"")
C60: =IFERROR(VLOOKUP(C$5&$A58,표1[],6,0),"") | D60: =IFERROR(VLOOKUP(C$5&#REF!,#REF!,2,0),"") | F60: =IFERROR(VLOOKUP(F$5&$A58,표1[],6,0),"") | G60: =IFERROR(VLOOKUP(F$5&#REF!,#REF!,2,0),"") | I60: =IFERROR(VLOOKUP(I$5&$A58,표1[],6,0),"") | J60: =IFERROR(VLOOKUP(I$5&#REF!,#REF!,2,0),"") | L60: =IFERROR(VLOOKUP(L$5&$A58,표1[],6,0),"") | M60: =IFERROR(VLOOKUP(L$5&#REF!,#REF!,2,0),"") | O60: =IFERROR(VLOOKUP(O$5&$A58,표1[],6,0),"") | P60: =IFERROR(VLOOKUP(O$5&#REF!,#REF!,2,0),"") | R60: =IFERROR(VLOOKUP(R$5&$A58,표1[],6,0),"") | S60: =IFERROR(VLOOKUP(R$5&#REF!,#REF!,2,0),"") | U60: =IFERROR(VLOOKUP(U$5&$A58,표1[],6,0),"") | V60: =IFERROR(VLOOKUP(U$5&#REF!,#REF!,2,0),"") | X60: =IFERROR(VLOOKUP(X$5&$A58,표1[],6,0),"") | Y60: =IFERROR(VLOOKUP(X$5&#REF!,#REF!,2,0),"") | AA60: =IFERROR(VLOOKUP(AA$5&$A58,표1[],6,0),"") | AB60: =IFERROR(VLOOKUP(AA$5&#REF!,#REF!,2,0),"") | AD60: =IFERROR(VLOOKUP(AD$5&$A58,표1[],6,0),"") | AE60: =IFERROR(VLOOKUP(AD$5&#REF!,#REF!,2,0),"") | AG60: =IFERROR(VLOOKUP(AG$5&$A58,표1[],6,0),"") | AH60: =IFERROR(VLOOKUP(AG$5&#REF!,#REF!,2,0),"")
C61: =IFERROR(VLOOKUP(C$5&$A58,표1[],7,0),"") | D61: =IFERROR(VLOOKUP(C$5&$A58,표1[],1,0),"E") -> E | F61: =IFERROR(VLOOKUP(F$5&$A58,표1[],7,0),"") | G61: =IFERROR(VLOOKUP(F$5&$A58,표1[],1,0),"E") -> E | I61: =IFERROR(VLOOKUP(I$5&$A58,표1[],7,0),"") | J61: =IFERROR(VLOOKUP(I$5&$A58,표1[],1,0),"E") -> E | L61: =IFERROR(VLOOKUP(L$5&$A58,표1[],7,0),"") | M61: =IFERROR(VLOOKUP(L$5&$A58,표1[],1,0),"E") -> E | O61: =IFERROR(VLOOKUP(O$5&$A58,표1[],7,0),"") | P61: =IFERROR(VLOOKUP(O$5&$A58,표1[],1,0),"E") -> E | R61: =IFERROR(VLOOKUP(R$5&$A58,표1[],7,0),"") | S61: =IFERROR(VLOOKUP(R$5&$A58,표1[],1,0),"E") -> E | U61: =IFERROR(VLOOKUP(U$5&$A58,표1[],7,0),"") | V61: =IFERROR(VLOOKUP(U$5&$A58,표1[],1,0),"E") -> E | X61: =IFERROR(VLOOKUP(X$5&$A58,표1[],7,0),"") | Y61: =IFERROR(VLOOKUP(X$5&$A58,표1[],1,0),"E") -> E | AA61: =IFERROR(VLOOKUP(AA$5&$A58,표1[],7,0),"") | AB61: =IFERROR(VLOOKUP(AA$5&$A58,표1[],1,0),"E") -> E | AD61: =IFERROR(VLOOKUP(AD$5&$A58,표1[],7,0),"") | AE61: =IFERROR(VLOOKUP(AD$5&$A58,표1[],1,0),"E") -> E | AG61: =IFERROR(VLOOKUP(AG$5&$A58,표1[],7,0),"") | AH61: =IFERROR(VLOOKUP(AG$5&$A58,표1[],1,0),"E") -> E
A65: =A58+1 -> 9 | C65: =IFERROR(VLOOKUP(C$5&$A65,표1[],2,0),"") | D65: =IFERROR(VLOOKUP(C$5&$A65,표1[],9,0),"") | F65: =IFERROR(VLOOKUP(F$5&$A65,표1[],2,0),"") | G65: =IFERROR(VLOOKUP(F$5&$A65,표1[],9,0),"") | I65: =IFERROR(VLOOKUP(I$5&$A65,표1[],2,0),"") | J65: =IFERROR(VLOOKUP(I$5&$A65,표1[],9,0),"") | L65: =IFERROR(VLOOKUP(L$5&$A65,표1[],2,0),"") | M65: =IFERROR(VLOOKUP(L$5&$A65,표1[],9,0),"") | O65: =IFERROR(VLOOKUP(O$5&$A65,표1[],2,0),"") | P65: =IFERROR(VLOOKUP(O$5&$A65,표1[],9,0),"") | R65: =IFERROR(VLOOKUP(R$5&$A65,표1[],2,0),"") | S65: =IFERROR(VLOOKUP(R$5&$A65,표1[],9,0),"") | U65: =IFERROR(VLOOKUP(U$5&$A65,표1[],2,0),"") | V65: =IFERROR(VLOOKUP(U$5&$A65,표1[],9,0),"") | X65: =IFERROR(VLOOKUP(X$5&$A65,표1[],2,0),"") | Y65: =IFERROR(VLOOKUP(X$5&$A65,표1[],9,0),"") | AA65: =IFERROR(VLOOKUP(AA$5&$A65,표1[],2,0),"") | AB65: =IFERROR(VLOOKUP(AA$5&$A65,표1[],9,0),"") | AD65: =IFERROR(VLOOKUP(AD$5&$A65,표1[],2,0),"") | AE65: =IFERROR(VLOOKUP(AD$5&$A65,표1[],9,0),"") | AG65: =IFERROR(VLOOKUP(AG$5&$A65,표1[],2,0),"") | AH65: =IFERROR(VLOOKUP(AG$5&$A65,표1[],9,0),"")
C66: =IFERROR(VLOOKUP(C$5&$A65,표1[],4,0),"") | D66: =IFERROR(VLOOKUP(C$5&$A64,#REF!,2,0),"") | F66: =IFERROR(VLOOKUP(F$5&$A65,표1[],4,0),"") | G66: =IFERROR(VLOOKUP(F$5&$A64,#REF!,2,0),"") | I66: =IFERROR(VLOOKUP(I$5&$A65,표1[],4,0),"") | J66: =IFERROR(VLOOKUP(I$5&$A64,#REF!,2,0),"") | L66: =IFERROR(VLOOKUP(L$5&$A65,표1[],4,0),"") | M66: =IFERROR(VLOOKUP(L$5&$A64,#REF!,2,0),"") | O66: =IFERROR(VLOOKUP(O$5&$A65,표1[],4,0),"") | P66: =IFERROR(VLOOKUP(O$5&$A64,#REF!,2,0),"") | R66: =IFERROR(VLOOKUP(R$5&$A65,표1[],4,0),"") | S66: =IFERROR(VLOOKUP(R$5&$A64,#REF!,2,0),"") | U66: =IFERROR(VLOOKUP(U$5&$A65,표1[],4,0),"") | V66: =IFERROR(VLOOKUP(U$5&$A64,#REF!,2,0),"") | X66: =IFERROR(VLOOKUP(X$5&$A65,표1[],4,0),"") | Y66: =IFERROR(VLOOKUP(X$5&$A64,#REF!,2,0),"") | AA66: =IFERROR(VLOOKUP(AA$5&$A65,표1[],4,0),"") | AB66: =IFERROR(VLOOKUP(AA$5&$A64,#REF!,2,0),"") | AD66: =IFERROR(VLOOKUP(AD$5&$A65,표1[],4,0),"") | AE66: =IFERROR(VLOOKUP(AD$5&$A64,#REF!,2,0),"") | AG66: =IFERROR(VLOOKUP(AG$5&$A65,표1[],4,0),"") | AH66: =IFERROR(VLOOKUP(AG$5&$A64,#REF!,2,0),"")
C67: =IFERROR(VLOOKUP(C$5&$A65,표1[],6,0),"") | D67: =IFERROR(VLOOKUP(C$5&#REF!,#REF!,2,0),"") | F67: =IFERROR(VLOOKUP(F$5&$A65,표1[],6,0),"") | G67: =IFERROR(VLOOKUP(F$5&#REF!,#REF!,2,0),"") | I67: =IFERROR(VLOOKUP(I$5&$A65,표1[],6,0),"") | J67: =IFERROR(VLOOKUP(I$5&#REF!,#REF!,2,0),"") | L67: =IFERROR(VLOOKUP(L$5&$A65,표1[],6,0),"") | M67: =IFERROR(VLOOKUP(L$5&#REF!,#REF!,2,0),"") | O67: =IFERROR(VLOOKUP(O$5&$A65,표1[],6,0),"") | P67: =IFERROR(VLOOKUP(O$5&#REF!,#REF!,2,0),"") | R67: =IFERROR(VLOOKUP(R$5&$A65,표1[],6,0),"") | S67: =IFERROR(VLOOKUP(R$5&#REF!,#REF!,2,0),"") | U67: =IFERROR(VLOOKUP(U$5&$A65,표1[],6,0),"") | V67: =IFERROR(VLOOKUP(U$5&#REF!,#REF!,2,0),"") | X67: =IFERROR(VLOOKUP(X$5&$A65,표1[],6,0),"") | Y67: =IFERROR(VLOOKUP(X$5&#REF!,#REF!,2,0),"") | AA67: =IFERROR(VLOOKUP(AA$5&$A65,표1[],6,0),"") | AB67: =IFERROR(VLOOKUP(AA$5&#REF!,#REF!,2,0),"") | AD67: =IFERROR(VLOOKUP(AD$5&$A65,표1[],6,0),"") | AE67: =IFERROR(VLOOKUP(AD$5&#REF!,#REF!,2,0),"") | AG67: =IFERROR(VLOOKUP(AG$5&$A65,표1[],6,0),"") | AH67: =IFERROR(VLOOKUP(AG$5&#REF!,#REF!,2,0),"")
C68: =IFERROR(VLOOKUP(C$5&$A65,표1[],7,0),"") | D68: =IFERROR(VLOOKUP(C$5&$A65,표1[],1,0),"E") -> E | F68: =IFERROR(VLOOKUP(F$5&$A65,표1[],7,0),"") | G68: =IFERROR(VLOOKUP(F$5&$A65,표1[],1,0),"E") -> E | I68: =IFERROR(VLOOKUP(I$5&$A65,표1[],7,0),"") | J68: =IFERROR(VLOOKUP(I$5&$A65,표1[],1,0),"E") -> E | L68: =IFERROR(VLOOKUP(L$5&$A65,표1[],7,0),"") | M68: =IFERROR(VLOOKUP(L$5&$A65,표1[],1,0),"E") -> E | O68: =IFERROR(VLOOKUP(O$5&$A65,표1[],7,0),"") | P68: =IFERROR(VLOOKUP(O$5&$A65,표1[],1,0),"E") -> E | R68: =IFERROR(VLOOKUP(R$5&$A65,표1[],7,0),"") | S68: =IFERROR(VLOOKUP(R$5&$A65,표1[],1,0),"E") -> E | U68: =IFERROR(VLOOKUP(U$5&$A65,표1[],7,0),"") | V68: =IFERROR(VLOOKUP(U$5&$A65,표1[],1,0),"E") -> E | X68: =IFERROR(VLOOKUP(X$5&$A65,표1[],7,0),"") | Y68: =IFERROR(VLOOKUP(X$5&$A65,표1[],1,0),"E") -> E | AA68: =IFERROR(VLOOKUP(AA$5&$A65,표1[],7,0),"") | AB68: =IFERROR(VLOOKUP(AA$5&$A65,표1[],1,0),"E") -> E | AD68: =IFERROR(VLOOKUP(AD$5&$A65,표1[],7,0),"") | AE68: =IFERROR(VLOOKUP(AD$5&$A65,표1[],1,0),"E") -> E | AG68: =IFERROR(VLOOKUP(AG$5&$A65,표1[],7,0),"") | AH68: =IFERROR(VLOOKUP(AG$5&$A65,표1[],1,0),"E") -> E
A72: =A65+1 -> 10 | C72: =IFERROR(VLOOKUP(C$5&$A72,표1[],2,0),"") | D72: =IFERROR(VLOOKUP(C$5&$A72,표1[],9,0),"") | F72: =IFERROR(VLOOKUP(F$5&$A72,표1[],2,0),"") | G72: =IFERROR(VLOOKUP(F$5&$A72,표1[],9,0),"") | I72: =IFERROR(VLOOKUP(I$5&$A72,표1[],2,0),"") | J72: =IFERROR(VLOOKUP(I$5&$A72,표1[],9,0),"") | L72: =IFERROR(VLOOKUP(L$5&$A72,표1[],2,0),"") | M72: =IFERROR(VLOOKUP(L$5&$A72,표1[],9,0),"") | O72: =IFERROR(VLOOKUP(O$5&$A72,표1[],2,0),"") | P72: =IFERROR(VLOOKUP(O$5&$A72,표1[],9,0),"") | R72: =IFERROR(VLOOKUP(R$5&$A72,표1[],2,0),"") | S72: =IFERROR(VLOOKUP(R$5&$A72,표1[],9,0),"") | U72: =IFERROR(VLOOKUP(U$5&$A72,표1[],2,0),"") | V72: =IFERROR(VLOOKUP(U$5&$A72,표1[],9,0),"") | X72: =IFERROR(VLOOKUP(X$5&$A72,표1[],2,0),"") | Y72: =IFERROR(VLOOKUP(X$5&$A72,표1[],9,0),"") | AA72: =IFERROR(VLOOKUP(AA$5&$A72,표1[],2,0),"") | AB72: =IFERROR(VLOOKUP(AA$5&$A72,표1[],9,0),"") | AD72: =IFERROR(VLOOKUP(AD$5&$A72,표1[],2,0),"") | AE72: =IFERROR(VLOOKUP(AD$5&$A72,표1[],9,0),"") | AG72: =IFERROR(VLOOKUP(AG$5&$A72,표1[],2,0),"") | AH72: =IFERROR(VLOOKUP(AG$5&$A72,표1[],9,0),"")
C73: =IFERROR(VLOOKUP(C$5&$A72,표1[],4,0),"") | D73: =IFERROR(VLOOKUP(C$5&$A71,#REF!,2,0),"") | F73: =IFERROR(VLOOKUP(F$5&$A72,표1[],4,0),"") | G73: =IFERROR(VLOOKUP(F$5&$A71,#REF!,2,0),"") | I73: =IFERROR(VLOOKUP(I$5&$A72,표1[],4,0),"") | J73: =IFERROR(VLOOKUP(I$5&$A71,#REF!,2,0),"") | L73: =IFERROR(VLOOKUP(L$5&$A72,표1[],4,0),"") | M73: =IFERROR(VLOOKUP(L$5&$A71,#REF!,2,0),"") | O73: =IFERROR(VLOOKUP(O$5&$A72,표1[],4,0),"") | P73: =IFERROR(VLOOKUP(O$5&$A71,#REF!,2,0),"") | R73: =IFERROR(VLOOKUP(R$5&$A72,표1[],4,0),"") | S73: =IFERROR(VLOOKUP(R$5&$A71,#REF!,2,0),"") | U73: =IFERROR(VLOOKUP(U$5&$A72,표1[],4,0),"") | V73: =IFERROR(VLOOKUP(U$5&$A71,#REF!,2,0),"") | X73: =IFERROR(VLOOKUP(X$5&$A72,표1[],4,0),"") | Y73: =IFERROR(VLOOKUP(X$5&$A71,#REF!,2,0),"") | AA73: =IFERROR(VLOOKUP(AA$5&$A72,표1[],4,0),"") | AB73: =IFERROR(VLOOKUP(AA$5&$A71,#REF!,2,0),"") | AD73: =IFERROR(VLOOKUP(AD$5&$A72,표1[],4,0),"") | AE73: =IFERROR(VLOOKUP(AD$5&$A71,#REF!,2,0),"") | AG73: =IFERROR(VLOOKUP(AG$5&$A72,표1[],4,0),"") | AH73: =IFERROR(VLOOKUP(AG$5&$A71,#REF!,2,0),"")
C74: =IFERROR(VLOOKUP(C$5&$A72,표1[],6,0),"") | D74: =IFERROR(VLOOKUP(C$5&#REF!,#REF!,2,0),"") | F74: =IFERROR(VLOOKUP(F$5&$A72,표1[],6,0),"") | G74: =IFERROR(VLOOKUP(F$5&#REF!,#REF!,2,0),"") | I74: =IFERROR(VLOOKUP(I$5&$A72,표1[],6,0),"") | J74: =IFERROR(VLOOKUP(I$5&#REF!,#REF!,2,0),"") | L74: =IFERROR(VLOOKUP(L$5&$A72,표1[],6,0),"") | M74: =IFERROR(VLOOKUP(L$5&#REF!,#REF!,2,0),"") | O74: =IFERROR(VLOOKUP(O$5&$A72,표1[],6,0),"") | P74: =IFERROR(VLOOKUP(O$5&#REF!,#REF!,2,0),"") | R74: =IFERROR(VLOOKUP(R$5&$A72,표1[],6,0),"") | S74: =IFERROR(VLOOKUP(R$5&#REF!,#REF!,2,0),"") | U74: =IFERROR(VLOOKUP(U$5&$A72,표1[],6,0),"") | V74: =IFERROR(VLOOKUP(U$5&#REF!,#REF!,2,0),"") | X74: =IFERROR(VLOOKUP(X$5&$A72,표1[],6,0),"") | Y74: =IFERROR(VLOOKUP(X$5&#REF!,#REF!,2,0),"") | AA74: =IFERROR(VLOOKUP(AA$5&$A72,표1[],6,0),"") | AB74: =IFERROR(VLOOKUP(AA$5&#REF!,#REF!,2,0),"") | AD74: =IFERROR(VLOOKUP(AD$5&$A72,표1[],6,0),"") | AE74: =IFERROR(VLOOKUP(AD$5&#REF!,#REF!,2,0),"") | AG74: =IFERROR(VLOOKUP(AG$5&$A72,표1[],6,0),"") | AH74: =IFERROR(VLOOKUP(AG$5&#REF!,#REF!,2,0),"")
C75: =IFERROR(VLOOKUP(C$5&$A72,표1[],7,0),"") | D75: =IFERROR(VLOOKUP(C$5&$A72,표1[],1,0),"E") -> E | F75: =IFERROR(VLOOKUP(F$5&$A72,표1[],7,0),"") | G75: =IFERROR(VLOOKUP(F$5&$A72,표1[],1,0),"E") -> E | I75: =IFERROR(VLOOKUP(I$5&$A72,표1[],7,0),"") | J75: =IFERROR(VLOOKUP(I$5&$A72,표1[],1,0),"E") -> E | L75: =IFERROR(VLOOKUP(L$5&$A72,표1[],7,0),"") | M75: =IFERROR(VLOOKUP(L$5&$A72,표1[],1,0),"E") -> E | O75: =IFERROR(VLOOKUP(O$5&$A72,표1[],7,0),"") | P75: =IFERROR(VLOOKUP(O$5&$A72,표1[],1,0),"E") -> E | R75: =IFERROR(VLOOKUP(R$5&$A72,표1[],7,0),"") | S75: =IFERROR(VLOOKUP(R$5&$A72,표1[],1,0),"E") -> E | U75: =IFERROR(VLOOKUP(U$5&$A72,표1[],7,0),"") | V75: =IFERROR(VLOOKUP(U$5&$A72,표1[],1,0),"E") -> E | X75: =IFERROR(VLOOKUP(X$5&$A72,표1[],7,0),"") | Y75: =IFERROR(VLOOKUP(X$5&$A72,표1[],1,0),"E") -> E | AA75: =IFERROR(VLOOKUP(AA$5&$A72,표1[],7,0),"") | AB75: =IFERROR(VLOOKUP(AA$5&$A72,표1[],1,0),"E") -> E | AD75: =IFERROR(VLOOKUP(AD$5&$A72,표1[],7,0),"") | AE75: =IFERROR(VLOOKUP(AD$5&$A72,표1[],1,0),"E") -> E | AG75: =IFERROR(VLOOKUP(AG$5&$A72,표1[],7,0),"") | AH75: =IFERROR(VLOOKUP(AG$5&$A72,표1[],1,0),"E") -> E
A79: =A72+1 -> 11 | C79: =IFERROR(VLOOKUP(C$5&$A79,표1[],2,0),"") | D79: =IFERROR(VLOOKUP(C$5&$A79,표1[],9,0),"") | F79: =IFERROR(VLOOKUP(F$5&$A79,표1[],2,0),"") | G79: =IFERROR(VLOOKUP(F$5&$A79,표1[],9,0),"") | I79: =IFERROR(VLOOKUP(I$5&$A79,표1[],2,0),"") | J79: =IFERROR(VLOOKUP(I$5&$A79,표1[],9,0),"") | L79: =IFERROR(VLOOKUP(L$5&$A79,표1[],2,0),"") | M79: =IFERROR(VLOOKUP(L$5&$A79,표1[],9,0),"") | O79: =IFERROR(VLOOKUP(O$5&$A79,표1[],2,0),"") | P79: =IFERROR(VLOOKUP(O$5&$A79,표1[],9,0),"") | R79: =IFERROR(VLOOKUP(R$5&$A79,표1[],2,0),"") | S79: =IFERROR(VLOOKUP(R$5&$A79,표1[],9,0),"") | U79: =IFERROR(VLOOKUP(U$5&$A79,표1[],2,0),"") | V79: =IFERROR(VLOOKUP(U$5&$A79,표1[],9,0),"") | X79: =IFERROR(VLOOKUP(X$5&$A79,표1[],2,0),"") | Y79: =IFERROR(VLOOKUP(X$5&$A79,표1[],9,0),"") | AA79: =IFERROR(VLOOKUP(AA$5&$A79,표1[],2,0),"") | AB79: =IFERROR(VLOOKUP(AA$5&$A79,표1[],9,0),"") | AD79: =IFERROR(VLOOKUP(AD$5&$A79,표1[],2,0),"") | AE79: =IFERROR(VLOOKUP(AD$5&$A79,표1[],9,0),"") | AG79: =IFERROR(VLOOKUP(AG$5&$A79,표1[],2,0),"") | AH79: =IFERROR(VLOOKUP(AG$5&$A79,표1[],9,0),"")
C80: =IFERROR(VLOOKUP(C$5&$A79,표1[],4,0),"") | D80: =IFERROR(VLOOKUP(C$5&$A78,#REF!,2,0),"") | F80: =IFERROR(VLOOKUP(F$5&$A79,표1[],4,0),"") | G80: =IFERROR(VLOOKUP(F$5&$A78,#REF!,2,0),"") | I80: =IFERROR(VLOOKUP(I$5&$A79,표1[],4,0),"") | J80: =IFERROR(VLOOKUP(I$5&$A78,#REF!,2,0),"") | L80: =IFERROR(VLOOKUP(L$5&$A79,표1[],4,0),"") | M80: =IFERROR(VLOOKUP(L$5&$A78,#REF!,2,0),"") | O80: =IFERROR(VLOOKUP(O$5&$A79,표1[],4,0),"") | P80: =IFERROR(VLOOKUP(O$5&$A78,#REF!,2,0),"") | R80: =IFERROR(VLOOKUP(R$5&$A79,표1[],4,0),"") | S80: =IFERROR(VLOOKUP(R$5&$A78,#REF!,2,0),"") | U80: =IFERROR(VLOOKUP(U$5&$A79,표1[],4,0),"") | V80: =IFERROR(VLOOKUP(U$5&$A78,#REF!,2,0),"") | X80: =IFERROR(VLOOKUP(X$5&$A79,표1[],4,0),"") | Y80: =IFERROR(VLOOKUP(X$5&$A78,#REF!,2,0),"") | AA80: =IFERROR(VLOOKUP(AA$5&$A79,표1[],4,0),"") | AB80: =IFERROR(VLOOKUP(AA$5&$A78,#REF!,2,0),"") | AD80: =IFERROR(VLOOKUP(AD$5&$A79,표1[],4,0),"") | AE80: =IFERROR(VLOOKUP(AD$5&$A78,#REF!,2,0),"") | AG80: =IFERROR(VLOOKUP(AG$5&$A79,표1[],4,0),"") | AH80: =IFERROR(VLOOKUP(AG$5&$A78,#REF!,2,0),"")
C81: =IFERROR(VLOOKUP(C$5&$A79,표1[],6,0),"") | D81: =IFERROR(VLOOKUP(C$5&#REF!,#REF!,2,0),"") | F81: =IFERROR(VLOOKUP(F$5&$A79,표1[],6,0),"") | G81: =IFERROR(VLOOKUP(F$5&#REF!,#REF!,2,0),"") | I81: =IFERROR(VLOOKUP(I$5&$A79,표1[],6,0),"") | J81: =IFERROR(VLOOKUP(I$5&#REF!,#REF!,2,0),"") | L81: =IFERROR(VLOOKUP(L$5&$A79,표1[],6,0),"") | M81: =IFERROR(VLOOKUP(L$5&#REF!,#REF!,2,0),"") | O81: =IFERROR(VLOOKUP(O$5&$A79,표1[],6,0),"") | P81: =IFERROR(VLOOKUP(O$5&#REF!,#REF!,2,0),"") | R81: =IFERROR(VLOOKUP(R$5&$A79,표1[],6,0),"") | S81: =IFERROR(VLOOKUP(R$5&#REF!,#REF!,2,0),"") | U81: =IFERROR(VLOOKUP(U$5&$A79,표1[],6,0),"") | V81: =IFERROR(VLOOKUP(U$5&#REF!,#REF!,2,0),"") | X81: =IFERROR(VLOOKUP(X$5&$A79,표1[],6,0),"") | Y81: =IFERROR(VLOOKUP(X$5&#REF!,#REF!,2,0),"") | AA81: =IFERROR(VLOOKUP(AA$5&$A79,표1[],6,0),"") | AB81: =IFERROR(VLOOKUP(AA$5&#REF!,#REF!,2,0),"") | AD81: =IFERROR(VLOOKUP(AD$5&$A79,표1[],6,0),"") | AE81: =IFERROR(VLOOKUP(AD$5&#REF!,#REF!,2,0),"") | AG81: =IFERROR(VLOOKUP(AG$5&$A79,표1[],6,0),"") | AH81: =IFERROR(VLOOKUP(AG$5&#REF!,#REF!,2,0),"")
C82: =IFERROR(VLOOKUP(C$5&$A79,표1[],7,0),"") | D82: =IFERROR(VLOOKUP(C$5&$A79,표1[],1,0),"E") -> E | F82: =IFERROR(VLOOKUP(F$5&$A79,표1[],7,0),"") | G82: =IFERROR(VLOOKUP(F$5&$A79,표1[],1,0),"E") -> E | I82: =IFERROR(VLOOKUP(I$5&$A79,표1[],7,0),"") | J82: =IFERROR(VLOOKUP(I$5&$A79,표1[],1,0),"E") -> E | L82: =IFERROR(VLOOKUP(L$5&$A79,표1[],7,0),"") | M82: =IFERROR(VLOOKUP(L$5&$A79,표1[],1,0),"E") -> E | O82: =IFERROR(VLOOKUP(O$5&$A79,표1[],7,0),"") | P82: =IFERROR(VLOOKUP(O$5&$A79,표1[],1,0),"E") -> E | R82: =IFERROR(VLOOKUP(R$5&$A79,표1[],7,0),"") | S82: =IFERROR(VLOOKUP(R$5&$A79,표1[],1,0),"E") -> E | U82: =IFERROR(VLOOKUP(U$5&$A79,표1[],7,0),"") | V82: =IFERROR(VLOOKUP(U$5&$A79,표1[],1,0),"E") -> E | X82: =IFERROR(VLOOKUP(X$5&$A79,표1[],7,0),"") | Y82: =IFERROR(VLOOKUP(X$5&$A79,표1[],1,0),"E") -> E | AA82: =IFERROR(VLOOKUP(AA$5&$A79,표1[],7,0),"") | AB82: =IFERROR(VLOOKUP(AA$5&$A79,표1[],1,0),"E") -> E | AD82: =IFERROR(VLOOKUP(AD$5&$A79,표1[],7,0),"") | AE82: =IFERROR(VLOOKUP(AD$5&$A79,표1[],1,0),"E") -> E | AG82: =IFERROR(VLOOKUP(AG$5&$A79,표1[],7,0),"") | AH82: =IFERROR(VLOOKUP(AG$5&$A79,표1[],1,0),"E") -> E
A86: =A79+1 -> 12 | C86: =IFERROR(VLOOKUP(C$5&$A86,표1[],2,0),"") | D86: =IFERROR(VLOOKUP(C$5&$A86,표1[],9,0),"") | F86: =IFERROR(VLOOKUP(F$5&$A86,표1[],2,0),"") | G86: =IFERROR(VLOOKUP(F$5&$A86,표1[],9,0),"") | I86: =IFERROR(VLOOKUP(I$5&$A86,표1[],2,0),"") | J86: =IFERROR(VLOOKUP(I$5&$A86,표1[],9,0),"") | L86: =IFERROR(VLOOKUP(L$5&$A86,표1[],2,0),"") | M86: =IFERROR(VLOOKUP(L$5&$A86,표1[],9,0),"") | O86: =IFERROR(VLOOKUP(O$5&$A86,표1[],2,0),"") | P86: =IFERROR(VLOOKUP(O$5&$A86,표1[],9,0),"") | R86: =IFERROR(VLOOKUP(R$5&$A86,표1[],2,0),"") | S86: =IFERROR(VLOOKUP(R$5&$A86,표1[],9,0),"") | U86: =IFERROR(VLOOKUP(U$5&$A86,표1[],2,0),"") | V86: =IFERROR(VLOOKUP(U$5&$A86,표1[],9,0),"") | X86: =IFERROR(VLOOKUP(X$5&$A86,표1[],2,0),"") | Y86: =IFERROR(VLOOKUP(X$5&$A86,표1[],9,0),"") | AA86: =IFERROR(VLOOKUP(AA$5&$A86,표1[],2,0),"") | AB86: =IFERROR(VLOOKUP(AA$5&$A86,표1[],9,0),"") | AD86: =IFERROR(VLOOKUP(AD$5&$A86,표1[],2,0),"") | AE86: =IFERROR(VLOOKUP(AD$5&$A86,표1[],9,0),"") | AG86: =IFERROR(VLOOKUP(AG$5&$A86,표1[],2,0),"") | AH86: =IFERROR(VLOOKUP(AG$5&$A86,표1[],9,0),"")
C87: =IFERROR(VLOOKUP(C$5&$A86,표1[],4,0),"") | D87: =IFERROR(VLOOKUP(C$5&$A85,#REF!,2,0),"") | F87: =IFERROR(VLOOKUP(F$5&$A86,표1[],4,0),"") | G87: =IFERROR(VLOOKUP(F$5&$A85,#REF!,2,0),"") | I87: =IFERROR(VLOOKUP(I$5&$A86,표1[],4,0),"") | J87: =IFERROR(VLOOKUP(I$5&$A85,#REF!,2,0),"") | L87: =IFERROR(VLOOKUP(L$5&$A86,표1[],4,0),"") | M87: =IFERROR(VLOOKUP(L$5&$A85,#REF!,2,0),"") | O87: =IFERROR(VLOOKUP(O$5&$A86,표1[],4,0),"") | P87: =IFERROR(VLOOKUP(O$5&$A85,#REF!,2,0),"") | R87: =IFERROR(VLOOKUP(R$5&$A86,표1[],4,0),"") | S87: =IFERROR(VLOOKUP(R$5&$A85,#REF!,2,0),"") | U87: =IFERROR(VLOOKUP(U$5&$A86,표1[],4,0),"") | V87: =IFERROR(VLOOKUP(U$5&$A85,#REF!,2,0),"") | X87: =IFERROR(VLOOKUP(X$5&$A86,표1[],4,0),"") | Y87: =IFERROR(VLOOKUP(X$5&$A85,#REF!,2,0),"") | AA87: =IFERROR(VLOOKUP(AA$5&$A86,표1[],4,0),"") | AB87: =IFERROR(VLOOKUP(AA$5&$A85,#REF!,2,0),"") | AD87: =IFERROR(VLOOKUP(AD$5&$A86,표1[],4,0),"") | AE87: =IFERROR(VLOOKUP(AD$5&$A85,#REF!,2,0),"") | AG87: =IFERROR(VLOOKUP(AG$5&$A86,표1[],4,0),"") | AH87: =IFERROR(VLOOKUP(AG$5&$A85,#REF!,2,0),"")
C88: =IFERROR(VLOOKUP(C$5&$A86,표1[],6,0),"") | D88: =IFERROR(VLOOKUP(C$5&#REF!,#REF!,2,0),"") | F88: =IFERROR(VLOOKUP(F$5&$A86,표1[],6,0),"") | G88: =IFERROR(VLOOKUP(F$5&#REF!,#REF!,2,0),"") | I88: =IFERROR(VLOOKUP(I$5&$A86,표1[],6,0),"") | J88: =IFERROR(VLOOKUP(I$5&#REF!,#REF!,2,0),"") | L88: =IFERROR(VLOOKUP(L$5&$A86,표1[],6,0),"") | M88: =IFERROR(VLOOKUP(L$5&#REF!,#REF!,2,0),"") | O88: =IFERROR(VLOOKUP(O$5&$A86,표1[],6,0),"") | P88: =IFERROR(VLOOKUP(O$5&#REF!,#REF!,2,0),"") | R88: =IFERROR(VLOOKUP(R$5&$A86,표1[],6,0),"") | S88: =IFERROR(VLOOKUP(R$5&#REF!,#REF!,2,0),"") | U88: =IFERROR(VLOOKUP(U$5&$A86,표1[],6,0),"") | V88: =IFERROR(VLOOKUP(U$5&#REF!,#REF!,2,0),"") | X88: =IFERROR(VLOOKUP(X$5&$A86,표1[],6,0),"") | Y88: =IFERROR(VLOOKUP(X$5&#REF!,#REF!,2,0),"") | AA88: =IFERROR(VLOOKUP(AA$5&$A86,표1[],6,0),"") | AB88: =IFERROR(VLOOKUP(AA$5&#REF!,#REF!,2,0),"") | AD88: =IFERROR(VLOOKUP(AD$5&$A86,표1[],6,0),"") | AE88: =IFERROR(VLOOKUP(AD$5&#REF!,#REF!,2,0),"") | AG88: =IFERROR(VLOOKUP(AG$5&$A86,표1[],6,0),"") | AH88: =IFERROR(VLOOKUP(AG$5&#REF!,#REF!,2,0),"")
C89: =IFERROR(VLOOKUP(C$5&$A86,표1[],7,0),"") | D89: =IFERROR(VLOOKUP(C$5&$A86,표1[],1,0),"E") -> E | F89: =IFERROR(VLOOKUP(F$5&$A86,표1[],7,0),"") | G89: =IFERROR(VLOOKUP(F$5&$A86,표1[],1,0),"E") -> E | I89: =IFERROR(VLOOKUP(I$5&$A86,표1[],7,0),"") | J89: =IFERROR(VLOOKUP(I$5&$A86,표1[],1,0),"E") -> E | L89: =IFERROR(VLOOKUP(L$5&$A86,표1[],7,0),"") | M89: =IFERROR(VLOOKUP(L$5&$A86,표1[],1,0),"E") -> E | O89: =IFERROR(VLOOKUP(O$5&$A86,표1[],7,0),"") | P89: =IFERROR(VLOOKUP(O$5&$A86,표1[],1,0),"E") -> E | R89: =IFERROR(VLOOKUP(R$5&$A86,표1[],7,0),"") | S89: =IFERROR(VLOOKUP(R$5&$A86,표1[],1,0),"E") -> E | U89: =IFERROR(VLOOKUP(U$5&$A86,표1[],7,0),"") | V89: =IFERROR(VLOOKUP(U$5&$A86,표1[],1,0),"E") -> E | X89: =IFERROR(VLOOKUP(X$5&$A86,표1[],7,0),"") | Y89: =IFERROR(VLOOKUP(X$5&$A86,표1[],1,0),"E") -> E | AA89: =IFERROR(VLOOKUP(AA$5&$A86,표1[],7,0),"") | AB89: =IFERROR(VLOOKUP(AA$5&$A86,표1[],1,0),"E") -> E | AD89: =IFERROR(VLOOKUP(AD$5&$A86,표1[],7,0),"") | AE89: =IFERROR(VLOOKUP(AD$5&$A86,표1[],1,0),"E") -> E | AG89: =IFERROR(VLOOKUP(AG$5&$A86,표1[],7,0),"") | AH89: =IFERROR(VLOOKUP(AG$5&$A86,표1[],1,0),"E") -> E
A93: =A86+1 -> 13 | C93: =IFERROR(VLOOKUP(C$5&$A93,표1[],2,0),"") | D93: =IFERROR(VLOOKUP(C$5&$A93,표1[],9,0),"") | F93: =IFERROR(VLOOKUP(F$5&$A93,표1[],2,0),"") | G93: =IFERROR(VLOOKUP(F$5&$A93,표1[],9,0),"") | I93: =IFERROR(VLOOKUP(I$5&$A93,표1[],2,0),"") | J93: =IFERROR(VLOOKUP(I$5&$A93,표1[],9,0),"") | L93: =IFERROR(VLOOKUP(L$5&$A93,표1[],2,0),"") | M93: =IFERROR(VLOOKUP(L$5&$A93,표1[],9,0),"") | O93: =IFERROR(VLOOKUP(O$5&$A93,표1[],2,0),"") | P93: =IFERROR(VLOOKUP(O$5&$A93,표1[],9,0),"") | R93: =IFERROR(VLOOKUP(R$5&$A93,표1[],2,0),"") | S93: =IFERROR(VLOOKUP(R$5&$A93,표1[],9,0),"") | U93: =IFERROR(VLOOKUP(U$5&$A93,표1[],2,0),"") | V93: =IFERROR(VLOOKUP(U$5&$A93,표1[],9,0),"") | X93: =IFERROR(VLOOKUP(X$5&$A93,표1[],2,0),"") | Y93: =IFERROR(VLOOKUP(X$5&$A93,표1[],9,0),"") | AA93: =IFERROR(VLOOKUP(AA$5&$A93,표1[],2,0),"") | AB93: =IFERROR(VLOOKUP(AA$5&$A93,표1[],9,0),"") | AD93: =IFERROR(VLOOKUP(AD$5&$A93,표1[],2,0),"") | AE93: =IFERROR(VLOOKUP(AD$5&$A93,표1[],9,0),"") | AG93: =IFERROR(VLOOKUP(AG$5&$A93,표1[],2,0),"") | AH93: =IFERROR(VLOOKUP(AG$5&$A93,표1[],9,0),"")
C94: =IFERROR(VLOOKUP(C$5&$A93,표1[],4,0),"") | D94: =IFERROR(VLOOKUP(C$5&$A92,#REF!,2,0),"") | F94: =IFERROR(VLOOKUP(F$5&$A93,표1[],4,0),"") | G94: =IFERROR(VLOOKUP(F$5&$A92,#REF!,2,0),"") | I94: =IFERROR(VLOOKUP(I$5&$A93,표1[],4,0),"") | J94: =IFERROR(VLOOKUP(I$5&$A92,#REF!,2,0),"") | L94: =IFERROR(VLOOKUP(L$5&$A93,표1[],4,0),"") | M94: =IFERROR(VLOOKUP(L$5&$A92,#REF!,2,0),"") | O94: =IFERROR(VLOOKUP(O$5&$A93,표1[],4,0),"") | P94: =IFERROR(VLOOKUP(O$5&$A92,#REF!,2,0),"") | R94: =IFERROR(VLOOKUP(R$5&$A93,표1[],4,0),"") | S94: =IFERROR(VLOOKUP(R$5&$A92,#REF!,2,0),"") | U94: =IFERROR(VLOOKUP(U$5&$A93,표1[],4,0),"") | V94: =IFERROR(VLOOKUP(U$5&$A92,#REF!,2,0),"") | X94: =IFERROR(VLOOKUP(X$5&$A93,표1[],4,0),"") | Y94: =IFERROR(VLOOKUP(X$5&$A92,#REF!,2,0),"") | AA94: =IFERROR(VLOOKUP(AA$5&$A93,표1[],4,0),"") | AB94: =IFERROR(VLOOKUP(AA$5&$A92,#REF!,2,0),"") | AD94: =IFERROR(VLOOKUP(AD$5&$A93,표1[],4,0),"") | AE94: =IFERROR(VLOOKUP(AD$5&$A92,#REF!,2,0),"") | AG94: =IFERROR(VLOOKUP(AG$5&$A93,표1[],4,0),"") | AH94: =IFERROR(VLOOKUP(AG$5&$A92,#REF!,2,0),"")
C95: =IFERROR(VLOOKUP(C$5&$A93,표1[],6,0),"") | D95: =IFERROR(VLOOKUP(C$5&#REF!,#REF!,2,0),"") | F95: =IFERROR(VLOOKUP(F$5&$A93,표1[],6,0),"") | G95: =IFERROR(VLOOKUP(F$5&#REF!,#REF!,2,0),"") | I95: =IFERROR(VLOOKUP(I$5&$A93,표1[],6,0),"") | J95: =IFERROR(VLOOKUP(I$5&#REF!,#REF!,2,0),"") | L95: =IFERROR(VLOOKUP(L$5&$A93,표1[],6,0),"") | M95: =IFERROR(VLOOKUP(L$5&#REF!,#REF!,2,0),"") | O95: =IFERROR(VLOOKUP(O$5&$A93,표1[],6,0),"") | P95: =IFERROR(VLOOKUP(O$5&#REF!,#REF!,2,0),"") | R95: =IFERROR(VLOOKUP(R$5&$A93,표1[],6,0),"") | S95: =IFERROR(VLOOKUP(R$5&#REF!,#REF!,2,0),"") | U95: =IFERROR(VLOOKUP(U$5&$A93,표1[],6,0),"") | V95: =IFERROR(VLOOKUP(U$5&#REF!,#REF!,2,0),"") | X95: =IFERROR(VLOOKUP(X$5&$A93,표1[],6,0),"") | Y95: =IFERROR(VLOOKUP(X$5&#REF!,#REF!,2,0),"") | AA95: =IFERROR(VLOOKUP(AA$5&$A93,표1[],6,0),"") | AB95: =IFERROR(VLOOKUP(AA$5&#REF!,#REF!,2,0),"") | AD95: =IFERROR(VLOOKUP(AD$5&$A93,표1[],6,0),"") | AE95: =IFERROR(VLOOKUP(AD$5&#REF!,#REF!,2,0),"") | AG95: =IFERROR(VLOOKUP(AG$5&$A93,표1[],6,0),"") | AH95: =IFERROR(VLOOKUP(AG$5&#REF!,#REF!,2,0),"")
C96: =IFERROR(VLOOKUP(C$5&$A93,표1[],7,0),"") | D96: =IFERROR(VLOOKUP(C$5&$A93,표1[],1,0),"E") -> E | F96: =IFERROR(VLOOKUP(F$5&$A93,표1[],7,0),"") | G96: =IFERROR(VLOOKUP(F$5&$A93,표1[],1,0),"E") -> E | I96: =IFERROR(VLOOKUP(I$5&$A93,표1[],7,0),"") | J96: =IFERROR(VLOOKUP(I$5&$A93,표1[],1,0),"E") -> E | L96: =IFERROR(VLOOKUP(L$5&$A93,표1[],7,0),"") | M96: =IFERROR(VLOOKUP(L$5&$A93,표1[],1,0),"E") -> E | O96: =IFERROR(VLOOKUP(O$5&$A93,표1[],7,0),"") | P96: =IFERROR(VLOOKUP(O$5&$A93,표1[],1,0),"E") -> E | R96: =IFERROR(VLOOKUP(R$5&$A93,표1[],7,0),"") | S96: =IFERROR(VLOOKUP(R$5&$A93,표1[],1,0),"E") -> E | U96: =IFERROR(VLOOKUP(U$5&$A93,표1[],7,0),"") | V96: =IFERROR(VLOOKUP(U$5&$A93,표1[],1,0),"E") -> E | X96: =IFERROR(VLOOKUP(X$5&$A93,표1[],7,0),"") | Y96: =IFERROR(VLOOKUP(X$5&$A93,표1[],1,0),"E") -> E | AA96: =IFERROR(VLOOKUP(AA$5&$A93,표1[],7,0),"") | AB96: =IFERROR(VLOOKUP(AA$5&$A93,표1[],1,0),"E") -> E | AD96: =IFERROR(VLOOKUP(AD$5&$A93,표1[],7,0),"") | AE96: =IFERROR(VLOOKUP(AD$5&$A93,표1[],1,0),"E") -> E | AG96: =IFERROR(VLOOKUP(AG$5&$A93,표1[],7,0),"") | AH96: =IFERROR(VLOOKUP(AG$5&$A93,표1[],1,0),"E") -> E
A100: =A93+1 -> 14 | C100: =IFERROR(VLOOKUP(C$5&$A100,표1[],2,0),"") | D100: =IFERROR(VLOOKUP(C$5&$A100,표1[],9,0),"") | F100: =IFERROR(VLOOKUP(F$5&$A100,표1[],2,0),"") | G100: =IFERROR(VLOOKUP(F$5&$A100,표1[],9,0),"") | I100: =IFERROR(VLOOKUP(I$5&$A100,표1[],2,0),"") | J100: =IFERROR(VLOOKUP(I$5&$A100,표1[],9,0),"") | L100: =IFERROR(VLOOKUP(L$5&$A100,표1[],2,0),"") | M100: =IFERROR(VLOOKUP(L$5&$A100,표1[],9,0),"") | O100: =IFERROR(VLOOKUP(O$5&$A100,표1[],2,0),"") | P100: =IFERROR(VLOOKUP(O$5&$A100,표1[],9,0),"") | R100: =IFERROR(VLOOKUP(R$5&$A100,표1[],2,0),"") | S100: =IFERROR(VLOOKUP(R$5&$A100,표1[],9,0),"") | U100: =IFERROR(VLOOKUP(U$5&$A100,표1[],2,0),"") | V100: =IFERROR(VLOOKUP(U$5&$A100,표1[],9,0),"") | X100: =IFERROR(VLOOKUP(X$5&$A100,표1[],2,0),"") | Y100: =IFERROR(VLOOKUP(X$5&$A100,표1[],9,0),"") | AA100: =IFERROR(VLOOKUP(AA$5&$A100,표1[],2,0),"") | AB100: =IFERROR(VLOOKUP(AA$5&$A100,표1[],9,0),"") | AD100: =IFERROR(VLOOKUP(AD$5&$A100,표1[],2,0),"") | AE100: =IFERROR(VLOOKUP(AD$5&$A100,표1[],9,0),"") | AG100: =IFERROR(VLOOKUP(AG$5&$A100,표1[],2,0),"") | AH100: =IFERROR(VLOOKUP(AG$5&$A100,표1[],9,0),"")
C101: =IFERROR(VLOOKUP(C$5&$A100,표1[],4,0),"") | D101: =IFERROR(VLOOKUP(C$5&$A99,#REF!,2,0),"") | F101: =IFERROR(VLOOKUP(F$5&$A100,표1[],4,0),"") | G101: =IFERROR(VLOOKUP(F$5&$A99,#REF!,2,0),"") | I101: =IFERROR(VLOOKUP(I$5&$A100,표1[],4,0),"") | J101: =IFERROR(VLOOKUP(I$5&$A99,#REF!,2,0),"") | L101: =IFERROR(VLOOKUP(L$5&$A100,표1[],4,0),"") | M101: =IFERROR(VLOOKUP(L$5&$A99,#REF!,2,0),"") | O101: =IFERROR(VLOOKUP(O$5&$A100,표1[],4,0),"") | P101: =IFERROR(VLOOKUP(O$5&$A99,#REF!,2,0),"") | R101: =IFERROR(VLOOKUP(R$5&$A100,표1[],4,0),"") | S101: =IFERROR(VLOOKUP(R$5&$A99,#REF!,2,0),"") | U101: =IFERROR(VLOOKUP(U$5&$A100,표1[],4,0),"") | V101: =IFERROR(VLOOKUP(U$5&$A99,#REF!,2,0),"") | X101: =IFERROR(VLOOKUP(X$5&$A100,표1[],4,0),"") | Y101: =IFERROR(VLOOKUP(X$5&$A99,#REF!,2,0),"") | AA101: =IFERROR(VLOOKUP(AA$5&$A100,표1[],4,0),"") | AB101: =IFERROR(VLOOKUP(AA$5&$A99,#REF!,2,0),"") | AD101: =IFERROR(VLOOKUP(AD$5&$A100,표1[],4,0),"") | AE101: =IFERROR(VLOOKUP(AD$5&$A99,#REF!,2,0),"") | AG101: =IFERROR(VLOOKUP(AG$5&$A100,표1[],4,0),"") | AH101: =IFERROR(VLOOKUP(AG$5&$A99,#REF!,2,0),"")
C102: =IFERROR(VLOOKUP(C$5&$A100,표1[],6,0),"") | D102: =IFERROR(VLOOKUP(C$5&#REF!,#REF!,2,0),"") | F102: =IFERROR(VLOOKUP(F$5&$A100,표1[],6,0),"") | G102: =IFERROR(VLOOKUP(F$5&#REF!,#REF!,2,0),"") | I102: =IFERROR(VLOOKUP(I$5&$A100,표1[],6,0),"") | J102: =IFERROR(VLOOKUP(I$5&#REF!,#REF!,2,0),"") | L102: =IFERROR(VLOOKUP(L$5&$A100,표1[],6,0),"") | M102: =IFERROR(VLOOKUP(L$5&#REF!,#REF!,2,0),"") | O102: =IFERROR(VLOOKUP(O$5&$A100,표1[],6,0),"") | P102: =IFERROR(VLOOKUP(O$5&#REF!,#REF!,2,0),"") | R102: =IFERROR(VLOOKUP(R$5&$A100,표1[],6,0),"") | S102: =IFERROR(VLOOKUP(R$5&#REF!,#REF!,2,0),"") | U102: =IFERROR(VLOOKUP(U$5&$A100,표1[],6,0),"") | V102: =IFERROR(VLOOKUP(U$5&#REF!,#REF!,2,0),"") | X102: =IFERROR(VLOOKUP(X$5&$A100,표1[],6,0),"") | Y102: =IFERROR(VLOOKUP(X$5&#REF!,#REF!,2,0),"") | AA102: =IFERROR(VLOOKUP(AA$5&$A100,표1[],6,0),"") | AB102: =IFERROR(VLOOKUP(AA$5&#REF!,#REF!,2,0),"") | AD102: =IFERROR(VLOOKUP(AD$5&$A100,표1[],6,0),"") | AE102: =IFERROR(VLOOKUP(AD$5&#REF!,#REF!,2,0),"") | AG102: =IFERROR(VLOOKUP(AG$5&$A100,표1[],6,0),"") | AH102: =IFERROR(VLOOKUP(AG$5&#REF!,#REF!,2,0),"")
C103: =IFERROR(VLOOKUP(C$5&$A100,표1[],7,0),"") | D103: =IFERROR(VLOOKUP(C$5&$A100,표1[],1,0),"E") -> E | F103: =IFERROR(VLOOKUP(F$5&$A100,표1[],7,0),"") | G103: =IFERROR(VLOOKUP(F$5&$A100,표1[],1,0),"E") -> E | I103: =IFERROR(VLOOKUP(I$5&$A100,표1[],7,0),"") | J103: =IFERROR(VLOOKUP(I$5&$A100,표1[],1,0),"E") -> E | L103: =IFERROR(VLOOKUP(L$5&$A100,표1[],7,0),"") | M103: =IFERROR(VLOOKUP(L$5&$A100,표1[],1,0),"E") -> E | O103: =IFERROR(VLOOKUP(O$5&$A100,표1[],7,0),"") | P103: =IFERROR(VLOOKUP(O$5&$A100,표1[],1,0),"E") -> E | R103: =IFERROR(VLOOKUP(R$5&$A100,표1[],7,0),"") | S103: =IFERROR(VLOOKUP(R$5&$A100,표1[],1,0),"E") -> E | U103: =IFERROR(VLOOKUP(U$5&$A100,표1[],7,0),"") | V103: =IFERROR(VLOOKUP(U$5&$A100,표1[],1,0),"E") -> E | X103: =IFERROR(VLOOKUP(X$5&$A100,표1[],7,0),"") | Y103: =IFERROR(VLOOKUP(X$5&$A100,표1[],1,0),"E") -> E | AA103: =IFERROR(VLOOKUP(AA$5&$A100,표1[],7,0),"") | AB103: =IFERROR(VLOOKUP(AA$5&$A100,표1[],1,0),"E") -> E | AD103: =IFERROR(VLOOKUP(AD$5&$A100,표1[],7,0),"") | AE103: =IFERROR(VLOOKUP(AD$5&$A100,표1[],1,0),"E") -> E | AG103: =IFERROR(VLOOKUP(AG$5&$A100,표1[],7,0),"") | AH103: =IFERROR(VLOOKUP(AG$5&$A100,표1[],1,0),"E") -> E
A107: =A100+1 -> 15 | C107: =IFERROR(VLOOKUP(C$5&$A107,표1[],2,0),"") | D107: =IFERROR(VLOOKUP(C$5&$A107,표1[],9,0),"") | F107: =IFERROR(VLOOKUP(F$5&$A107,표1[],2,0),"") | G107: =IFERROR(VLOOKUP(F$5&$A107,표1[],9,0),"") | I107: =IFERROR(VLOOKUP(I$5&$A107,표1[],2,0),"") | J107: =IFERROR(VLOOKUP(I$5&$A107,표1[],9,0),"") | L107: =IFERROR(VLOOKUP(L$5&$A107,표1[],2,0),"") | M107: =IFERROR(VLOOKUP(L$5&$A107,표1[],9,0),"") | O107: =IFERROR(VLOOKUP(O$5&$A107,표1[],2,0),"") | P107: =IFERROR(VLOOKUP(O$5&$A107,표1[],9,0),"") | R107: =IFERROR(VLOOKUP(R$5&$A107,표1[],2,0),"") | S107: =IFERROR(VLOOKUP(R$5&$A107,표1[],9,0),"") | U107: =IFERROR(VLOOKUP(U$5&$A107,표1[],2,0),"") | V107: =IFERROR(VLOOKUP(U$5&$A107,표1[],9,0),"") | X107: =IFERROR(VLOOKUP(X$5&$A107,표1[],2,0),"") | Y107: =IFERROR(VLOOKUP(X$5&$A107,표1[],9,0),"") | AA107: =IFERROR(VLOOKUP(AA$5&$A107,표1[],2,0),"") | AB107: =IFERROR(VLOOKUP(AA$5&$A107,표1[],9,0),"") | AD107: =IFERROR(VLOOKUP(AD$5&$A107,표1[],2,0),"") | AE107: =IFERROR(VLOOKUP(AD$5&$A107,표1[],9,0),"") | AG107: =IFERROR(VLOOKUP(AG$5&$A107,표1[],2,0),"") | AH107: =IFERROR(VLOOKUP(AG$5&$A107,표1[],9,0),"")
C108: =IFERROR(VLOOKUP(C$5&$A107,표1[],4,0),"") | D108: =IFERROR(VLOOKUP(C$5&$A106,#REF!,2,0),"") | F108: =IFERROR(VLOOKUP(F$5&$A107,표1[],4,0),"") | G108: =IFERROR(VLOOKUP(F$5&$A106,#REF!,2,0),"") | I108: =IFERROR(VLOOKUP(I$5&$A107,표1[],4,0),"") | J108: =IFERROR(VLOOKUP(I$5&$A106,#REF!,2,0),"") | L108: =IFERROR(VLOOKUP(L$5&$A107,표1[],4,0),"") | M108: =IFERROR(VLOOKUP(L$5&$A106,#REF!,2,0),"") | O108: =IFERROR(VLOOKUP(O$5&$A107,표1[],4,0),"") | P108: =IFERROR(VLOOKUP(O$5&$A106,#REF!,2,0),"") | R108: =IFERROR(VLOOKUP(R$5&$A107,표1[],4,0),"") | S108: =IFERROR(VLOOKUP(R$5&$A106,#REF!,2,0),"") | U108: =IFERROR(VLOOKUP(U$5&$A107,표1[],4,0),"") | V108: =IFERROR(VLOOKUP(U$5&$A106,#REF!,2,0),"") | X108: =IFERROR(VLOOKUP(X$5&$A107,표1[],4,0),"") | Y108: =IFERROR(VLOOKUP(X$5&$A106,#REF!,2,0),"") | AA108: =IFERROR(VLOOKUP(AA$5&$A107,표1[],4,0),"") | AB108: =IFERROR(VLOOKUP(AA$5&$A106,#REF!,2,0),"") | AD108: =IFERROR(VLOOKUP(AD$5&$A107,표1[],4,0),"") | AE108: =IFERROR(VLOOKUP(AD$5&$A106,#REF!,2,0),"") | AG108: =IFERROR(VLOOKUP(AG$5&$A107,표1[],4,0),"") | AH108: =IFERROR(VLOOKUP(AG$5&$A106,#REF!,2,0),"")
C109: =IFERROR(VLOOKUP(C$5&$A107,표1[],6,0),"") | D109: =IFERROR(VLOOKUP(C$5&#REF!,#REF!,2,0),"") | F109: =IFERROR(VLOOKUP(F$5&$A107,표1[],6,0),"") | G109: =IFERROR(VLOOKUP(F$5&#REF!,#REF!,2,0),"") | I109: =IFERROR(VLOOKUP(I$5&$A107,표1[],6,0),"") | J109: =IFERROR(VLOOKUP(I$5&#REF!,#REF!,2,0),"") | L109: =IFERROR(VLOOKUP(L$5&$A107,표1[],6,0),"") | M109: =IFERROR(VLOOKUP(L$5&#REF!,#REF!,2,0),"") | O109: =IFERROR(VLOOKUP(O$5&$A107,표1[],6,0),"") | P109: =IFERROR(VLOOKUP(O$5&#REF!,#REF!,2,0),"") | R109: =IFERROR(VLOOKUP(R$5&$A107,표1[],6,0),"") | S109: =IFERROR(VLOOKUP(R$5&#REF!,#REF!,2,0),"") | U109: =IFERROR(VLOOKUP(U$5&$A107,표1[],6,0),"") | V109: =IFERROR(VLOOKUP(U$5&#REF!,#REF!,2,0),"") | X109: =IFERROR(VLOOKUP(X$5&$A107,표1[],6,0),"") | Y109: =IFERROR(VLOOKUP(X$5&#REF!,#REF!,2,0),"") | AA109: =IFERROR(VLOOKUP(AA$5&$A107,표1[],6,0),"") | AB109: =IFERROR(VLOOKUP(AA$5&#REF!,#REF!,2,0),"") | AD109: =IFERROR(VLOOKUP(AD$5&$A107,표1[],6,0),"") | AE109: =IFERROR(VLOOKUP(AD$5&#REF!,#REF!,2,0),"") | AG109: =IFERROR(VLOOKUP(AG$5&$A107,표1[],6,0),"") | AH109: =IFERROR(VLOOKUP(AG$5&#REF!,#REF!,2,0),"")
C110: =IFERROR(VLOOKUP(C$5&$A107,표1[],7,0),"") | D110: =IFERROR(VLOOKUP(C$5&$A107,표1[],1,0),"E") -> E | F110: =IFERROR(VLOOKUP(F$5&$A107,표1[],7,0),"") | G110: =IFERROR(VLOOKUP(F$5&$A107,표1[],1,0),"E") -> E | I110: =IFERROR(VLOOKUP(I$5&$A107,표1[],7,0),"") | J110: =IFERROR(VLOOKUP(I$5&$A107,표1[],1,0),"E") -> E | L110: =IFERROR(VLOOKUP(L$5&$A107,표1[],7,0),"") | M110: =IFERROR(VLOOKUP(L$5&$A107,표1[],1,0),"E") -> E | O110: =IFERROR(VLOOKUP(O$5&$A107,표1[],7,0),"") | P110: =IFERROR(VLOOKUP(O$5&$A107,표1[],1,0),"E") -> E | R110: =IFERROR(VLOOKUP(R$5&$A107,표1[],7,0),"") | S110: =IFERROR(VLOOKUP(R$5&$A107,표1[],1,0),"E") -> E | U110: =IFERROR(VLOOKUP(U$5&$A107,표1[],7,0),"") | V110: =IFERROR(VLOOKUP(U$5&$A107,표1[],1,0),"E") -> E | X110: =IFERROR(VLOOKUP(X$5&$A107,표1[],7,0),"") | Y110: =IFERROR(VLOOKUP(X$5&$A107,표1[],1,0),"E") -> E | AA110: =IFERROR(VLOOKUP(AA$5&$A107,표1[],7,0),"") | AB110: =IFERROR(VLOOKUP(AA$5&$A107,표1[],1,0),"E") -> E | AD110: =IFERROR(VLOOKUP(AD$5&$A107,표1[],7,0),"") | AE110: =IFERROR(VLOOKUP(AD$5&$A107,표1[],1,0),"E") -> E | AG110: =IFERROR(VLOOKUP(AG$5&$A107,표1[],7,0),"") | AH110: =IFERROR(VLOOKUP(AG$5&$A107,표1[],1,0),"E") -> E
A114: =A107+1 -> 16 | C114: =IFERROR(VLOOKUP(C$5&$A114,표1[],2,0),"") | D114: =IFERROR(VLOOKUP(C$5&$A114,표1[],9,0),"") | F114: =IFERROR(VLOOKUP(F$5&$A114,표1[],2,0),"") | G114: =IFERROR(VLOOKUP(F$5&$A114,표1[],9,0),"") | I114: =IFERROR(VLOOKUP(I$5&$A114,표1[],2,0),"") | J114: =IFERROR(VLOOKUP(I$5&$A114,표1[],9,0),"") | L114: =IFERROR(VLOOKUP(L$5&$A114,표1[],2,0),"") | M114: =IFERROR(VLOOKUP(L$5&$A114,표1[],9,0),"") | O114: =IFERROR(VLOOKUP(O$5&$A114,표1[],2,0),"") | P114: =IFERROR(VLOOKUP(O$5&$A114,표1[],9,0),"") | R114: =IFERROR(VLOOKUP(R$5&$A114,표1[],2,0),"") | S114: =IFERROR(VLOOKUP(R$5&$A114,표1[],9,0),"") | U114: =IFERROR(VLOOKUP(U$5&$A114,표1[],2,0),"") | V114: =IFERROR(VLOOKUP(U$5&$A114,표1[],9,0),"") | X114: =IFERROR(VLOOKUP(X$5&$A114,표1[],2,0),"") | Y114: =IFERROR(VLOOKUP(X$5&$A114,표1[],9,0),"") | AA114: =IFERROR(VLOOKUP(AA$5&$A114,표1[],2,0),"") | AB114: =IFERROR(VLOOKUP(AA$5&$A114,표1[],9,0),"") | AD114: =IFERROR(VLOOKUP(AD$5&$A114,표1[],2,0),"") | AE114: =IFERROR(VLOOKUP(AD$5&$A114,표1[],9,0),"") | AG114: =IFERROR(VLOOKUP(AG$5&$A114,표1[],2,0),"") | AH114: =IFERROR(VLOOKUP(AG$5&$A114,표1[],9,0),"")
C115: =IFERROR(VLOOKUP(C$5&$A114,표1[],4,0),"") | D115: =IFERROR(VLOOKUP(C$5&$A113,#REF!,2,0),"") | F115: =IFERROR(VLOOKUP(F$5&$A114,표1[],4,0),"") | G115: =IFERROR(VLOOKUP(F$5&$A113,#REF!,2,0),"") | I115: =IFERROR(VLOOKUP(I$5&$A114,표1[],4,0),"") | J115: =IFERROR(VLOOKUP(I$5&$A113,#REF!,2,0),"") | L115: =IFERROR(VLOOKUP(L$5&$A114,표1[],4,0),"") | M115: =IFERROR(VLOOKUP(L$5&$A113,#REF!,2,0),"") | O115: =IFERROR(VLOOKUP(O$5&$A114,표1[],4,0),"") | P115: =IFERROR(VLOOKUP(O$5&$A113,#REF!,2,0),"") | R115: =IFERROR(VLOOKUP(R$5&$A114,표1[],4,0),"") | S115: =IFERROR(VLOOKUP(R$5&$A113,#REF!,2,0),"") | U115: =IFERROR(VLOOKUP(U$5&$A114,표1[],4,0),"") | V115: =IFERROR(VLOOKUP(U$5&$A113,#REF!,2,0),"") | X115: =IFERROR(VLOOKUP(X$5&$A114,표1[],4,0),"") | Y115: =IFERROR(VLOOKUP(X$5&$A113,#REF!,2,0),"") | AA115: =IFERROR(VLOOKUP(AA$5&$A114,표1[],4,0),"") | AB115: =IFERROR(VLOOKUP(AA$5&$A113,#REF!,2,0),"") | AD115: =IFERROR(VLOOKUP(AD$5&$A114,표1[],4,0),"") | AE115: =IFERROR(VLOOKUP(AD$5&$A113,#REF!,2,0),"") | AG115: =IFERROR(VLOOKUP(AG$5&$A114,표1[],4,0),"") | AH115: =IFERROR(VLOOKUP(AG$5&$A113,#REF!,2,0),"")
C116: =IFERROR(VLOOKUP(C$5&$A114,표1[],6,0),"") | D116: =IFERROR(VLOOKUP(C$5&#REF!,#REF!,2,0),"") | F116: =IFERROR(VLOOKUP(F$5&$A114,표1[],6,0),"") | G116: =IFERROR(VLOOKUP(F$5&#REF!,#REF!,2,0),"") | I116: =IFERROR(VLOOKUP(I$5&$A114,표1[],6,0),"") | J116: =IFERROR(VLOOKUP(I$5&#REF!,#REF!,2,0),"") | L116: =IFERROR(VLOOKUP(L$5&$A114,표1[],6,0),"") | M116: =IFERROR(VLOOKUP(L$5&#REF!,#REF!,2,0),"") | O116: =IFERROR(VLOOKUP(O$5&$A114,표1[],6,0),"") | P116: =IFERROR(VLOOKUP(O$5&#REF!,#REF!,2,0),"") | R116: =IFERROR(VLOOKUP(R$5&$A114,표1[],6,0),"") | S116: =IFERROR(VLOOKUP(R$5&#REF!,#REF!,2,0),"") | U116: =IFERROR(VLOOKUP(U$5&$A114,표1[],6,0),"") | V116: =IFERROR(VLOOKUP(U$5&#REF!,#REF!,2,0),"") | X116: =IFERROR(VLOOKUP(X$5&$A114,표1[],6,0),"") | Y116: =IFERROR(VLOOKUP(X$5&#REF!,#REF!,2,0),"") | AA116: =IFERROR(VLOOKUP(AA$5&$A114,표1[],6,0),"") | AB116: =IFERROR(VLOOKUP(AA$5&#REF!,#REF!,2,0),"") | AD116: =IFERROR(VLOOKUP(AD$5&$A114,표1[],6,0),"") | AE116: =IFERROR(VLOOKUP(AD$5&#REF!,#REF!,2,0),"") | AG116: =IFERROR(VLOOKUP(AG$5&$A114,표1[],6,0),"") | AH116: =IFERROR(VLOOKUP(AG$5&#REF!,#REF!,2,0),"")
C117: =IFERROR(VLOOKUP(C$5&$A114,표1[],7,0),"") | D117: =IFERROR(VLOOKUP(C$5&$A114,표1[],1,0),"E") -> E | F117: =IFERROR(VLOOKUP(F$5&$A114,표1[],7,0),"") | G117: =IFERROR(VLOOKUP(F$5&$A114,표1[],1,0),"E") -> E | I117: =IFERROR(VLOOKUP(I$5&$A114,표1[],7,0),"") | J117: =IFERROR(VLOOKUP(I$5&$A114,표1[],1,0),"E") -> E | L117: =IFERROR(VLOOKUP(L$5&$A114,표1[],7,0),"") | M117: =IFERROR(VLOOKUP(L$5&$A114,표1[],1,0),"E") -> E | O117: =IFERROR(VLOOKUP(O$5&$A114,표1[],7,0),"") | P117: =IFERROR(VLOOKUP(O$5&$A114,표1[],1,0),"E") -> E | R117: =IFERROR(VLOOKUP(R$5&$A114,표1[],7,0),"") | S117: =IFERROR(VLOOKUP(R$5&$A114,표1[],1,0),"E") -> E | U117: =IFERROR(VLOOKUP(U$5&$A114,표1[],7,0),"") | V117: =IFERROR(VLOOKUP(U$5&$A114,표1[],1,0),"E") -> E | X117: =IFERROR(VLOOKUP(X$5&$A114,표1[],7,0),"") | Y117: =IFERROR(VLOOKUP(X$5&$A114,표1[],1,0),"E") -> E | AA117: =IFERROR(VLOOKUP(AA$5&$A114,표1[],7,0),"") | AB117: =IFERROR(VLOOKUP(AA$5&$A114,표1[],1,0),"E") -> E | AD117: =IFERROR(VLOOKUP(AD$5&$A114,표1[],7,0),"") | AE117: =IFERROR(VLOOKUP(AD$5&$A114,표1[],1,0),"E") -> E | AG117: =IFERROR(VLOOKUP(AG$5&$A114,표1[],7,0),"") | AH117: =IFERROR(VLOOKUP(AG$5&$A114,표1[],1,0),"E") -> E
A121: =A114+1 -> 17 | C121: =IFERROR(VLOOKUP(C$5&$A121,표1[],2,0),"") | D121: =IFERROR(VLOOKUP(C$5&$A121,표1[],9,0),"") | F121: =IFERROR(VLOOKUP(F$5&$A121,표1[],2,0),"") | G121: =IFERROR(VLOOKUP(F$5&$A121,표1[],9,0),"") | I121: =IFERROR(VLOOKUP(I$5&$A121,표1[],2,0),"") | J121: =IFERROR(VLOOKUP(I$5&$A121,표1[],9,0),"") | L121: =IFERROR(VLOOKUP(L$5&$A121,표1[],2,0),"") | M121: =IFERROR(VLOOKUP(L$5&$A121,표1[],9,0),"") | O121: =IFERROR(VLOOKUP(O$5&$A121,표1[],2,0),"") | P121: =IFERROR(VLOOKUP(O$5&$A121,표1[],9,0),"") | R121: =IFERROR(VLOOKUP(R$5&$A121,표1[],2,0),"") | S121: =IFERROR(VLOOKUP(R$5&$A121,표1[],9,0),"") | U121: =IFERROR(VLOOKUP(U$5&$A121,표1[],2,0),"") | V121: =IFERROR(VLOOKUP(U$5&$A121,표1[],9,0),"") | X121: =IFERROR(VLOOKUP(X$5&$A121,표1[],2,0),"") | Y121: =IFERROR(VLOOKUP(X$5&$A121,표1[],9,0),"") | AA121: =IFERROR(VLOOKUP(AA$5&$A121,표1[],2,0),"") | AB121: =IFERROR(VLOOKUP(AA$5&$A121,표1[],9,0),"") | AD121: =IFERROR(VLOOKUP(AD$5&$A121,표1[],2,0),"") | AE121: =IFERROR(VLOOKUP(AD$5&$A121,표1[],9,0),"") | AG121: =IFERROR(VLOOKUP(AG$5&$A121,표1[],2,0),"") | AH121: =IFERROR(VLOOKUP(AG$5&$A121,표1[],9,0),"")
C122: =IFERROR(VLOOKUP(C$5&$A121,표1[],4,0),"") | D122: =IFERROR(VLOOKUP(C$5&$A120,#REF!,2,0),"") | F122: =IFERROR(VLOOKUP(F$5&$A121,표1[],4,0),"") | G122: =IFERROR(VLOOKUP(F$5&$A120,#REF!,2,0),"") | I122: =IFERROR(VLOOKUP(I$5&$A121,표1[],4,0),"") | J122: =IFERROR(VLOOKUP(I$5&$A120,#REF!,2,0),"") | L122: =IFERROR(VLOOKUP(L$5&$A121,표1[],4,0),"") | M122: =IFERROR(VLOOKUP(L$5&$A120,#REF!,2,0),"") | O122: =IFERROR(VLOOKUP(O$5&$A121,표1[],4,0),"") | P122: =IFERROR(VLOOKUP(O$5&$A120,#REF!,2,0),"") | R122: =IFERROR(VLOOKUP(R$5&$A121,표1[],4,0),"") | S122: =IFERROR(VLOOKUP(R$5&$A120,#REF!,2,0),"") | U122: =IFERROR(VLOOKUP(U$5&$A121,표1[],4,0),"") | V122: =IFERROR(VLOOKUP(U$5&$A120,#REF!,2,0),"") | X122: =IFERROR(VLOOKUP(X$5&$A121,표1[],4,0),"") | Y122: =IFERROR(VLOOKUP(X$5&$A120,#REF!,2,0),"") | AA122: =IFERROR(VLOOKUP(AA$5&$A121,표1[],4,0),"") | AB122: =IFERROR(VLOOKUP(AA$5&$A120,#REF!,2,0),"") | AD122: =IFERROR(VLOOKUP(AD$5&$A121,표1[],4,0),"") | AE122: =IFERROR(VLOOKUP(AD$5&$A120,#REF!,2,0),"") | AG122: =IFERROR(VLOOKUP(AG$5&$A121,표1[],4,0),"") | AH122: =IFERROR(VLOOKUP(AG$5&$A120,#REF!,2,0),"")
C123: =IFERROR(VLOOKUP(C$5&$A121,표1[],6,0),"") | D123: =IFERROR(VLOOKUP(C$5&#REF!,#REF!,2,0),"") | F123: =IFERROR(VLOOKUP(F$5&$A121,표1[],6,0),"") | G123: =IFERROR(VLOOKUP(F$5&#REF!,#REF!,2,0),"") | I123: =IFERROR(VLOOKUP(I$5&$A121,표1[],6,0),"") | J123: =IFERROR(VLOOKUP(I$5&#REF!,#REF!,2,0),"") | L123: =IFERROR(VLOOKUP(L$5&$A121,표1[],6,0),"") | M123: =IFERROR(VLOOKUP(L$5&#REF!,#REF!,2,0),"") | O123: =IFERROR(VLOOKUP(O$5&$A121,표1[],6,0),"") | P123: =IFERROR(VLOOKUP(O$5&#REF!,#REF!,2,0),"") | R123: =IFERROR(VLOOKUP(R$5&$A121,표1[],6,0),"") | S123: =IFERROR(VLOOKUP(R$5&#REF!,#REF!,2,0),"") | U123: =IFERROR(VLOOKUP(U$5&$A121,표1[],6,0),"") | V123: =IFERROR(VLOOKUP(U$5&#REF!,#REF!,2,0),"") | X123: =IFERROR(VLOOKUP(X$5&$A121,표1[],6,0),"") | Y123: =IFERROR(VLOOKUP(X$5&#REF!,#REF!,2,0),"") | AA123: =IFERROR(VLOOKUP(AA$5&$A121,표1[],6,0),"") | AB123: =IFERROR(VLOOKUP(AA$5&#REF!,#REF!,2,0),"") | AD123: =IFERROR(VLOOKUP(AD$5&$A121,표1[],6,0),"") | AE123: =IFERROR(VLOOKUP(AD$5&#REF!,#REF!,2,0),"") | AG123: =IFERROR(VLOOKUP(AG$5&$A121,표1[],6,0),"") | AH123: =IFERROR(VLOOKUP(AG$5&#REF!,#REF!,2,0),"")
C124: =IFERROR(VLOOKUP(C$5&$A121,표1[],7,0),"") | D124: =IFERROR(VLOOKUP(C$5&$A121,표1[],1,0),"E") -> E | F124: =IFERROR(VLOOKUP(F$5&$A121,표1[],7,0),"") | G124: =IFERROR(VLOOKUP(F$5&$A121,표1[],1,0),"E") -> E | I124: =IFERROR(VLOOKUP(I$5&$A121,표1[],7,0),"") | J124: =IFERROR(VLOOKUP(I$5&$A121,표1[],1,0),"E") -> E | L124: =IFERROR(VLOOKUP(L$5&$A121,표1[],7,0),"") | M124: =IFERROR(VLOOKUP(L$5&$A121,표1[],1,0),"E") -> E | O124: =IFERROR(VLOOKUP(O$5&$A121,표1[],7,0),"") | P124: =IFERROR(VLOOKUP(O$5&$A121,표1[],1,0),"E") -> E | R124: =IFERROR(VLOOKUP(R$5&$A121,표1[],7,0),"") | S124: =IFERROR(VLOOKUP(R$5&$A121,표1[],1,0),"E") -> E | U124: =IFERROR(VLOOKUP(U$5&$A121,표1[],7,0),"") | V124: =IFERROR(VLOOKUP(U$5&$A121,표1[],1,0),"E") -> E | X124: =IFERROR(VLOOKUP(X$5&$A121,표1[],7,0),"") | Y124: =IFERROR(VLOOKUP(X$5&$A121,표1[],1,0),"E") -> E | AA124: =IFERROR(VLOOKUP(AA$5&$A121,표1[],7,0),"") | AB124: =IFERROR(VLOOKUP(AA$5&$A121,표1[],1,0),"E") -> E | AD124: =IFERROR(VLOOKUP(AD$5&$A121,표1[],7,0),"") | AE124: =IFERROR(VLOOKUP(AD$5&$A121,표1[],1,0),"E") -> E | AG124: =IFERROR(VLOOKUP(AG$5&$A121,표1[],7,0),"") | AH124: =IFERROR(VLOOKUP(AG$5&$A121,표1[],1,0),"E") -> E
A128: =A121+1 -> 18 | C128: =IFERROR(VLOOKUP(C$5&$A128,표1[],2,0),"") | D128: =IFERROR(VLOOKUP(C$5&$A128,표1[],9,0),"") | F128: =IFERROR(VLOOKUP(F$5&$A128,표1[],2,0),"") | G128: =IFERROR(VLOOKUP(F$5&$A128,표1[],9,0),"") | I128: =IFERROR(VLOOKUP(I$5&$A128,표1[],2,0),"") | J128: =IFERROR(VLOOKUP(I$5&$A128,표1[],9,0),"") | L128: =IFERROR(VLOOKUP(L$5&$A128,표1[],2,0),"") | M128: =IFERROR(VLOOKUP(L$5&$A128,표1[],9,0),"") | O128: =IFERROR(VLOOKUP(O$5&$A128,표1[],2,0),"") | P128: =IFERROR(VLOOKUP(O$5&$A128,표1[],9,0),"") | R128: =IFERROR(VLOOKUP(R$5&$A128,표1[],2,0),"") | S128: =IFERROR(VLOOKUP(R$5&$A128,표1[],9,0),"") | U128: =IFERROR(VLOOKUP(U$5&$A128,표1[],2,0),"") | V128: =IFERROR(VLOOKUP(U$5&$A128,표1[],9,0),"") | X128: =IFERROR(VLOOKUP(X$5&$A128,표1[],2,0),"") | Y128: =IFERROR(VLOOKUP(X$5&$A128,표1[],9,0),"") | AA128: =IFERROR(VLOOKUP(AA$5&$A128,표1[],2,0),"") | AB128: =IFERROR(VLOOKUP(AA$5&$A128,표1[],9,0),"") | AD128: =IFERROR(VLOOKUP(AD$5&$A128,표1[],2,0),"") | AE128: =IFERROR(VLOOKUP(AD$5&$A128,표1[],9,0),"") | AG128: =IFERROR(VLOOKUP(AG$5&$A128,표1[],2,0),"") | AH128: =IFERROR(VLOOKUP(AG$5&$A128,표1[],9,0),"")
C129: =IFERROR(VLOOKUP(C$5&$A128,표1[],4,0),"") | D129: =IFERROR(VLOOKUP(C$5&$A127,#REF!,2,0),"") | F129: =IFERROR(VLOOKUP(F$5&$A128,표1[],4,0),"") | G129: =IFERROR(VLOOKUP(F$5&$A127,#REF!,2,0),"") | I129: =IFERROR(VLOOKUP(I$5&$A128,표1[],4,0),"") | J129: =IFERROR(VLOOKUP(I$5&$A127,#REF!,2,0),"") | L129: =IFERROR(VLOOKUP(L$5&$A128,표1[],4,0),"") | M129: =IFERROR(VLOOKUP(L$5&$A127,#REF!,2,0),"") | O129: =IFERROR(VLOOKUP(O$5&$A128,표1[],4,0),"") | P129: =IFERROR(VLOOKUP(O$5&$A127,#REF!,2,0),"") | R129: =IFERROR(VLOOKUP(R$5&$A128,표1[],4,0),"") | S129: =IFERROR(VLOOKUP(R$5&$A127,#REF!,2,0),"") | U129: =IFERROR(VLOOKUP(U$5&$A128,표1[],4,0),"") | V129: =IFERROR(VLOOKUP(U$5&$A127,#REF!,2,0),"") | X129: =IFERROR(VLOOKUP(X$5&$A128,표1[],4,0),"") | Y129: =IFERROR(VLOOKUP(X$5&$A127,#REF!,2,0),"") | AA129: =IFERROR(VLOOKUP(AA$5&$A128,표1[],4,0),"") | AB129: =IFERROR(VLOOKUP(AA$5&$A127,#REF!,2,0),"") | AD129: =IFERROR(VLOOKUP(AD$5&$A128,표1[],4,0),"") | AE129: =IFERROR(VLOOKUP(AD$5&$A127,#REF!,2,0),"") | AG129: =IFERROR(VLOOKUP(AG$5&$A128,표1[],4,0),"") | AH129: =IFERROR(VLOOKUP(AG$5&$A127,#REF!,2,0),"")
C130: =IFERROR(VLOOKUP(C$5&$A128,표1[],6,0),"") | D130: =IFERROR(VLOOKUP(C$5&#REF!,#REF!,2,0),"") | F130: =IFERROR(VLOOKUP(F$5&$A128,표1[],6,0),"") | G130: =IFERROR(VLOOKUP(F$5&#REF!,#REF!,2,0),"") | I130: =IFERROR(VLOOKUP(I$5&$A128,표1[],6,0),"") | J130: =IFERROR(VLOOKUP(I$5&#REF!,#REF!,2,0),"") | L130: =IFERROR(VLOOKUP(L$5&$A128,표1[],6,0),"") | M130: =IFERROR(VLOOKUP(L$5&#REF!,#REF!,2,0),"") | O130: =IFERROR(VLOOKUP(O$5&$A128,표1[],6,0),"") | P130: =IFERROR(VLOOKUP(O$5&#REF!,#REF!,2,0),"") | R130: =IFERROR(VLOOKUP(R$5&$A128,표1[],6,0),"") | S130: =IFERROR(VLOOKUP(R$5&#REF!,#REF!,2,0),"") | U130: =IFERROR(VLOOKUP(U$5&$A128,표1[],6,0),"") | V130: =IFERROR(VLOOKUP(U$5&#REF!,#REF!,2,0),"") | X130: =IFERROR(VLOOKUP(X$5&$A128,표1[],6,0),"") | Y130: =IFERROR(VLOOKUP(X$5&#REF!,#REF!,2,0),"") | AA130: =IFERROR(VLOOKUP(AA$5&$A128,표1[],6,0),"") | AB130: =IFERROR(VLOOKUP(AA$5&#REF!,#REF!,2,0),"") | AD130: =IFERROR(VLOOKUP(AD$5&$A128,표1[],6,0),"") | AE130: =IFERROR(VLOOKUP(AD$5&#REF!,#REF!,2,0),"") | AG130: =IFERROR(VLOOKUP(AG$5&$A128,표1[],6,0),"") | AH130: =IFERROR(VLOOKUP(AG$5&#REF!,#REF!,2,0),"")
C131: =IFERROR(VLOOKUP(C$5&$A128,표1[],7,0),"") | D131: =IFERROR(VLOOKUP(C$5&$A128,표1[],1,0),"E") -> E | F131: =IFERROR(VLOOKUP(F$5&$A128,표1[],7,0),"") | G131: =IFERROR(VLOOKUP(F$5&$A128,표1[],1,0),"E") -> E | I131: =IFERROR(VLOOKUP(I$5&$A128,표1[],7,0),"") | J131: =IFERROR(VLOOKUP(I$5&$A128,표1[],1,0),"E") -> E | L131: =IFERROR(VLOOKUP(L$5&$A128,표1[],7,0),"") | M131: =IFERROR(VLOOKUP(L$5&$A128,표1[],1,0),"E") -> E | O131: =IFERROR(VLOOKUP(O$5&$A128,표1[],7,0),"") | P131: =IFERROR(VLOOKUP(O$5&$A128,표1[],1,0),"E") -> E | R131: =IFERROR(VLOOKUP(R$5&$A128,표1[],7,0),"") | S131: =IFERROR(VLOOKUP(R$5&$A128,표1[],1,0),"E") -> E | U131: =IFERROR(VLOOKUP(U$5&$A128,표1[],7,0),"") | V131: =IFERROR(VLOOKUP(U$5&$A128,표1[],1,0),"E") -> E | X131: =IFERROR(VLOOKUP(X$5&$A128,표1[],7,0),"") | Y131: =IFERROR(VLOOKUP(X$5&$A128,표1[],1,0),"E") -> E | AA131: =IFERROR(VLOOKUP(AA$5&$A128,표1[],7,0),"") | AB131: =IFERROR(VLOOKUP(AA$5&$A128,표1[],1,0),"E") -> E | AD131: =IFERROR(VLOOKUP(AD$5&$A128,표1[],7,0),"") | AE131: =IFERROR(VLOOKUP(AD$5&$A128,표1[],1,0),"E") -> E | AG131: =IFERROR(VLOOKUP(AG$5&$A128,표1[],7,0),"") | AH131: =IFERROR(VLOOKUP(AG$5&$A128,표1[],1,0),"E") -> E
