Workbook

Sheet 환경설정
B2: Kanban Board
B5: 프로젝트명 | D5: 부서명 | F5: 상태명 | H5: 우선순위
F6: 대기 | H6: 긴급
F7: 진행 | H7: 높음
F8: 피드백 | H8: 보통
F9: 완료 | H9: 낮음
F10: 보류

Sheet 내용입력
B2: Kanban Board
B5: 조합 | C5: 업무번호 | D5: 프로젝트명 | E5: 업무명 | F5: 부서명 | G5: 담당자 | H5: 업무중요도 | I5: 시작일 | J5: 마감일 | K5: 상태명 | L5: 비고
B6: =표1[[#This Row],[상태명]]&COUNTIF($K$5:K6,표1[[#This Row],[상태명]]) -> 0
B7: =표1[[#This Row],[상태명]]&COUNTIF($K$5:K7,표1[[#This Row],[상태명]]) -> 0
B8: =표1[[#This Row],[상태명]]&COUNTIF($K$5:K8,표1[[#This Row],[상태명]]) -> 0
B9: =표1[[#This Row],[상태명]]&COUNTIF($K$5:K9,표1[[#This Row],[상태명]]) -> 0
B10: =표1[[#This Row],[상태명]]&COUNTIF($K$5:K10,표1[[#This Row],[상태명]]) -> 0
B11: =표1[[#This Row],[상태명]]&COUNTIF($K$5:K11,표1[[#This Row],[상태명]]) -> 0
B12: =표1[[#This Row],[상태명]]&COUNTIF($K$5:K12,표1[[#This Row],[상태명]]) -> 0
B13: =표1[[#This Row],[상태명]]&COUNTIF($K$5:K13,표1[[#This Row],[상태명]]) -> 0
B14: =표1[[#This Row],[상태명]]&COUNTIF($K$5:K14,표1[[#This Row],[상태명]]) -> 0
B15: =표1[[#This Row],[상태명]]&COUNTIF($K$5:K15,표1[[#This Row],[상태명]]) -> 0
B16: =표1[[#This Row],[상태명]]&COUNTIF($K$5:K16,표1[[#This Row],[상태명]]) -> 0
B17: =표1[[#This Row],[상태명]]&COUNTIF($K$5:K17,표1[[#This Row],[상태명]]) -> 0
... B59: =표1[[#This Row],[상태명]]&COUNTIF($K$5:K59,표1[[#This Row],[상태명]]) -> 0

Sheet 칸반보드
C2: Kanban Board
C5: =환경설정!F6 -> 대기 | D5: =COUNTIF(D6:D187,C5&"*") -> 0 | F5: =환경설정!F7 -> 진행 | G5: =COUNTIF(G6:G187,F5&"*") -> 0 | I5: =환경설정!F8 -> 피드백 | J5: =COUNTIF(J6:J187,I5&"*") -> 0 | L5: =환경설정!F9 -> 완료 | M5: =COUNTIF(M6:M187,L5&"*") -> 0 | O5: =환경설정!F10 -> 보류 | P5: =COUNTIF(P6:P187,O5&"*") -> 0 | R5: =환경설정!F11 -> 0 | S5: =COUNTIF(S6:S187,R5&"*") -> 0 | U5: =환경설정!F12 -> 0 | V5: =COUNTIF(V6:V187,U5&"*") -> 0 | X5: =환경설정!F13 -> 0 | Y5: =COUNTIF(Y6:Y187,X5&"*") -> 0 | AA5: =환경설정!F14 -> 0 | AB5: =COUNTIF(AB6:AB187,AA5&"*") -> 0 | AD5: =환경설정!F15 -> 0 | AE5: =COUNTIF(AE6:AE187,AD5&"*") -> 0 | AG5: =환경설정!F16 -> 0 | AH5: =COUNTIF(AH6:AH187,AG5&"*") -> 0
A9: 1 | C9: =IFERROR(VLOOKUP(C$5&$A9,표1[],2,0),"") | D9: =IFERROR(VLOOKUP(C$5&$A9,표1[],9,0),"") | F9: =IFERROR(VLOOKUP(F$5&$A9,표1[],2,0),"") | G9: =IFERROR(VLOOKUP(F$5&$A9,표1[],9,0),"") | I9: =IFERROR(VLOOKUP(I$5&$A9,표1[],2,0),"") | J9: =IFERROR(VLOOKUP(I$5&$A9,표1[],9,0),"") | L9: =IFERROR(VLOOKUP(L$5&$A9,표1[],2,0),"") | M9: =IFERROR(VLOOKUP(L$5&$A9,표1[],9,0),"") | O9: =IFERROR(VLOOKUP(O$5&$A9,표1[],2,0),"") | P9: =IFERROR(VLOOKUP(O$5&$A9,표1[],9,0),"") | R9: =IFERROR(VLOOKUP(R$5&$A9,표1[],2,0),"") | S9: =IFERROR(VLOOKUP(R$5&$A9,표1[],9,0),"") | U9: =IFERROR(VLOOKUP(U$5&$A9,표1[],2,0),"") | V9: =IFERROR(VLOOKUP(U$5&$A9,표1[],9,0),"") | X9: =IFERROR(VLOOKUP(X$5&$A9,표1[],2,0),"") | Y9: =IFERROR(VLOOKUP(X$5&$A9,표1[],9,0),"") | AA9: =IFERROR(VLOOKUP(AA$5&$A9,표1[],2,0),"") | AB9: =IFERROR(VLOOKUP(AA$5&$A9,표1[],9,0),"") | AD9: =IFERROR(VLOOKUP(AD$5&$A9,표1[],2,0),"") | AE9: =IFERROR(VLOOKUP(AD$5&$A9,표1[],9,0),"") | AG9: =IFERROR(VLOOKUP(AG$5&$A9,표1[],2,0),"") | AH9: =IFERROR(VLOOKUP(AG$5&$A9,표1[],9,0),"")
C10: =IFERROR(VLOOKUP(C$5&$A9,표1[],4,0),"") | D10: =IFERROR(VLOOKUP(C$5&$A8,#REF!,2,0),"") | F10: =IFERROR(VLOOKUP(F$5&$A9,표1[],4,0),"") | G10: =IFERROR(VLOOKUP(F$5&$A8,#REF!,2,0),"") | I10: =IFERROR(VLOOKUP(I$5&$A9,표1[],4,0),"") | J10: =IFERROR(VLOOKUP(I$5&$A8,#REF!,2,0),"") | L10: =IFERROR(VLOOKUP(L$5&$A9,표1[],4,0),"") | M10: =IFERROR(VLOOKUP(L$5&$A8,#REF!,2,0),"") | O10: =IFERROR(VLOOKUP(O$5&$A9,표1[],4,0),"") | P10: =IFERROR(VLOOKUP(O$5&$A8,#REF!,2,0),"") | R10: =IFERROR(VLOOKUP(R$5&$A9,표1[],4,0),"") | S10: =IFERROR(VLOOKUP(R$5&$A8,#REF!,2,0),"") | U10: =IFERROR(VLOOKUP(U$5&$A9,표1[],4,0),"") | V10: =IFERROR(VLOOKUP(U$5&$A8,#REF!,2,0),"") | X10: =IFERROR(VLOOKUP(X$5&$A9,표1[],4,0),"") | Y10: =IFERROR(VLOOKUP(X$5&$A8,#REF!,2,0),"") | AA10: =IFERROR(VLOOKUP(AA$5&$A9,표1[],4,0),"") | AB10: =IFERROR(VLOOKUP(AA$5&$A8,#REF!,2,0),"") | AD10: =IFERROR(VLOOKUP(AD$5&$A9,표1[],4,0),"") | AE10: =IFERROR(VLOOKUP(AD$5&$A8,#REF!,2,0),"") | AG10: =IFERROR(VLOOKUP(AG$5&$A9,표1[],4,0),"") | AH10: =IFERROR(VLOOKUP(AG$5&$A8,#REF!,2,0),"")
C11: =IFERROR(VLOOKUP(C$5&$A9,표1[],6,0),"") | D11: =IFERROR(VLOOKUP(C$5&#REF!,#REF!,2,0),"") | F11: =IFERROR(VLOOKUP(F$5&$A9,표1[],6,0),"") | G11: =IFERROR(VLOOKUP(F$5&#REF!,#REF!,2,0),"") | I11: =IFERROR(VLOOKUP(I$5&$A9,표1[],6,0),"") | J11: =IFERROR(VLOOKUP(I$5&#REF!,#REF!,2,0),"") | L11: =IFERROR(VLOOKUP(L$5&$A9,표1[],6,0),"") | M11: =IFERROR(VLOOKUP(L$5&#REF!,#REF!,2,0),"") | O11: =IFERROR(VLOOKUP(O$5&$A9,표1[],6,0),"") | P11: =IFERROR(VLOOKUP(O$5&#REF!,#REF!,2,0),"") | R11: =IFERROR(VLOOKUP(R$5&$A9,표1[],6,0),"") | S11: =IFERROR(VLOOKUP(R$5&#REF!,#REF!,2,0),"") | U11: =IFERROR(VLOOKUP(U$5&$A9,표1[],6,0),"") | V11: =IFERROR(VLOOKUP(U$5&#REF!,#REF!,2,0),"") | X11: =IFERROR(VLOOKUP(X$5&$A9,표1[],6,0),"") | Y11: =IFERROR(VLOOKUP(X$5&#REF!,#REF!,2,0),"") | AA11: =IFERROR(VLOOKUP(AA$5&$A9,표1[],6,0),"") | AB11: =IFERROR(VLOOKUP(AA$5&#REF!,#REF!,2,0),"") | AD11: =IFERROR(VLOOKUP(AD$5&$A9,표1[],6,0),"") | AE11: =IFERROR(VLOOKUP(AD$5&#REF!,#REF!,2,0),"") | AG11: =IFERROR(VLOOKUP(AG$5&$A9,표1[],6,0),"") | AH11: =IFERROR(VLOOKUP(AG$5&#REF!,#REF!,2,0),"")
C12: =IFERROR(VLOOKUP(C$5&$A9,표1[],7,0),"") | D12: =IFERROR(VLOOKUP(C$5&$A9,표1[],1,0),"E") -> E | F12: =IFERROR(VLOOKUP(F$5&$A9,표1[],7,0),"") | G12: =IFERROR(VLOOKUP(F$5&$A9,표1[],1,0),"E") -> E | I12: =IFERROR(VLOOKUP(I$5&$A9,표1[],7,0),"") | J12: =IFERROR(VLOOKUP(I$5&$A9,표1[],1,0),"E") -> E | L12: =IFERROR(VLOOKUP(L$5&$A9,표1[],7,0),"") | M12: =IFERROR(VLOOKUP(L$5&$A9,표1[],1,0),"E") -> E | O12: =IFERROR(VLOOKUP(O$5&$A9,표1[],7,0),"") | P12: =IFERROR(VLOOKUP(O$5&$A9,표1[],1,0),"E") -> E | R12: =IFERROR(VLOOKUP(R$5&$A9,표1[],7,0),"") | S12: =IFERROR(VLOOKUP(R$5&$A9,표1[],1,0),"E") -> E | U12: =IFERROR(VLOOKUP(U$5&$A9,표1[],7,0),"") | V12: =IFERROR(VLOOKUP(U$5&$A9,표1[],1,0),"E") -> E | X12: =IFERROR(VLOOKUP(X$5&$A9,표1[],7,0),"") | Y12: =IFERROR(VLOOKUP(X$5&$A9,표1[],1,0),"E") -> E | AA12: =IFERROR(VLOOKUP(AA$5&$A9,표1[],7,0),"") | AB12: =IFERROR(VLOOKUP(AA$5&$A9,표1[],1,0),"E") -> E | AD12: =IFERROR(VLOOKUP(AD$5&$A9,표1[],7,0),"") | AE12: =IFERROR(VLOOKUP(AD$5&$A9,표1[],1,0),"E") -> E | AG12: =IFERROR(VLOOKUP(AG$5&$A9,표1[],7,0),"") | AH12: =IFERROR(VLOOKUP(AG$5&$A9,표1[],1,0),"E") -> E
A16: =A9+1 -> 2 | C16: =IFERROR(VLOOKUP(C$5&$A16,표1[],2,0),"") | D16: =IFERROR(VLOOKUP(C$5&$A16,표1[],9,0),"") | F16: =IFERROR(VLOOKUP(F$5&$A16,표1[],2,0),"") | G16: =IFERROR(VLOOKUP(F$5&$A16,표1[],9,0),"") | I16: =IFERROR(VLOOKUP(I$5&$A16,표1[],2,0),"") | J16: =IFERROR(VLOOKUP(I$5&$A16,표1[],9,0),"") | L16: =IFERROR(VLOOKUP(L$5&$A16,표1[],2,0),"") | M16: =IFERROR(VLOOKUP(L$5&$A16,표1[],9,0),"") | O16: =IFERROR(VLOOKUP(O$5&$A16,표1[],2,0),"") | P16: =IFERROR(VLOOKUP(O$5&$A16,표1[],9,0),"") | R16: =IFERROR(VLOOKUP(R$5&$A16,표1[],2,0),"") | S16: =IFERROR(VLOOKUP(R$5&$A16,표1[],9,0),"") | U16: =IFERROR(VLOOKUP(U$5&$A16,표1[],2,0),"") | V16: =IFERROR(VLOOKUP(U$5&$A16,표1[],9,0),"") | X16: =IFERROR(VLOOKUP(X$5&$A16,표1[],2,0),"") | Y16: =IFERROR(VLOOKUP(X$5&$A16,표1[],9,0),"") | AA16: =IFERROR(VLOOKUP(AA$5&$A16,표1[],2,0),"") | AB16: =IFERROR(VLOOKUP(AA$5&$A16,표1[],9,0),"") | AD16: =IFERROR(VLOOKUP(AD$5&$A16,표1[],2,0),"") | AE16: =IFERROR(VLOOKUP(AD$5&$A16,표1[],9,0),"") | AG16: =IFERROR(VLOOKUP(AG$5&$A16,표1[],2,0),"") | AH16: =IFERROR(VLOOKUP(AG$5&$A16,표1[],9,0),"")
C17: =IFERROR(VLOOKUP(C$5&$A16,표1[],4,0),"") | D17: =IFERROR(VLOOKUP(C$5&$A15,#REF!,2,0),"") | F17: =IFERROR(VLOOKUP(F$5&$A16,표1[],4,0),"") | G17: =IFERROR(VLOOKUP(F$5&$A15,#REF!,2,0),"") | I17: =IFERROR(VLOOKUP(I$5&$A16,표1[],4,0),"") | J17: =IFERROR(VLOOKUP(I$5&$A15,#REF!,2,0),"") | L17: =IFERROR(VLOOKUP(L$5&$A16,표1[],4,0),"") | M17: =IFERROR(VLOOKUP(L$5&$A15,#REF!,2,0),"") | O17: =IFERROR(VLOOKUP(O$5&$A16,표1[],4,0),"") | P17: =IFERROR(VLOOKUP(O$5&$A15,#REF!,2,0),"") | R17: =IFERROR(VLOOKUP(R$5&$A16,표1[],4,0),"") | S17: =IFERROR(VLOOKUP(R$5&$A15,#REF!,2,0),"") | U17: =IFERROR(VLOOKUP(U$5&$A16,표1[],4,0),"") | V17: =IFERROR(VLOOKUP(U$5&$A15,#REF!,2,0),"") | X17: =IFERROR(VLOOKUP(X$5&$A16,표1[],4,0),"") | Y17: =IFERROR(VLOOKUP(X$5&$A15,#REF!,2,0),"") | AA17: =IFERROR(VLOOKUP(AA$5&$A16,표1[],4,0),"") | AB17: =IFERROR(VLOOKUP(AA$5&$A15,#REF!,2,0),"") | AD17: =IFERROR(VLOOKUP(AD$5&$A16,표1[],4,0),"") | AE17: =IFERROR(VLOOKUP(AD$5&$A15,#REF!,2,0),"") | AG17: =IFERROR(VLOOKUP(AG$5&$A16,표1[],4,0),"") | AH17: =IFERROR(VLOOKUP(AG$5&$A15,#REF!,2,0),"")
C18: =IFERROR(VLOOKUP(C$5&$A16,표1[],6,0),"") | D18: =IFERROR(VLOOKUP(C$5&#REF!,#REF!,2,0),"") | F18: =IFERROR(VLOOKUP(F$5&$A16,표1[],6,0),"") | G18: =IFERROR(VLOOKUP(F$5&#REF!,#REF!,2,0),"") | I18: =IFERROR(VLOOKUP(I$5&$A16,표1[],6,0),"") | J18: =IFERROR(VLOOKUP(I$5&#REF!,#REF!,2,0),"") | L18: =IFERROR(VLOOKUP(L$5&$A16,표1[],6,0),"") | M18: =IFERROR(VLOOKUP(L$5&#REF!,#REF!,2,0),"") | O18: =IFERROR(VLOOKUP(O$5&$A16,표1[],6,0),"") | P18: =IFERROR(VLOOKUP(O$5&#REF!,#REF!,2,0),"") | R18: =IFERROR(VLOOKUP(R$5&$A16,표1[],6,0),"") | S18: =IFERROR(VLOOKUP(R$5&#REF!,#REF!,2,0),"") | U18: =IFERROR(VLOOKUP(U$5&$A16,표1[],6,0),"") | V18: =IFERROR(VLOOKUP(U$5&#REF!,#REF!,2,0),"") | X18: =IFERROR(VLOOKUP(X$5&$A16,표1[],6,0),"") | Y18: =IFERROR(VLOOKUP(X$5&#REF!,#REF!,2,0),"") | AA18: =IFERROR(VLOOKUP(AA$5&$A16,표1[],6,0),"") | AB18: =IFERROR(VLOOKUP(AA$5&#REF!,#REF!,2,0),"") | AD18: =IFERROR(VLOOKUP(AD$5&$A16,표1[],6,0),"") | AE18: =IFERROR(VLOOKUP(AD$5&#REF!,#REF!,2,0),"") | AG18: =IFERROR(VLOOKUP(AG$5&$A16,표1[],6,0),"") | AH18: =IFERROR(VLOOKUP(AG$5&#REF!,#REF!,2,0),"")
C19: =IFERROR(VLOOKUP(C$5&$A16,표1[],7,0),"") | D19: =IFERROR(VLOOKUP(C$5&$A16,표1[],1,0),"E") -> E | F19: =IFERROR(VLOOKUP(F$5&$A16,표1[],7,0),"") | G19: =IFERROR(VLOOKUP(F$5&$A16,표1[],1,0),"E") -> E | I19: =IFERROR(VLOOKUP(I$5&$A16,표1[],7,0),"") | J19: =IFERROR(VLOOKUP(I$5&$A16,표1[],1,0),"E") -> E | L19: =IFERROR(VLOOKUP(L$5&$A16,표1[],7,0),"") | M19: =IFERROR(VLOOKUP(L$5&$A16,표1[],1,0),"E") -> E | O19: =IFERROR(VLOOKUP(O$5&$A16,표1[],7,0),"") | P19: =IFERROR(VLOOKUP(O$5&$A16,표1[],1,0),"E") -> E | R19: =IFERROR(VLOOKUP(R$5&$A16,표1[],7,0),"") | S19: =IFERROR(VLOOKUP(R$5&$A16,표1[],1,0),"E") -> E | U19: =IFERROR(VLOOKUP(U$5&$A16,표1[],7,0),"") | V19: =IFERROR(VLOOKUP(U$5&$A16,표1[],1,0),"E") -> E | X19: =IFERROR(VLOOKUP(X$5&$A16,표1[],7,0),"") | Y19: =IFERROR(VLOOKUP(X$5&$A16,표1[],1,0),"E") -> E | AA19: =IFERROR(VLOOKUP(AA$5&$A16,표1[],7,0),"") | AB19: =IFERROR(VLOOKUP(AA$5&$A16,표1[],1,0),"E") -> E | AD19: =IFERROR(VLOOKUP(AD$5&$A16,표1[],7,0),"") | AE19: =IFERROR(VLOOKUP(AD$5&$A16,표1[],1,0),"E") -> E | AG19: =IFERROR(VLOOKUP(AG$5&$A16,표1[],7,0),"") | AH19: =IFERROR(VLOOKUP(AG$5&$A16,표1[],1,0),"E") -> E
A23: =A16+1 -> 3 | C23: =IFERROR(VLOOKUP(C$5&$A23,표1[],2,0),"") | D23: =IFERROR(VLOOKUP(C$5&$A23,표1[],9,0),"") | F23: =IFERROR(VLOOKUP(F$5&$A23,표1[],2,0),"") | G23: =IFERROR(VLOOKUP(F$5&$A23,표1[],9,0),"") | I23: =IFERROR(VLOOKUP(I$5&$A23,표1[],2,0),"") | J23: =IFERROR(VLOOKUP(I$5&$A23,표1[],9,0),"") | L23: =IFERROR(VLOOKUP(L$5&$A23,표1[],2,0),"") | M23: =IFERROR(VLOOKUP(L$5&$A23,표1[],9,0),"") | O23: =IFERROR(VLOOKUP(O$5&$A23,표1[],2,0),"") | P23: =IFERROR(VLOOKUP(O$5&$A23,표1[],9,0),"") | R23: =IFERROR(VLOOKUP(R$5&$A23,표1[],2,0),"") | S23: =IFERROR(VLOOKUP(R$5&$A23,표1[],9,0),"") | U23: =IFERROR(VLOOKUP(U$5&$A23,표1[],2,0),"") | V23: =IFERROR(VLOOKUP(U$5&$A23,표1[],9,0),"") | X23: =IFERROR(VLOOKUP(X$5&$A23,표1[],2,0),"") | Y23: =IFERROR(VLOOKUP(X$5&$A23,표1[],9,0),"") | AA23: =IFERROR(VLOOKUP(AA$5&$A23,표1[],2,0),"") | AB23: =IFERROR(VLOOKUP(AA$5&$A23,표1[],9,0),"") | AD23: =IFERROR(VLOOKUP(AD$5&$A23,표1[],2,0),"") | AE23: =IFERROR(VLOOKUP(AD$5&$A23,표1[],9,0),"") | AG23: =IFERROR(VLOOKUP(AG$5&$A23,표1[],2,0),"") | AH23: =IFERROR(VLOOKUP(AG$5&$A23,표1[],9,0),"")
C24: =IFERROR(VLOOKUP(C$5&$A23,표1[],4,0),"") | D24: =IFERROR(VLOOKUP(C$5&$A22,#REF!,2,0),"") | F24: =IFERROR(VLOOKUP(F$5&$A23,표1[],4,0),"") | G24: =IFERROR(VLOOKUP(F$5&$A22,#REF!,2,0),"") | I24: =IFERROR(VLOOKUP(I$5&$A23,표1[],4,0),"") | J24: =IFERROR(VLOOKUP(I$5&$A22,#REF!,2,0),"") | L24: =IFERROR(VLOOKUP(L$5&$A23,표1[],4,0),"") | M24: =IFERROR(VLOOKUP(L$5&$A22,#REF!,2,0),"") | O24: =IFERROR(VLOOKUP(O$5&$A23,표1[],4,0),"") | P24: =IFERROR(VLOOKUP(O$5&$A22,#REF!,2,0),"") | R24: =IFERROR(VLOOKUP(R$5&$A23,표1[],4,0),"") | S24: =IFERROR(VLOOKUP(R$5&$A22,#REF!,2,0),"") | U24: =IFERROR(VLOOKUP(U$5&$A23,표1[],4,0),"") | V24: =IFERROR(VLOOKUP(U$5&$A22,#REF!,2,0),"") | X24: =IFERROR(VLOOKUP(X$5&$A23,표1[],4,0),"") | Y24: =IFERROR(VLOOKUP(X$5&$A22,#REF!,2,0),"") | AA24: =IFERROR(VLOOKUP(AA$5&$A23,표1[],4,0),"") | AB24: =IFERROR(VLOOKUP(AA$5&$A22,#REF!,2,0),"") | AD24: =IFERROR(VLOOKUP(AD$5&$A23,표1[],4,0),"") | AE24: =IFERROR(VLOOKUP(AD$5&$A22,#REF!,2,0),"") | AG24: =IFERROR(VLOOKUP(AG$5&$A23,표1[],4,0),"") | AH24: =IFERROR(VLOOKUP(AG$5&$A22,#REF!,2,0),"")
C25: =IFERROR(VLOOKUP(C$5&$A23,표1[],6,0),"") | D25: =IFERROR(VLOOKUP(C$5&#REF!,#REF!,2,0),"") | F25: =IFERROR(VLOOKUP(F$5&$A23,표1[],6,0),"") | G25: =IFERROR(VLOOKUP(F$5&#REF!,#REF!,2,0),"") | I25: =IFERROR(VLOOKUP(I$5&$A23,표1[],6,0),"") | J25: =IFERROR(VLOOKUP(I$5&#REF!,#REF!,2,0),"") | L25: =IFERROR(VLOOKUP(L$5&$A23,표1[],6,0),"") | M25: =IFERROR(VLOOKUP(L$5&#REF!,#REF!,2,0),"") | O25: =IFERROR(VLOOKUP(O$5&$A23,표1[],6,0),"") | P25: =IFERROR(VLOOKUP(O$5&#REF!,#REF!,2,0),"") | R25: =IFERROR(VLOOKUP(R$5&$A23,표1[],6,0),"") | S25: =IFERROR(VLOOKUP(R$5&#REF!,#REF!,2,0),"") | U25: =IFERROR(VLOOKUP(U$5&$A23,표1[],6,0),"") | V25: =IFERROR(VLOOKUP(U$5&#REF!,#REF!,2,0),"") | X25: =IFERROR(VLOOKUP(X$5&$A23,표1[],6,0),"") | Y25: =IFERROR(VLOOKUP(X$5&#REF!,#REF!,2,0),"") | AA25: =IFERROR(VLOOKUP(AA$5&$A23,표1[],6,0),"") | AB25: =IFERROR(VLOOKUP(AA$5&#REF!,#REF!,2,0),"") | AD25: =IFERROR(VLOOKUP(AD$5&$A23,표1[],6,0),"") | AE25: =IFERROR(VLOOKUP(AD$5&#REF!,#REF!,2,0),"") | AG25: =IFERROR(VLOOKUP(AG$5&$A23,표1[],6,0),"") | AH25: =IFERROR(VLOOKUP(AG$5&#REF!,#REF!,2,0),"")
C26: =IFERROR(VLOOKUP(C$5&$A23,표1[],7,0),"") | D26: =IFERROR(VLOOKUP(C$5&$A23,표1[],1,0),"E") -> E | F26: =IFERROR(VLOOKUP(F$5&$A23,표1[],7,0),"") | G26: =IFERROR(VLOOKUP(F$5&$A23,표1[],1,0),"E") -> E | I26: =IFERROR(VLOOKUP(I$5&$A23,표1[],7,0),"") | J26: =IFERROR(VLOOKUP(I$5&$A23,표1[],1,0),"E") -> E | L26: =IFERROR(VLOOKUP(L$5&$A23,표1[],7,0),"") | M26: =IFERROR(VLOOKUP(L$5&$A23,표1[],1,0),"E") -> E | O26: =IFERROR(VLOOKUP(O$5&$A23,표1[],7,0),"") | P26: =IFERROR(VLOOKUP(O$5&$A23,표1[],1,0),"E") -> E | R26: =IFERROR(VLOOKUP(R$5&$A23,표1[],7,0),"") | S26: =IFERROR(VLOOKUP(R$5&$A23,표1[],1,0),"E") -> E | U26: =IFERROR(VLOOKUP(U$5&$A23,표1[],7,0),"") | V26: =IFERROR(VLOOKUP(U$5&$A23,표1[],1,0),"E") -> E | X26: =IFERROR(VLOOKUP(X$5&$A23,표1[],7,0),"") | Y26: =IFERROR(VLOOKUP(X$5&$A23,표1[],1,0),"E") -> E | AA26: =IFERROR(VLOOKUP(AA$5&$A23,표1[],7,0),"") | AB26: =IFERROR(VLOOKUP(AA$5&$A23,표1[],1,0),"E") -> E | AD26: =IFERROR(VLOOKUP(AD$5&$A23,표1[],7,0),"") | AE26: =IFERROR(VLOOKUP(AD$5&$A23,표1[],1,0),"E") -> E | AG26: =IFERROR(VLOOKUP(AG$5&$A23,표1[],7,0),"") | AH26: =IFERROR(VLOOKUP(AG$5&$A23,표1[],1,0),"E") -> E
A30: =A23+1 -> 4 | C30: =IFERROR(VLOOKUP(C$5&$A30,표1[],2,0),"") | D30: =IFERROR(VLOOKUP(C$5&$A30,표1[],9,0),"") | F30: =IFERROR(VLOOKUP(F$5&$A30,표1[],2,0),"") | G30: =IFERROR(VLOOKUP(F$5&$A30,표1[],9,0),"") | I30: =IFERROR(VLOOKUP(I$5&$A30,표1[],2,0),"") | J30: =IFERROR(VLOOKUP(I$5&$A30,표1[],9,0),"") | L30: =IFERROR(VLOOKUP(L$5&$A30,표1[],2,0),"") | M30: =IFERROR(VLOOKUP(L$5&$A30,표1[],9,0),"") | O30: =IFERROR(VLOOKUP(O$5&$A30,표1[],2,0),"") | P30: =IFERROR(VLOOKUP(O$5&$A30,표1[],9,0),"") | R30: =IFERROR(VLOOKUP(R$5&$A30,표1[],2,0),"") | S30: =IFERROR(VLOOKUP(R$5&$A30,표1[],9,0),"") | U30: =IFERROR(VLOOKUP(U$5&$A30,표1[],2,0),"") | V30: =IFERROR(VLOOKUP(U$5&$A30,표1[],9,0),"") | X30: =IFERROR(VLOOKUP(X$5&$A30,표1[],2,0),"") | Y30: =IFERROR(VLOOKUP(X$5&$A30,표1[],9,0),"") | AA30: =IFERROR(VLOOKUP(AA$5&$A30,표1[],2,0),"") | AB30: =IFERROR(VLOOKUP(AA$5&$A30,표1[],9,0),"") | AD30: =IFERROR(VLOOKUP(AD$5&$A30,표1[],2,0),"") | AE30: =IFERROR(VLOOKUP(AD$5&$A30,표1[],9,0),"") | AG30: =IFERROR(VLOOKUP(AG$5&$A30,표1[],2,0),"") | AH30: =IFERROR(VLOOKUP(AG$5&$A30,표1[],9,0),"")
C31: =IFERROR(VLOOKUP(C$5&$A30,표1[],4,0),"") | D31: =IFERROR(VLOOKUP(C$5&$A29,#REF!,2,0),"") | F31: =IFERROR(VLOOKUP(F$5&$A30,표1[],4,0),"") | G31: =IFERROR(VLOOKUP(F$5&$A29,#REF!,2,0),"") | I31: =IFERROR(VLOOKUP(I$5&$A30,표1[],4,0),"") | J31: =IFERROR(VLOOKUP(I$5&$A29,#REF!,2,0),"") | L31: =IFERROR(VLOOKUP(L$5&$A30,표1[],4,0),"") | M31: =IFERROR(VLOOKUP(L$5&$A29,#REF!,2,0),"") | O31: =IFERROR(VLOOKUP(O$5&$A30,표1[],4,0),"") | P31: =IFERROR(VLOOKUP(O$5&$A29,#REF!,2,0),"") | R31: =IFERROR(VLOOKUP(R$5&$A30,표1[],4,0),"") | S31: =IFERROR(VLOOKUP(R$5&$A29,#REF!,2,0),"") | U31: =IFERROR(VLOOKUP(U$5&$A30,표1[],4,0),"") | V31: =IFERROR(VLOOKUP(U$5&$A29,#REF!,2,0),"") | X31: =IFERROR(VLOOKUP(X$5&$A30,표1[],4,0),"") | Y31: =IFERROR(VLOOKUP(X$5&$A29,#REF!,2,0),"") | AA31: =IFERROR(VLOOKUP(AA$5&$A30,표1[],4,0),"") | AB31: =IFERROR(VLOOKUP(AA$5&$A29,#REF!,2,0),"") | AD31: =IFERROR(VLOOKUP(AD$5&$A30,표1[],4,0),"") | AE31: =IFERROR(VLOOKUP(AD$5&$A29,#REF!,2,0),"") | AG31: =IFERROR(VLOOKUP(AG$5&$A30,표1[],4,0),"") | AH31: =IFERROR(VLOOKUP(AG$5&$A29,#REF!,2,0),"")
C32: =IFERROR(VLOOKUP(C$5&$A30,표1[],6,0),"") | D32: =IFERROR(VLOOKUP(C$5&#REF!,#REF!,2,0),"") | F32: =IFERROR(VLOOKUP(F$5&$A30,표1[],6,0),"") | G32: =IFERROR(VLOOKUP(F$5&#REF!,#REF!,2,0),"") | I32: =IFERROR(VLOOKUP(I$5&$A30,표1[],6,0),"") | J32: =IFERROR(VLOOKUP(I$5&#REF!,#REF!,2,0),"") | L32: =IFERROR(VLOOKUP(L$5&$A30,표1[],6,0),"") | M32: =IFERROR(VLOOKUP(L$5&#REF!,#REF!,2,0),"") | O32: =IFERROR(VLOOKUP(O$5&$A30,표1[],6,0),"") | P32: =IFERROR(VLOOKUP(O$5&#REF!,#REF!,2,0),"") | R32: =IFERROR(VLOOKUP(R$5&$A30,표1[],6,0),"") | S32: =IFERROR(VLOOKUP(R$5&#REF!,#REF!,2,0),"") | U32: =IFERROR(VLOOKUP(U$5&$A30,표1[],6,0),"") | V32: =IFERROR(VLOOKUP(U$5&#REF!,#REF!,2,0),"") | X32: =IFERROR(VLOOKUP(X$5&$A30,표1[],6,0),"") | Y32: =IFERROR(VLOOKUP(X$5&#REF!,#REF!,2,0),"") | AA32: =IFERROR(VLOOKUP(AA$5&$A30,표1[],6,0),"") | AB32: =IFERROR(VLOOKUP(AA$5&#REF!,#REF!,2,0),"") | AD32: =IFERROR(VLOOKUP(AD$5&$A30,표1[],6,0),"") | AE32: =IFERROR(VLOOKUP(AD$5&#REF!,#REF!,2,0),"") | AG32: =IFERROR(VLOOKUP(AG$5&$A30,표1[],6,0),"") | AH32: =IFERROR(VLOOKUP(AG$5&#REF!,#REF!,2,0),"")
C33: =IFERROR(VLOOKUP(C$5&$A30,표1[],7,0),"") | D33: =IFERROR(VLOOKUP(C$5&$A30,표1[],1,0),"E") -> E | F33: =IFERROR(VLOOKUP(F$5&$A30,표1[],7,0),"") | G33: =IFERROR(VLOOKUP(F$5&$A30,표1[],1,0),"E") -> E | I33: =IFERROR(VLOOKUP(I$5&$A30,표1[],7,0),"") | J33: =IFERROR(VLOOKUP(I$5&$A30,표1[],1,0),"E") -> E | L33: =IFERROR(VLOOKUP(L$5&$A30,표1[],7,0),"") | M33: =IFERROR(VLOOKUP(L$5&$A30,표1[],1,0),"E") -> E | O33: =IFERROR(VLOOKUP(O$5&$A30,표1[],7,0),"") | P33: =IFERROR(VLOOKUP(O$5&$A30,표1[],1,0),"E") -> E | R33: =IFERROR(VLOOKUP(R$5&$A30,표1[],7,0),"") | S33: =IFERROR(VLOOKUP(R$5&$A30,표1[],1,0),"E") -> E | U33: =IFERROR(VLOOKUP(U$5&$A30,표1[],7,0),"") | V33: =IFERROR(VLOOKUP(U$5&$A30,표1[],1,0),"E") -> E | X33: =IFERROR(VLOOKUP(X$5&$A30,표1[],7,0),"") | Y33: =IFERROR(VLOOKUP(X$5&$A30,표1[],1,0),"E") -> E | AA33: =IFERROR(VLOOKUP(AA$5&$A30,표1[],7,0),"") | AB33: =IFERROR(VLOOKUP(AA$5&$A30,표1[],1,0),"E") -> E | AD33: =IFERROR(VLOOKUP(AD$5&$A30,표1[],7,0),"") | AE33: =IFERROR(VLOOKUP(AD$5&$A30,표1[],1,0),"E") -> E | AG33: =IFERROR(VLOOKUP(AG$5&$A30,표1[],7,0),"") | AH33: =IFERROR(VLOOKUP(AG$5&$A30,표1[],1,0),"E") -> E
A37: =A30+1 -> 5 | C37: =IFERROR(VLOOKUP(C$5&$A37,표1[],2,0),"") | D37: =IFERROR(VLOOKUP(C$5&$A37,표1[],9,0),"") | F37: =IFERROR(VLOOKUP(F$5&$A37,표1[],2,0),"") | G37: =IFERROR(VLOOKUP(F$5&$A37,표1[],9,0),"") | I37: =IFERROR(VLOOKUP(I$5&$A37,표1[],2,0),"") | J37: =IFERROR(VLOOKUP(I$5&$A37,표1[],9,0),"") | L37: =IFERROR(VLOOKUP(L$5&$A37,표1[],2,0),"") | M37: =IFERROR(VLOOKUP(L$5&$A37,표1[],9,0),"") | O37: =IFERROR(VLOOKUP(O$5&$A37,표1[],2,0),"") | P37: =IFERROR(VLOOKUP(O$5&$A37,표1[],9,0),"") | R37: =IFERROR(VLOOKUP(R$5&$A37,표1[],2,0),"") | S37: =IFERROR(VLOOKUP(R$5&$A37,표1[],9,0),"") | U37: =IFERROR(VLOOKUP(U$5&$A37,표1[],2,0),"") | V37: =IFERROR(VLOOKUP(U$5&$A37,표1[],9,0),"") | X37: =IFERROR(VLOOKUP(X$5&$A37,표1[],2,0),"") | Y37: =IFERROR(VLOOKUP(X$5&$A37,표1[],9,0),"") | AA37: =IFERROR(VLOOKUP(AA$5&$A37,표1[],2,0),"") | AB37: =IFERROR(VLOOKUP(AA$5&$A37,표1[],9,0),"") | AD37: =IFERROR(VLOOKUP(AD$5&$A37,표1[],2,0),"") | AE37: =IFERROR(VLOOKUP(AD$5&$A37,표1[],9,0),"") | AG37: =IFERROR(VLOOKUP(AG$5&$A37,표1[],2,0),"") | AH37: =IFERROR(VLOOKUP(AG$5&$A37,표1[],9,0),"")
C38: =IFERROR(VLOOKUP(C$5&$A37,표1[],4,0),"") | D38: =IFERROR(VLOOKUP(C$5&$A36,#REF!,2,0),"") | F38: =IFERROR(VLOOKUP(F$5&$A37,표1[],4,0),"") | G38: =IFERROR(VLOOKUP(F$5&$A36,#REF!,2,0),"") | I38: =IFERROR(VLOOKUP(I$5&$A37,표1[],4,0),"") | J38: =IFERROR(VLOOKUP(I$5&$A36,#REF!,2,0),"") | L38: =IFERROR(VLOOKUP(L$5&$A37,표1[],4,0),"") | M38: =IFERROR(VLOOKUP(L$5&$A36,#REF!,2,0),"") | O38: =IFERROR(VLOOKUP(O$5&$A37,표1[],4,0),"") | P38: =IFERROR(VLOOKUP(O$5&$A36,#REF!,2,0),"") | R38: =IFERROR(VLOOKUP(R$5&$A37,표1[],4,0),"") | S38: =IFERROR(VLOOKUP(R$5&$A36,#REF!,2,0),"") | U38: =IFERROR(VLOOKUP(U$5&$A37,표1[],4,0),"") | V38: =IFERROR(VLOOKUP(U$5&$A36,#REF!,2,0),"") | X38: =IFERROR(VLOOKUP(X$5&$A37,표1[],4,0),"") | Y38: =IFERROR(VLOOKUP(X$5&$A36,#REF!,2,0),"") | AA38: =IFERROR(VLOOKUP(AA$5&$A37,표1[],4,0),"") | AB38: =IFERROR(VLOOKUP(AA$5&$A36,#REF!,2,0),"") | AD38: =IFERROR(VLOOKUP(AD$5&$A37,표1[],4,0),"") | AE38: =IFERROR(VLOOKUP(AD$5&$A36,#REF!,2,0),"") | AG38: =IFERROR(VLOOKUP(AG$5&$A37,표1[],4,0),"") | AH38: =IFERROR(VLOOKUP(AG$5&$A36,#REF!,2,0),"")
C39: =IFERROR(VLOOKUP(C$5&$A37,표1[],6,0),"") | D39: =IFERROR(VLOOKUP(C$5&#REF!,#REF!,2,0),"") | F39: =IFERROR(VLOOKUP(F$5&$A37,표1[],6,0),"") | G39: =IFERROR(VLOOKUP(F$5&#REF!,#REF!,2,0),"") | I39: =IFERROR(VLOOKUP(I$5&$A37,표1[],6,0),"") | J39: =IFERROR(VLOOKUP(I$5&#REF!,#REF!,2,0),"") | L39: =IFERROR(VLOOKUP(L$5&$A37,표1[],6,0),"") | M39: =IFERROR(VLOOKUP(L$5&#REF!,#REF!,2,0),"") | O39: =IFERROR(VLOOKUP(O$5&$A37,표1[],6,0),"") | P39: =IFERROR(VLOOKUP(O$5&#REF!,#REF!,2,0),"") | R39: =IFERROR(VLOOKUP(R$5&$A37,표1[],6,0),"") | S39: =IFERROR(VLOOKUP(R$5&#REF!,#REF!,2,0),"") | U39: =IFERROR(VLOOKUP(U$5&$A37,표1[],6,0),"") | V39: =IFERROR(VLOOKUP(U$5&#REF!,#REF!,2,0),"") | X39: =IFERROR(VLOOKUP(X$5&$A37,표1[],6,0),"") | Y39: =IFERROR(VLOOKUP(X$5&#REF!,#REF!,2,0),"") | AA39: =IFERROR(VLOOKUP(AA$5&$A37,표1[],6,0),"") | AB39: =IFERROR(VLOOKUP(AA$5&#REF!,#REF!,2,0),"") | AD39: =IFERROR(VLOOKUP(AD$5&$A37,표1[],6,0),"") | AE39: =IFERROR(VLOOKUP(AD$5&#REF!,#REF!,2,0),"") | AG39: =IFERROR(VLOOKUP(AG$5&$A37,표1[],6,0),"") | AH39: =IFERROR(VLOOKUP(AG$5&#REF!,#REF!,2,0),"")
C40: =IFERROR(VLOOKUP(C$5&$A37,표1[],7,0),"") | D40: =IFERROR(VLOOKUP(C$5&$A37,표1[],1,0),"E") -> E | F40: =IFERROR(VLOOKUP(F$5&$A37,표1[],7,0),"") | G40: =IFERROR(VLOOKUP(F$5&$A37,표1[],1,0),"E") -> E | I40: =IFERROR(VLOOKUP(I$5&$A37,표1[],7,0),"") | J40: =IFERROR(VLOOKUP(I$5&$A37,표1[],1,0),"E") -> E | L40: =IFERROR(VLOOKUP(L$5&$A37,표1[],7,0),"") | M40: =IFERROR(VLOOKUP(L$5&$A37,표1[],1,0),"E") -> E | O40: =IFERROR(VLOOKUP(O$5&$A37,표1[],7,0),"") | P40: =IFERROR(VLOOKUP(O$5&$A37,표1[],1,0),"E") -> E | R40: =IFERROR(VLOOKUP(R$5&$A37,표1[],7,0),"") | S40: =IFERROR(VLOOKUP(R$5&$A37,표1[],1,0),"E") -> E | U40: =IFERROR(VLOOKUP(U$5&$A37,표1[],7,0),"") | V40: =IFERROR(VLOOKUP(U$5&$A37,표1[],1,0),"E") -> E | X40: =IFERROR(VLOOKUP(X$5&$A37,표1[],7,0),"") | Y40: =IFERROR(VLOOKUP(X$5&$A37,표1[],1,0),"E") -> E | AA40: =IFERROR(VLOOKUP(AA$5&$A37,표1[],7,0),"") | AB40: =IFERROR(VLOOKUP(AA$5&$A37,표1[],1,0),"E") -> E | AD40: =IFERROR(VLOOKUP(AD$5&$A37,표1[],7,0),"") | AE40: =IFERROR(VLOOKUP(AD$5&$A37,표1[],1,0),"E") -> E | AG40: =IFERROR(VLOOKUP(AG$5&$A37,표1[],7,0),"") | AH40: =IFERROR(VLOOKUP(AG$5&$A37,표1[],1,0),"E") -> E
A44: =A37+1 -> 6 | C44: =IFERROR(VLOOKUP(C$5&$A44,표1[],2,0),"") | D44: =IFERROR(VLOOKUP(C$5&$A44,표1[],9,0),"") | F44: =IFERROR(VLOOKUP(F$5&$A44,표1[],2,0),"") | G44: =IFERROR(VLOOKUP(F$5&$A44,표1[],9,0),"") | I44: =IFERROR(VLOOKUP(I$5&$A44,표1[],2,0),"") | J44: =IFERROR(VLOOKUP(I$5&$A44,표1[],9,0),"") | L44: =IFERROR(VLOOKUP(L$5&$A44,표1[],2,0),"") | M44: =IFERROR(VLOOKUP(L$5&$A44,표1[],9,0),"") | O44: =IFERROR(VLOOKUP(O$5&$A44,표1[],2,0),"") | P44: =IFERROR(VLOOKUP(O$5&$A44,표1[],9,0),"") | R44: =IFERROR(VLOOKUP(R$5&$A44,표1[],2,0),"") | S44: =IFERROR(VLOOKUP(R$5&$A44,표1[],9,0),"") | U44: =IFERROR(VLOOKUP(U$5&$A44,표1[],2,0),"") | V44: =IFERROR(VLOOKUP(U$5&$A44,표1[],9,0),"") | X44: =IFERROR(VLOOKUP(X$5&$A44,표1[],2,0),"") | Y44: =IFERROR(VLOOKUP(X$5&$A44,표1[],9,0),"") | AA44: =IFERROR(VLOOKUP(AA$5&$A44,표1[],2,0),"") | AB44: =IFERROR(VLOOKUP(AA$5&$A44,표1[],9,0),"") | AD44: =IFERROR(VLOOKUP(AD$5&$A44,표1[],2,0),"") | AE44: =IFERROR(VLOOKUP(AD$5&$A44,표1[],9,0),"") | AG44: =IFERROR(VLOOKUP(AG$5&$A44,표1[],2,0),"") | AH44: =IFERROR(VLOOKUP(AG$5&$A44,표1[],9,0),"")
C45: =IFERROR(VLOOKUP(C$5&$A44,표1[],4,0),"") | D45: =IFERROR(VLOOKUP(C$5&$A43,#REF!,2,0),"") | F45: =IFERROR(VLOOKUP(F$5&$A44,표1[],4,0),"") | G45: =IFERROR(VLOOKUP(F$5&$A43,#REF!,2,0),"") | I45: =IFERROR(VLOOKUP(I$5&$A44,표1[],4,0),"") | J45: =IFERROR(VLOOKUP(I$5&$A43,#REF!,2,0),"") | L45: =IFERROR(VLOOKUP(L$5&$A44,표1[],4,0),"") | M45: =IFERROR(VLOOKUP(L$5&$A43,#REF!,2,0),"") | O45: =IFERROR(VLOOKUP(O$5&$A44,표1[],4,0),"") | P45: =IFERROR(VLOOKUP(O$5&$A43,#REF!,2,0),"") | R45: =IFERROR(VLOOKUP(R$5&$A44,표1[],4,0),"") | S45: =IFERROR(VLOOKUP(R$5&$A43,#REF!,2,0),"") | U45: =IFERROR(VLOOKUP(U$5&$A44,표1[],4,0),"") | V45: =IFERROR(VLOOKUP(U$5&$A43,#REF!,2,0),"") | X45: =IFERROR(VLOOKUP(X$5&$A44,표1[],4,0),"") | Y45: =IFERROR(VLOOKUP(X$5&$A43,#REF!,2,0),"") | AA45: =IFERROR(VLOOKUP(AA$5&$A44,표1[],4,0),"") | AB45: =IFERROR(VLOOKUP(AA$5&$A43,#REF!,2,0),"") | AD45: =IFERROR(VLOOKUP(AD$5&$A44,표1[],4,0),"") | AE45: =IFERROR(VLOOKUP(AD$5&$A43,#REF!,2,0),"") | AG45: =IFERROR(VLOOKUP(AG$5&$A44,표1[],4,0),"") | AH45: =IFERROR(VLOOKUP(AG$5&$A43,#REF!,2,0),"")
C46: =IFERROR(VLOOKUP(C$5&$A44,표1[],6,0),"") | D46: =IFERROR(VLOOKUP(C$5&#REF!,#REF!,2,0),"") | F46: =IFERROR(VLOOKUP(F$5&$A44,표1[],6,0),"") | G46: =IFERROR(VLOOKUP(F$5&#REF!,#REF!,2,0),"") | I46: =IFERROR(VLOOKUP(I$5&$A44,표1[],6,0),"") | J46: =IFERROR(VLOOKUP(I$5&#REF!,#REF!,2,0),"") | L46: =IFERROR(VLOOKUP(L$5&$A44,표1[],6,0),"") | M46: =IFERROR(VLOOKUP(L$5&#REF!,#REF!,2,0),"") | O46: =IFERROR(VLOOKUP(O$5&$A44,표1[],6,0),"") | P46: =IFERROR(VLOOKUP(O$5&#REF!,#REF!,2,0),"") | R46: =IFERROR(VLOOKUP(R$5&$A44,표1[],6,0),"") | S46: =IFERROR(VLOOKUP(R$5&#REF!,#REF!,2,0),"") | U46: =IFERROR(VLOOKUP(U$5&$A44,표1[],6,0),"") | V46: =IFERROR(VLOOKUP(U$5&#REF!,#REF!,2,0),"") | X46: =IFERROR(VLOOKUP(X$5&$A44,표1[],6,0),"") | Y46: =IFERROR(VLOOKUP(X$5&#REF!,#REF!,2,0),"") | AA46: =IFERROR(VLOOKUP(AA$5&$A44,표1[],6,0),"") | AB46: =IFERROR(VLOOKUP(AA$5&#REF!,#REF!,2,0),"") | AD46: =IFERROR(VLOOKUP(AD$5&$A44,표1[],6,0),"") | AE46: =IFERROR(VLOOKUP(AD$5&#REF!,#REF!,2,0),"") | AG46: =IFERROR(VLOOKUP(AG$5&$A44,표1[],6,0),"") | AH46: =IFERROR(VLOOKUP(AG$5&#REF!,#REF!,2,0),"")
C47: =IFERROR(VLOOKUP(C$5&$A44,표1[],7,0),"") | D47: =IFERROR(VLOOKUP(C$5&$A44,표1[],1,0),"E") -> E | F47: =IFERROR(VLOOKUP(F$5&$A44,표1[],7,0),"") | G47: =IFERROR(VLOOKUP(F$5&$A44,표1[],1,0),"E") -> E | I47: =IFERROR(VLOOKUP(I$5&$A44,표1[],7,0),"") | J47: =IFERROR(VLOOKUP(I$5&$A44,표1[],1,0),"E") -> E | L47: =IFERROR(VLOOKUP(L$5&$A44,표1[],7,0),"") | M47: =IFERROR(VLOOKUP(L$5&$A44,표1[],1,0),"E") -> E | O47: =IFERROR(VLOOKUP(O$5&$A44,표1[],7,0),"") | P47: =IFERROR(VLOOKUP(O$5&$A44,표1[],1,0),"E") -> E | R47: =IFERROR(VLOOKUP(R$5&$A44,표1[],7,0),"") | S47: =IFERROR(VLOOKUP(R$5&$A44,표1[],1,0),"E") -> E | U47: =IFERROR(VLOOKUP(U$5&$A44,표1[],7,0),"") | V47: =IFERROR(VLOOKUP(U$5&$A44,표1[],1,0),"E") -> E | X47: =IFERROR(VLOOKUP(X$5&$A44,표1[],7,0),"") | Y47: =IFERROR(VLOOKUP(X$5&$A44,표1[],1,0),"E") -> E | AA47: =IFERROR(VLOOKUP(AA$5&$A44,표1[],7,0),"") | AB47: =IFERROR(VLOOKUP(AA$5&$A44,표1[],1,0),"E") -> E | AD47: =IFERROR(VLOOKUP(AD$5&$A44,표1[],7,0),"") | AE47: =IFERROR(VLOOKUP(AD$5&$A44,표1[],1,0),"E") -> E | AG47: =IFERROR(VLOOKUP(AG$5&$A44,표1[],7,0),"") | AH47: =IFERROR(VLOOKUP(AG$5&$A44,표1[],1,0),"E") -> E
A51: =A44+1 -> 7 | C51: =IFERROR(VLOOKUP(C$5&$A51,표1[],2,0),"") | D51: =IFERROR(VLOOKUP(C$5&$A51,표1[],9,0),"") | F51: =IFERROR(VLOOKUP(F$5&$A51,표1[],2,0),"") | G51: =IFERROR(VLOOKUP(F$5&$A51,표1[],9,0),"") | I51: =IFERROR(VLOOKUP(I$5&$A51,표1[],2,0),"") | J51: =IFERROR(VLOOKUP(I$5&$A51,표1[],9,0),"") | L51: =IFERROR(VLOOKUP(L$5&$A51,표1[],2,0),"") | M51: =IFERROR(VLOOKUP(L$5&$A51,표1[],9,0),"") | O51: =IFERROR(VLOOKUP(O$5&$A51,표1[],2,0),"") | P51: =IFERROR(VLOOKUP(O$5&$A51,표1[],9,0),"") | R51: =IFERROR(VLOOKUP(R$5&$A51,표1[],2,0),"") | S51: =IFERROR(VLOOKUP(R$5&$A51,표1[],9,0),"") | U51: =IFERROR(VLOOKUP(U$5&$A51,표1[],2,0),"") | V51: =IFERROR(VLOOKUP(U$5&$A51,표1[],9,0),"") | X51: =IFERROR(VLOOKUP(X$5&$A51,표1[],2,0),"") | Y51: =IFERROR(VLOOKUP(X$5&$A51,표1[],9,0),"") | AA51: =IFERROR(VLOOKUP(AA$5&$A51,표1[],2,0),"") | AB51: =IFERROR(VLOOKUP(AA$5&$A51,표1[],9,0),"") | AD51: =IFERROR(VLOOKUP(AD$5&$A51,표1[],2,0),"") | AE51: =IFERROR(VLOOKUP(AD$5&$A51,표1[],9,0),"") | AG51: =IFERROR(VLOOKUP(AG$5&$A51,표1[],2,0),"") | AH51: =IFERROR(VLOOKUP(AG$5&$A51,표1[],9,0),"")
C52: =IFERROR(VLOOKUP(C$5&$A51,표1[],4,0),"") | D52: =IFERROR(VLOOKUP(C$5&$A50,#REF!,2,0),"") | F52: =IFERROR(VLOOKUP(F$5&$A51,표1[],4,0),"") | G52: =IFERROR(VLOOKUP(F$5&$A50,#REF!,2,0),"") | I52: =IFERROR(VLOOKUP(I$5&$A51,표1[],4,0),"") | J52: =IFERROR(VLOOKUP(I$5&$A50,#REF!,2,0),"") | L52: =IFERROR(VLOOKUP(L$5&$A51,표1[],4,0),"") | M52: =IFERROR(VLOOKUP(L$5&$A50,#REF!,2,0),"") | O52: =IFERROR(VLOOKUP(O$5&$A51,표1[],4,0),"") | P52: =IFERROR(VLOOKUP(O$5&$A50,#REF!,2,0),"") | R52: =IFERROR(VLOOKUP(R$5&$A51,표1[],4,0),"") | S52: =IFERROR(VLOOKUP(R$5&$A50,#REF!,2,0),"") | U52: =IFERROR(VLOOKUP(U$5&$A51,표1[],4,0),"") | V52: =IFERROR(VLOOKUP(U$5&$A50,#REF!,2,0),"") | X52: =IFERROR(VLOOKUP(X$5&$A51,표1[],4,0),"") | Y52: =IFERROR(VLOOKUP(X$5&$A50,#REF!,2,0),"") | AA52: =IFERROR(VLOOKUP(AA$5&$A51,표1[],4,0),"") | AB52: =IFERROR(VLOOKUP(AA$5&$A50,#REF!,2,0),"") | AD52: =IFERROR(VLOOKUP(AD$5&$A51,표1[],4,0),"") | AE52: =IFERROR(VLOOKUP(AD$5&$A50,#REF!,2,0),"") | AG52: =IFERROR(VLOOKUP(AG$5&$A51,표1[],4,0),"") | AH52: =IFERROR(VLOOKUP(AG$5&$A50,#REF!,2,0),"")
C53: =IFERROR(VLOOKUP(C$5&$A51,표1[],6,0),"") | D53: =IFERROR(VLOOKUP(C$5&#REF!,#REF!,2,0),"") | F53: =IFERROR(VLOOKUP(F$5&$A51,표1[],6,0),"") | G53: =IFERROR(VLOOKUP(F$5&#REF!,#REF!,2,0),"") | I53: =IFERROR(VLOOKUP(I$5&$A51,표1[],6,0),"") | J53: =IFERROR(VLOOKUP(I$5&#REF!,#REF!,2,0),"") | L53: =IFERROR(VLOOKUP(L$5&$A51,표1[],6,0),"") | M53: =IFERROR(VLOOKUP(L$5&#REF!,#REF!,2,0),"") | O53: =IFERROR(VLOOKUP(O$5&$A51,표1[],6,0),"") | P53: =IFERROR(VLOOKUP(O$5&#REF!,#REF!,2,0),"") | R53: =IFERROR(VLOOKUP(R$5&$A51,표1[],6,0),"") | S53: =IFERROR(VLOOKUP(R$5&#REF!,#REF!,2,0),"") | U53: =IFERROR(VLOOKUP(U$5&$A51,표1[],6,0),"") | V53: =IFERROR(VLOOKUP(U$5&#REF!,#REF!,2,0),"") | X53: =IFERROR(VLOOKUP(X$5&$A51,표1[],6,0),"") | Y53: =IFERROR(VLOOKUP(X$5&#REF!,#REF!,2,0),"") | AA53: =IFERROR(VLOOKUP(AA$5&$A51,표1[],6,0),"") | AB53: =IFERROR(VLOOKUP(AA$5&#REF!,#REF!,2,0),"") | AD53: =IFERROR(VLOOKUP(AD$5&$A51,표1[],6,0),"") | AE53: =IFERROR(VLOOKUP(AD$5&#REF!,#REF!,2,0),"") | AG53: =IFERROR(VLOOKUP(AG$5&$A51,표1[],6,0),"") | AH53: =IFERROR(VLOOKUP(AG$5&#REF!,#REF!,2,0),"")
C54: =IFERROR(VLOOKUP(C$5&$A51,표1[],7,0),"") | D54: =IFERROR(VLOOKUP(C$5&$A51,표1[],1,0),"E") -> E | F54: =IFERROR(VLOOKUP(F$5&$A51,표1[],7,0),"") | G54: =IFERROR(VLOOKUP(F$5&$A51,표1[],1,0),"E") -> E | I54: =IFERROR(VLOOKUP(I$5&$A51,표1[],7,0),"") | J54: =IFERROR(VLOOKUP(I$5&$A51,표1[],1,0),"E") -> E | L54: =IFERROR(VLOOKUP(L$5&$A51,표1[],7,0),"") | M54: =IFERROR(VLOOKUP(L$5&$A51,표1[],1,0),"E") -> E | O54: =IFERROR(VLOOKUP(O$5&$A51,표1[],7,0),"") | P54: =IFERROR(VLOOKUP(O$5&$A51,표1[],1,0),"E") -> E | R54: =IFERROR(VLOOKUP(R$5&$A51,표1[],7,0),"") | S54: =IFERROR(VLOOKUP(R$5&$A51,표1[],1,0),"E") -> E | U54: =IFERROR(VLOOKUP(U$5&$A51,표1[],7,0),"") | V54: =IFERROR(VLOOKUP(U$5&$A51,표1[],1,0),"E") -> E | X54: =IFERROR(VLOOKUP(X$5&$A51,표1[],7,0),"") | Y54: =IFERROR(VLOOKUP(X$5&$A51,표1[],1,0),"E") -> E | AA54: =IFERROR(VLOOKUP(AA$5&$A51,표1[],7,0),"") | AB54: =IFERROR(VLOOKUP(AA$5&$A51,표1[],1,0),"E") -> E | AD54: =IFERROR(VLOOKUP(AD$5&$A51,표1[],7,0),"") | AE54: =IFERROR(VLOOKUP(AD$5&$A51,표1[],1,0),"E") -> E | AG54: =IFERROR(VLOOKUP(AG$5&$A51,표1[],7,0),"") | AH54: =IFERROR(VLOOKUP(AG$5&$A51,표1[],1,0),"E") -> E
A58: =A51+1 -> 8 | C58: =IFERROR(VLOOKUP(C$5&$A58,표1[],2,0),"") | D58: =IFERROR(VLOOKUP(C$5&$A58,표1[],9,0),"") | F58: =IFERROR(VLOOKUP(F$5&$A58,표1[],2,0),"") | G58: =IFERROR(VLOOKUP(F$5&$A58,표1[],9,0),"") | I58: =IFERROR(VLOOKUP(I$5&$A58,표1[],2,0),"") | J58: =IFERROR(VLOOKUP(I$5&$A58,표1[],9,0),"") | L58: =IFERROR(VLOOKUP(L$5&$A58,표1[],2,0),"") | M58: =IFERROR(VLOOKUP(L$5&$A58,표1[],9,0),"") | O58: =IFERROR(VLOOKUP(O$5&$A58,표1[],2,0),"") | P58: =IFERROR(VLOOKUP(O$5&$A58,표1[],9,0),"") | R58: =IFERROR(VLOOKUP(R$5&$A58,표1[],2,0),"") | S58: =IFERROR(VLOOKUP(R$5&$A58,표1[],9,0),"") | U58: =IFERROR(VLOOKUP(U$5&$A58,표1[],2,0),"") | V58: =IFERROR(VLOOKUP(U$5&$A58,표1[],9,0),"") | X58: =IFERROR(VLOOKUP(X$5&$A58,표1[],2,0),"") | Y58: =IFERROR(VLOOKUP(X$5&$A58,표1[],9,0),"") | AA58: =IFERROR(VLOOKUP(AA$5&$A58,표1[],2,0),"") | AB58: =IFERROR(VLOOKUP(AA$5&$A58,표1[],9,0),"") | AD58: =IFERROR(VLOOKUP(AD$5&$A58,표1[],2,0),"") | AE58: =IFERROR(VLOOKUP(AD$5&$A58,표1[],9,0),"") | AG58: =IFERROR(VLOOKUP(AG$5&$A58,표1[],2,0),"") | AH58: =IFERROR(VLOOKUP(AG$5&$A58,표1[],9,0),"")
C59: =IFERROR(VLOOKUP(C$5&$A58,표1[],4,0),"") | D59: =IFERROR(VLOOKUP(C$5&$A57,#REF!,2,0),"") | F59: =IFERROR(VLOOKUP(F$5&$A58,표1[],4,0),"") | G59: =IFERROR(VLOOKUP(F$5&$A57,#REF!,2,0),"") | I59: =IFERROR(VLOOKUP(I$5&$A58,표1[],4,0),"") | J59: =IFERROR(VLOOKUP(I$5&$A57,#REF!,2,0),"") | L59: =IFERROR(VLOOKUP(L$5&$A58,표1[],4,0),"") | M59: =IFERROR(VLOOKUP(L$5&$A57,#REF!,2,0),"") | O59: =IFERROR(VLOOKUP(O$5&$A58,표1[],4,0),"") | P59: =IFERROR(VLOOKUP(O$5&$A57,#REF!,2,0),"") | R59: =IFERROR(VLOOKUP(R$5&$A58,표1[],4,0),"") | S59: =IFERROR(VLOOKUP(R$5&$A57,#REF!,2,0),"") | U59: =IFERROR(VLOOKUP(U$5&$A58,표1[],4,0),"") | V59: =IFERROR(VLOOKUP(U$5&$A57,#REF!,2,0),"") | X59: =IFERROR(VLOOKUP(X$5&$A58,표1[],4,0),"") | Y59: =IFERROR(VLOOKUP(X$5&$A57,#REF!,2,0),"") | AA59: =IFERROR(VLOOKUP(AA$5&$A58,표1[],4,0),"") | AB59: =IFERROR(VLOOKUP(AA$5&$A57,#REF!,2,0),"") | AD59: =IFERROR(VLOOKUP(AD$5&$A58,표1[],4,0),"") | AE59: =IFERROR(VLOOKUP(AD$5&$A57,#REF!,2,0),"") | AG59: =IFERROR(VLOOKUP(AG$5&$A58,표1[],4,0),"") | AH59: =IFERROR(VLOOKUP(AG$5&$A57,#REF!,2,0),"")
C60: =IFERROR(VLOOKUP(C$5&$A58,표1[],6,0),"") | D60: =IFERROR(VLOOKUP(C$5&#REF!,#REF!,2,0),"") | F60: =IFERROR(VLOOKUP(F$5&$A58,표1[],6,0),"") | G60: =IFERROR(VLOOKUP(F$5&#REF!,#REF!,2,0),"") | I60: =IFERROR(VLOOKUP(I$5&$A58,표1[],6,0),"") | J60: =IFERROR(VLOOKUP(I$5&#REF!,#REF!,2,0),"") | L60: =IFERROR(VLOOKUP(L$5&$A58,표1[],6,0),"") | M60: =IFERROR(VLOOKUP(L$5&#REF!,#REF!,2,0),"") | O60: =IFERROR(VLOOKUP(O$5&$A58,표1[],6,0),"") | P60: =IFERROR(VLOOKUP(O$5&#REF!,#REF!,2,0),"") | R60: =IFERROR(VLOOKUP(R$5&$A58,표1[],6,0),"") | S60: =IFERROR(VLOOKUP(R$5&#REF!,#REF!,2,0),"") | U60: =IFERROR(VLOOKUP(U$5&$A58,표1[],6,0),"") | V60: =IFERROR(VLOOKUP(U$5&#REF!,#REF!,2,0),"") | X60: =IFERROR(VLOOKUP(X$5&$A58,표1[],6,0),"") | Y60: =IFERROR(VLOOKUP(X$5&#REF!,#REF!,2,0),"") | AA60: =IFERROR(VLOOKUP(AA$5&$A58,표1[],6,0),"") | AB60: =IFERROR(VLOOKUP(AA$5&#REF!,#REF!,2,0),"") | AD60: =IFERROR(VLOOKUP(AD$5&$A58,표1[],6,0),"") | AE60: =IFERROR(VLOOKUP(AD$5&#REF!,#REF!,2,0),"") | AG60: =IFERROR(VLOOKUP(AG$5&$A58,표1[],6,0),"") | AH60: =IFERROR(VLOOKUP(AG$5&#REF!,#REF!,2,0),"")
C61: =IFERROR(VLOOKUP(C$5&$A58,표1[],7,0),"") | D61: =IFERROR(VLOOKUP(C$5&$A58,표1[],1,0),"E") -> E | F61: =IFERROR(VLOOKUP(F$5&$A58,표1[],7,0),"") | G61: =IFERROR(VLOOKUP(F$5&$A58,표1[],1,0),"E") -> E | I61: =IFERROR(VLOOKUP(I$5&$A58,표1[],7,0),"") | J61: =IFERROR(VLOOKUP(I$5&$A58,표1[],1,0),"E") -> E | L61: =IFERROR(VLOOKUP(L$5&$A58,표1[],7,0),"") | M61: =IFERROR(VLOOKUP(L$5&$A58,표1[],1,0),"E") -> E | O61: =IFERROR(VLOOKUP(O$5&$A58,표1[],7,0),"") | P61: =IFERROR(VLOOKUP(O$5&$A58,표1[],1,0),"E") -> E | R61: =IFERROR(VLOOKUP(R$5&$A58,표1[],7,0),"") | S61: =IFERROR(VLOOKUP(R$5&$A58,표1[],1,0),"E") -> E | U61: =IFERROR(VLOOKUP(U$5&$A58,표1[],7,0),"") | V61: =IFERROR(VLOOKUP(U$5&$A58,표1[],1,0),"E") -> E | X61: =IFERROR(VLOOKUP(X$5&$A58,표1[],7,0),"") | Y61: =IFERROR(VLOOKUP(X$5&$A58,표1[],1,0),"E") -> E | AA61: =IFERROR(VLOOKUP(AA$5&$A58,표1[],7,0),"") | AB61: =IFERROR(VLOOKUP(AA$5&$A58,표1[],1,0),"E") -> E | AD61: =IFERROR(VLOOKUP(AD$5&$A58,표1[],7,0),"") | AE61: =IFERROR(VLOOKUP(AD$5&$A58,표1[],1,0),"E") -> E | AG61: =IFERROR(VLOOKUP(AG$5&$A58,표1[],7,0),"") | AH61: =IFERROR(VLOOKUP(AG$5&$A58,표1[],1,0),"E") -> E
A65: =A58+1 -> 9 | C65: =IFERROR(VLOOKUP(C$5&$A65,표1[],2,0),"") | D65: =IFERROR(VLOOKUP(C$5&$A65,표1[],9,0),"") | F65: =IFERROR(VLOOKUP(F$5&$A65,표1[],2,0),"") | G65: =IFERROR(VLOOKUP(F$5&$A65,표1[],9,0),"") | I65: =IFERROR(VLOOKUP(I$5&$A65,표1[],2,0),"") | J65: =IFERROR(VLOOKUP(I$5&$A65,표1[],9,0),"") | L65: =IFERROR(VLOOKUP(L$5&$A65,표1[],2,0),"") | M65: =IFERROR(VLOOKUP(L$5&$A65,표1[],9,0),"") | O65: =IFERROR(VLOOKUP(O$5&$A65,표1[],2,0),"") | P65: =IFERROR(VLOOKUP(O$5&$A65,표1[],9,0),"") | R65: =IFERROR(VLOOKUP(R$5&$A65,표1[],2,0),"") | S65: =IFERROR(VLOOKUP(R$5&$A65,표1[],9,0),"") | U65: =IFERROR(VLOOKUP(U$5&$A65,표1[],2,0),"") | V65: =IFERROR(VLOOKUP(U$5&$A65,표1[],9,0),"") | X65: =IFERROR(VLOOKUP(X$5&$A65,표1[],2,0),"") | Y65: =IFERROR(VLOOKUP(X$5&$A65,표1[],9,0),"") | AA65: =IFERROR(VLOOKUP(AA$5&$A65,표1[],2,0),"") | AB65: =IFERROR(VLOOKUP(AA$5&$A65,표1[],9,0),"") | AD65: =IFERROR(VLOOKUP(AD$5&$A65,표1[],2,0),"") | AE65: =IFERROR(VLOOKUP(AD$5&$A65,표1[],9,0),"") | AG65: =IFERROR(VLOOKUP(AG$5&$A65,표1[],2,0),"") | AH65: =IFERROR(VLOOKUP(AG$5&$A65,표1[],9,0),"")
C66: =IFERROR(VLOOKUP(C$5&$A65,표1[],4,0),"") | D66: =IFERROR(VLOOKUP(C$5&$A64,#REF!,2,0),"") | F66: =IFERROR(VLOOKUP(F$5&$A65,표1[],4,0),"") | G66: =IFERROR(VLOOKUP(F$5&$A64,#REF!,2,0),"") | I66: =IFERROR(VLOOKUP(I$5&$A65,표1[],4,0),"") | J66: =IFERROR(VLOOKUP(I$5&$A64,#REF!,2,0),"") | L66: =IFERROR(VLOOKUP(L$5&$A65,표1[],4,0),"") | M66: =IFERROR(VLOOKUP(L$5&$A64,#REF!,2,0),"") | O66: =IFERROR(VLOOKUP(O$5&$A65,표1[],4,0),"") | P66: =IFERROR(VLOOKUP(O$5&$A64,#REF!,2,0),"") | R66: =IFERROR(VLOOKUP(R$5&$A65,표1[],4,0),"") | S66: =IFERROR(VLOOKUP(R$5&$A64,#REF!,2,0),"") | U66: =IFERROR(VLOOKUP(U$5&$A65,표1[],4,0),"") | V66: =IFERROR(VLOOKUP(U$5&$A64,#REF!,2,0),"") | X66: =IFERROR(VLOOKUP(X$5&$A65,표1[],4,0),"") | Y66: =IFERROR(VLOOKUP(X$5&$A64,#REF!,2,0),"") | AA66: =IFERROR(VLOOKUP(AA$5&$A65,표1[],4,0),"") | AB66: =IFERROR(VLOOKUP(AA$5&$A64,#REF!,2,0),"") | AD66: =IFERROR(VLOOKUP(AD$5&$A65,표1[],4,0),"") | AE66: =IFERROR(VLOOKUP(AD$5&$A64,#REF!,2,0),"") | AG66: =IFERROR(VLOOKUP(AG$5&$A65,표1[],4,0),"") | AH66: =IFERROR(VLOOKUP(AG$5&$A64,#REF!,2,0),"")
C67: =IFERROR(VLOOKUP(C$5&$A65,표1[],6,0),"") | D67: =IFERROR(VLOOKUP(C$5&#REF!,#REF!,2,0),"") | F67: =IFERROR(VLOOKUP(F$5&$A65,표1[],6,0),"") | G67: =IFERROR(VLOOKUP(F$5&#REF!,#REF!,2,0),"") | I67: =IFERROR(VLOOKUP(I$5&$A65,표1[],6,0),"") | J67: =IFERROR(VLOOKUP(I$5&#REF!,#REF!,2,0),"") | L67: =IFERROR(VLOOKUP(L$5&$A65,표1[],6,0),"") | M67: =IFERROR(VLOOKUP(L$5&#REF!,#REF!,2,0),"") | O67: =IFERROR(VLOOKUP(O$5&$A65,표1[],6,0),"") | P67: =IFERROR(VLOOKUP(O$5&#REF!,#REF!,2,0),"") | R67: =IFERROR(VLOOKUP(R$5&$A65,표1[],6,0),"") | S67: =IFERROR(VLOOKUP(R$5&#REF!,#REF!,2,0),"") | U67: =IFERROR(VLOOKUP(U$5&$A65,표1[],6,0),"") | V67: =IFERROR(VLOOKUP(U$5&#REF!,#REF!,2,0),"") | X67: =IFERROR(VLOOKUP(X$5&$A65,표1[],6,0),"") | Y67: =IFERROR(VLOOKUP(X$5&#REF!,#REF!,2,0),"") | AA67: =IFERROR(VLOOKUP(AA$5&$A65,표1[],6,0),"") | AB67: =IFERROR(VLOOKUP(AA$5&#REF!,#REF!,2,0),"") | AD67: =IFERROR(VLOOKUP(AD$5&$A65,표1[],6,0),"") | AE67: =IFERROR(VLOOKUP(AD$5&#REF!,#REF!,2,0),"") | AG67: =IFERROR(VLOOKUP(AG$5&$A65,표1[],6,0),"") | AH67: =IFERROR(VLOOKUP(AG$5&#REF!,#REF!,2,0),"")
C68: =IFERROR(VLOOKUP(C$5&$A65,표1[],7,0),"") | D68: =IFERROR(VLOOKUP(C$5&$A65,표1[],1,0),"E") -> E | F68: =IFERROR(VLOOKUP(F$5&$A65,표1[],7,0),"") | G68: =IFERROR(VLOOKUP(F$5&$A65,표1[],1,0),"E") -> E | I68: =IFERROR(VLOOKUP(I$5&$A65,표1[],7,0),"") | J68: =IFERROR(VLOOKUP(I$5&$A65,표1[],1,0),"E") -> E | L68: =IFERROR(VLOOKUP(L$5&$A65,표1[],7,0),"") | M68: =IFERROR(VLOOKUP(L$5&$A65,표1[],1,0),"E") -> E | O68: =IFERROR(VLOOKUP(O$5&$A65,표1[],7,0),"") | P68: =IFERROR(VLOOKUP(O$5&$A65,표1[],1,0),"E") -> E | R68: =IFERROR(VLOOKUP(R$5&$A65,표1[],7,0),"") | S68: =IFERROR(VLOOKUP(R$5&$A65,표1[],1,0),"E") -> E | U68: =IFERROR(VLOOKUP(U$5&$A65,표1[],7,0),"") | V68: =IFERROR(VLOOKUP(U$5&$A65,표1[],1,0),"E") -> E | X68: =IFERROR(VLOOKUP(X$5&$A65,표1[],7,0),"") | Y68: =IFERROR(VLOOKUP(X$5&$A65,표1[],1,0),"E") -> E | AA68: =IFERROR(VLOOKUP(AA$5&$A65,표1[],7,0),"") | AB68: =IFERROR(VLOOKUP(AA$5&$A65,표1[],1,0),"E") -> E | AD68: =IFERROR(VLOOKUP(AD$5&$A65,표1[],7,0),"") | AE68: =IFERROR(VLOOKUP(AD$5&$A65,표1[],1,0),"E") -> E | AG68: =IFERROR(VLOOKUP(AG$5&$A65,표1[],7,0),"") | AH68: =IFERROR(VLOOKUP(AG$5&$A65,표1[],1,0),"E") -> E
A72: =A65+1 -> 10 | C72: =IFERROR(VLOOKUP(C$5&$A72,표1[],2,0),"") | D72: =IFERROR(VLOOKUP(C$5&$A72,표1[],9,0),"") | F72: =IFERROR(VLOOKUP(F$5&$A72,표1[],2,0),"") | G72: =IFERROR(VLOOKUP(F$5&$A72,표1[],9,0),"") | I72: =IFERROR(VLOOKUP(I$5&$A72,표1[],2,0),"") | J72: =IFERROR(VLOOKUP(I$5&$A72,표1[],9,0),"") | L72: =IFERROR(VLOOKUP(L$5&$A72,표1[],2,0),"") | M72: =IFERROR(VLOOKUP(L$5&$A72,표1[],9,0),"") | O72: =IFERROR(VLOOKUP(O$5&$A72,표1[],2,0),"") | P72: =IFERROR(VLOOKUP(O$5&$A72,표1[],9,0),"") | R72: =IFERROR(VLOOKUP(R$5&$A72,표1[],2,0),"") | S72: =IFERROR(VLOOKUP(R$5&$A72,표1[],9,0),"") | U72: =IFERROR(VLOOKUP(U$5&$A72,표1[],2,0),"") | V72: =IFERROR(VLOOKUP(U$5&$A72,표1[],9,0),"") | X72: =IFERROR(VLOOKUP(X$5&$A72,표1[],2,0),"") | Y72: =IFERROR(VLOOKUP(X$5&$A72,표1[],9,0),"") | AA72: =IFERROR(VLOOKUP(AA$5&$A72,표1[],2,0),"") | AB72: =IFERROR(VLOOKUP(AA$5&$A72,표1[],9,0),"") | AD72: =IFERROR(VLOOKUP(AD$5&$A72,표1[],2,0),"") | AE72: =IFERROR(VLOOKUP(AD$5&$A72,표1[],9,0),"") | AG72: =IFERROR(VLOOKUP(AG$5&$A72,표1[],2,0),"") | AH72: =IFERROR(VLOOKUP(AG$5&$A72,표1[],9,0),"")
C73: =IFERROR(VLOOKUP(C$5&$A72,표1[],4,0),"") | D73: =IFERROR(VLOOKUP(C$5&$A71,#REF!,2,0),"") | F73: =IFERROR(VLOOKUP(F$5&$A72,표1[],4,0),"") | G73: =IFERROR(VLOOKUP(F$5&$A71,#REF!,2,0),"") | I73: =IFERROR(VLOOKUP(I$5&$A72,표1[],4,0),"") | J73: =IFERROR(VLOOKUP(I$5&$A71,#REF!,2,0),"") | L73: =IFERROR(VLOOKUP(L$5&$A72,표1[],4,0),"") | M73: =IFERROR(VLOOKUP(L$5&$A71,#REF!,2,0),"") | O73: =IFERROR(VLOOKUP(O$5&$A72,표1[],4,0),"") | P73: =IFERROR(VLOOKUP(O$5&$A71,#REF!,2,0),"") | R73: =IFERROR(VLOOKUP(R$5&$A72,표1[],4,0),"") | S73: =IFERROR(VLOOKUP(R$5&$A71,#REF!,2,0),"") | U73: =IFERROR(VLOOKUP(U$5&$A72,표1[],4,0),"") | V73: =IFERROR(VLOOKUP(U$5&$A71,#REF!,2,0),"") | X73: =IFERROR(VLOOKUP(X$5&$A72,표1[],4,0),"") | Y73: =IFERROR(VLOOKUP(X$5&$A71,#REF!,2,0),"") | AA73: =IFERROR(VLOOKUP(AA$5&$A72,표1[],4,0),"") | AB73: =IFERROR(VLOOKUP(AA$5&$A71,#REF!,2,0),"") | AD73: =IFERROR(VLOOKUP(AD$5&$A72,표1[],4,0),"") | AE73: =IFERROR(VLOOKUP(AD$5&$A71,#REF!,2,0),"") | AG73: =IFERROR(VLOOKUP(AG$5&$A72,표1[],4,0),"") | AH73: =IFERROR(VLOOKUP(AG$5&$A71,#REF!,2,0),"")
...
