Workbook

Sheet KPI 대시보드
B2: KPI 대시보드 | K2: 분기 선택 → | M2: 2023 1분기
B4: 수익 | I4: 신규 고객
B13: 실수익 | D13: 목표 수익 | F13: 목표 달성율 | I13: 실제 신규 고객 | K13: 목표 신규 고객 | M13: 목표 달성율
B14: =SUM('데이터 입력'!C12:E12) -> 988000 | D14: =SUM('데이터 입력'!F12:H12) -> 976000 | F14: =B14/D14 -> 1.0122951 | I14: =SUM('데이터 입력'!O12:Q12) -> 130 | K14: =SUM('데이터 입력'!R12:T12) -> 164 | M14: =I14/K14 -> 0.79268293
B16: 평균 고객 당 수익 | I16: 고객 당 유치비용
B25: 고객 당 실수익 | D25: 목표 고객 당 수익 | F25: 목표 달성율 | I25: 고객 당 실 유치비용 | K25: 목표 고객 당 유치비용 | M25: 목표 달성율
B26: =SUM('데이터 입력'!AM12:AO12)/3 -> 2287.2472 | D26: =SUM('데이터 입력'!AJ12:AL12)/3 -> 2350 | F26: =B26/D26 -> 0.9732967 | I26: =SUM('데이터 입력'!AA12:AC12)/3 -> 290.17835 | K26: =SUM('데이터 입력'!AD12:AF12)/3 -> 400 | M26: =I26/K26 -> 0.72544587

Sheet 데이터 입력
B2: 데이터 입력 | D2: 선택된 분기 : | E2: ='KPI 대시보드'!M2 -> 2023 1분기
G3: 분기 : | H3: 2023 1분기 | I3: 2023 2분기 | J3: 2023 3분기 | K3: 2023 4분기
B5: =$E$2 -> 2023 1분기 | C5: =_xlfn.SWITCH($E$2, $H$3, C19, $I$3, C28, $J$3, C37, $K$3, C46) -> 1월 | D5: =_xlfn.SWITCH($E$2, $H$3, D19, $I$3, D28, $J$3, D37, $K$3, D46) -> 2월 | E5: =_xlfn.SWITCH($E$2, $H$3, E19, $I$3, E28, $J$3, E37, $K$3, E46) -> 3월 | F5: =_xlfn.SWITCH($E$2, $H$3, F19, $I$3, F28, $J$3, F37, $K$3, F46) -> 1월 | G5: =_xlfn.SWITCH($E$2, $H$3, G19, $I$3, G28, $J$3, G37, $K$3, G46) -> 2월 | H5: =_xlfn.SWITCH($E$2, $H$3, H19, $I$3, H28, $J$3, H37, $K$3, H46) -> 3월 | I5: =_xlfn.SWITCH($E$2, $H$3, I19, $I$3, I28, $J$3, I37, $K$3, I46) -> 1월 | J5: =_xlfn.SWITCH($E$2, $H$3, J19, $I$3, J28, $J$3, J37, $K$3, J46) -> 2월 | ... AR5: =_xlfn.SWITCH($E$2, $H$3, AR19, $I$3, AR28, $J$3, AR37, $K$3, AR46) -> 3월
B6: 성명 | C6: 수익 | D6: 수익 | E6: 수익 | F6: 목표 수익 | G6: 목표 수익 | H6: 목표 수익 | I6: 전년도 수익 | J6: 전년도 수익 | K6: 전년도 수익 | L6: 고객 수 | M6: 고객 수 | N6: 고객 수 | O6: 신규 고객 수 | P6: 신규 고객 수 | Q6: 신규 고객 수 | R6: 목표 신규 고객 | S6: 목표 신규 고객 | T6: 목표 신규 고객 | U6: 전년도 신규 고객 | V6: 전년도 신규 고객 | W6: 전년도 신규 고객 | X6: 고객 유치 비용 | Y6: 고객 유치 비용 | Z6: 고객 유치 비용 | AA6: 고객 당 유치비용 | AB6: 고객 당 유치비용 | AC6: 고객 당 유치비용 | AD6: 목표 고객 유치비용 | AE6: 목표 고객 유치비용 | AF6: 목표 고객 유치비용 | AG6: 전년도 고객 당 유치비용 | AH6: 전년도 고객 당 유치비용 | AI6: 전년도 고객 당 유치비용 | AJ6: 목표 고객 당 수익 | AK6: 목표 고객 당 수익 | AL6: 목표 고객 당 수익 | AM6: 고객 당 수익 | AN6: 고객 당 수익 | AO6: 고객 당 수익 | AP6: 전년도 고객 당 수익 | AQ6: 전년도 고객 당 수익 | AR6: 전년도 고객 당 수익
B7: =$B$21 -> 홍길동 | C7: =_xlfn.SWITCH($E$2, $H$3, C21, $I$3, C30, $J$3, C39, $K$3, C48) -> 130000 | D7: =_xlfn.SWITCH($E$2, $H$3, D21, $I$3, D30, $J$3, D39, $K$3, D48) -> 135000 | E7: =_xlfn.SWITCH($E$2, $H$3, E21, $I$3, E30, $J$3, E39, $K$3, E48) -> 148000 | F7: =_xlfn.SWITCH($E$2, $H$3, F21, $I$3, F30, $J$3, F39, $K$3, F48) -> 180000 | G7: =_xlfn.SWITCH($E$2, $H$3, G21, $I$3, G30, $J$3, G39, $K$3, G48) -> 153000 | H7: =_xlfn.SWITCH($E$2, $H$3, H21, $I$3, H30, $J$3, H39, $K$3, H48) -> 155000 | I7: =_xlfn.SWITCH($E$2, $H$3, I21, $I$3, I30, $J$3, I39, $K$3, I48) -> 120000 | J7: =_xlfn.SWITCH($E$2, $H$3, J21, $I$3, J30, $J$3, J39, $K$3, J48) -> 130000 | ... AC7: =_xlfn.SWITCH($E$2, $H$3, AC21, $I$3, AC30, $J$3, AC39, $K$3, AC48) -> 250 | AD7: =IF(_xlfn.SWITCH($E$2, $H$3, AD21, $I$3, AD30, $J$3, AD39, $K$3, AD48)="","",_xlfn.SWITCH($E$2, $H$3, AD21, $I$3, AD30, $J$3, AD39, $K$3, AD48)) -> 400 | AE7: =IF(_xlfn.SWITCH($E$2, $H$3, AE21, $I$3, AE30, $J$3, AE39, $K$3, AE48)="","",_xlfn.SWITCH($E$2, $H$3, AE21, $I$3, AE30, $J$3, AE39, $K$3, AE48)) -> 400 | AF7: =IF(_xlfn.SWITCH($E$2, $H$3, AF21, $I$3, AF30, $J$3, AF39, $K$3, AF48)="","",_xlfn.SWITCH($E$2, $H$3, AF21, $I$3, AF30, $J$3, AF39, $K$3, AF48)) -> 400 | AG7: =IF(_xlfn.SWITCH($E$2, $H$3, AG21, $I$3, AG30, $J$3, AG39, $K$3, AG48)="","",_xlfn.SWITCH($E$2, $H$3, AG21, $I$3, AG30, $J$3, AG39, $K$3, AG48)) -> 390 | AH7: =IF(_xlfn.SWITCH($E$2, $H$3, AH21, $I$3, AH30, $J$3, AH39, $K$3, AH48)="","",_xlfn.SWITCH($E$2, $H$3, AH21, $I$3, AH30, $J$3, AH39, $K$3, AH48)) -> 400 | AI7: =IF(_xlfn.SWITCH($E$2, $H$3, AI21, $I$3, AI30, $J$3, AI39, $K$3, AI48)="","",_xlfn.SWITCH($E$2, $H$3, AI21, $I$3, AI30, $J$3, AI39, $K$3, AI48)) -> 395 | AJ7: =IF(_xlfn.SWITCH($E$2, $H$3, AJ21, $I$3, AJ30, $J$3, AJ39, $K$3, AJ48)="","",_xlfn.SWITCH($E$2, $H$3, AJ21, $I$3, AJ30, $J$3, AJ39, $K$3, AJ48)) -> 2300 | AK7: =IF(_xlfn.SWITCH($E$2, $H$3, AK21, $I$3, AK30, $J$3, AK39, $K$3, AK48)="","",_xlfn.SWITCH($E$2, $H$3, AK21, $I$3, AK30, $J$3, AK39, $K$3, AK48)) -> 2400 | ... AR7: =IF(_xlfn.SWITCH($E$2, $H$3, AR21, $I$3, AR30, $J$3, AR39, $K$3, AR48)="","",_xlfn.SWITCH($E$2, $H$3, AR21, $I$3, AR30, $J$3, AR39, $K$3, AR48)) -> 2300
B8: =$B$22 -> 이순신 | C8: =_xlfn.SWITCH($E$2, $H$3, C22, $I$3, C31, $J$3, C40, $K$3, C49) -> 185000 | D8: =_xlfn.SWITCH($E$2, $H$3, D22, $I$3, D31, $J$3, D40, $K$3, D49) -> 190000 | E8: =_xlfn.SWITCH($E$2, $H$3, E22, $I$3, E31, $J$3, E40, $K$3, E49) -> 200000 | F8: =_xlfn.SWITCH($E$2, $H$3, F22, $I$3, F31, $J$3, F40, $K$3, F49) -> 180000 | G8: =_xlfn.SWITCH($E$2, $H$3, G22, $I$3, G31, $J$3, G40, $K$3, G49) -> 153000 | H8: =_xlfn.SWITCH($E$2, $H$3, H22, $I$3, H31, $J$3, H40, $K$3, H49) -> 155000 | I8: =_xlfn.SWITCH($E$2, $H$3, I22, $I$3, I31, $J$3, I40, $K$3, I49) -> 165000 | J8: =_xlfn.SWITCH($E$2, $H$3, J22, $I$3, J31, $J$3, J40, $K$3, J49) -> 153000 | ... AC8: =_xlfn.SWITCH($E$2, $H$3, AC22, $I$3, AC31, $J$3, AC40, $K$3, AC49) -> 310 | AD8: =IF(_xlfn.SWITCH($E$2, $H$3, AD22, $I$3, AD31, $J$3, AD40, $K$3, AD49)="","",_xlfn.SWITCH($E$2, $H$3, AD22, $I$3, AD31, $J$3, AD40, $K$3, AD49)) -> 400 | AE8: =IF(_xlfn.SWITCH($E$2, $H$3, AE22, $I$3, AE31, $J$3, AE40, $K$3, AE49)="","",_xlfn.SWITCH($E$2, $H$3, AE22, $I$3, AE31, $J$3, AE40, $K$3, AE49)) -> 400 | AF8: =IF(_xlfn.SWITCH($E$2, $H$3, AF22, $I$3, AF31, $J$3, AF40, $K$3, AF49)="","",_xlfn.SWITCH($E$2, $H$3, AF22, $I$3, AF31, $J$3, AF40, $K$3, AF49)) -> 400 | AG8: =IF(_xlfn.SWITCH($E$2, $H$3, AG22, $I$3, AG31, $J$3, AG40, $K$3, AG49)="","",_xlfn.SWITCH($E$2, $H$3, AG22, $I$3, AG31, $J$3, AG40, $K$3, AG49)) -> 403 | AH8: =IF(_xlfn.SWITCH($E$2, $H$3, AH22, $I$3, AH31, $J$3, AH40, $K$3, AH49)="","",_xlfn.SWITCH($E$2, $H$3, AH22, $I$3, AH31, $J$3, AH40, $K$3, AH49)) -> 285 | AI8: =IF(_xlfn.SWITCH($E$2, $H$3, AI22, $I$3, AI31, $J$3, AI40, $K$3, AI49)="","",_xlfn.SWITCH($E$2, $H$3, AI22, $I$3, AI31, $J$3, AI40, $K$3, AI49)) -> 385 | AJ8: =IF(_xlfn.SWITCH($E$2, $H$3, AJ22, $I$3, AJ31, $J$3, AJ40, $K$3, AJ49)="","",_xlfn.SWITCH($E$2, $H$3, AJ22, $I$3, AJ31, $J$3, AJ40, $K$3, AJ49)) -> 2300 | AK8: =IF(_xlfn.SWITCH($E$2, $H$3, AK22, $I$3, AK31, $J$3, AK40, $K$3, AK49)="","",_xlfn.SWITCH($E$2, $H$3, AK22, $I$3, AK31, $J$3, AK40, $K$3, AK49)) -> 2500 | ... AR8: =IF(_xlfn.SWITCH($E$2, $H$3, AR22, $I$3, AR31, $J$3, AR40, $K$3, AR49)="","",_xlfn.SWITCH($E$2, $H$3, AR22, $I$3, AR31, $J$3, AR40, $K$3, AR49)) -> 2400
B9: =$B$23 -> 0 | C9: =_xlfn.SWITCH($E$2, $H$3, C23, $I$3, C32, $J$3, C41, $K$3, C50) -> 0 | D9: =_xlfn.SWITCH($E$2, $H$3, D23, $I$3, D32, $J$3, D41, $K$3, D50) -> 0 | E9: =_xlfn.SWITCH($E$2, $H$3, E23, $I$3, E32, $J$3, E41, $K$3, E50) -> 0 | F9: =_xlfn.SWITCH($E$2, $H$3, F23, $I$3, F32, $J$3, F41, $K$3, F50) -> 0 | G9: =_xlfn.SWITCH($E$2, $H$3, G23, $I$3, G32, $J$3, G41, $K$3, G50) -> 0 | H9: =_xlfn.SWITCH($E$2, $H$3, H23, $I$3, H32, $J$3, H41, $K$3, H50) -> 0 | I9: =_xlfn.SWITCH($E$2, $H$3, I23, $I$3, I32, $J$3, I41, $K$3, I50) -> 0 | J9: =_xlfn.SWITCH($E$2, $H$3, J23, $I$3, J32, $J$3, J41, $K$3, J50) -> 0 | ... AC9: =_xlfn.SWITCH($E$2, $H$3, AC23, $I$3, AC32, $J$3, AC41, $K$3, AC50) | AD9: =IF(_xlfn.SWITCH($E$2, $H$3, AD23, $I$3, AD32, $J$3, AD41, $K$3, AD50)="","",_xlfn.SWITCH($E$2, $H$3, AD23, $I$3, AD32, $J$3, AD41, $K$3, AD50)) | AE9: =IF(_xlfn.SWITCH($E$2, $H$3, AE23, $I$3, AE32, $J$3, AE41, $K$3, AE50)="","",_xlfn.SWITCH($E$2, $H$3, AE23, $I$3, AE32, $J$3, AE41, $K$3, AE50)) | AF9: =IF(_xlfn.SWITCH($E$2, $H$3, AF23, $I$3, AF32, $J$3, AF41, $K$3, AF50)="","",_xlfn.SWITCH($E$2, $H$3, AF23, $I$3, AF32, $J$3, AF41, $K$3, AF50)) | AG9: =IF(_xlfn.SWITCH($E$2, $H$3, AG23, $I$3, AG32, $J$3, AG41, $K$3, AG50)="","",_xlfn.SWITCH($E$2, $H$3, AG23, $I$3, AG32, $J$3, AG41, $K$3, AG50)) | AH9: =IF(_xlfn.SWITCH($E$2, $H$3, AH23, $I$3, AH32, $J$3, AH41, $K$3, AH50)="","",_xlfn.SWITCH($E$2, $H$3, AH23, $I$3, AH32, $J$3, AH41, $K$3, AH50)) | AI9: =IF(_xlfn.SWITCH($E$2, $H$3, AI23, $I$3, AI32, $J$3, AI41, $K$3, AI50)="","",_xlfn.SWITCH($E$2, $H$3, AI23, $I$3, AI32, $J$3, AI41, $K$3, AI50)) | AJ9: =IF(_xlfn.SWITCH($E$2, $H$3, AJ23, $I$3, AJ32, $J$3, AJ41, $K$3, AJ50)="","",_xlfn.SWITCH($E$2, $H$3, AJ23, $I$3, AJ32, $J$3, AJ41, $K$3, AJ50)) | AK9: =IF(_xlfn.SWITCH($E$2, $H$3, AK23, $I$3, AK32, $J$3, AK41, $K$3, AK50)="","",_xlfn.SWITCH($E$2, $H$3, AK23, $I$3, AK32, $J$3, AK41, $K$3, AK50)) | ... AR9: =IF(_xlfn.SWITCH($E$2, $H$3, AR23, $I$3, AR32, $J$3, AR41, $K$3, AR50)="","",_xlfn.SWITCH($E$2, $H$3, AR23, $I$3, AR32, $J$3, AR41, $K$3, AR50))
B10: =$B$24 -> 0 | C10: =_xlfn.SWITCH($E$2, $H$3, C24, $I$3, C33, $J$3, C42, $K$3, C51) -> 0 | D10: =_xlfn.SWITCH($E$2, $H$3, D24, $I$3, D33, $J$3, D42, $K$3, D51) -> 0 | E10: =_xlfn.SWITCH($E$2, $H$3, E24, $I$3, E33, $J$3, E42, $K$3, E51) -> 0 | F10: =_xlfn.SWITCH($E$2, $H$3, F24, $I$3, F33, $J$3, F42, $K$3, F51) -> 0 | G10: =_xlfn.SWITCH($E$2, $H$3, G24, $I$3, G33, $J$3, G42, $K$3, G51) -> 0 | H10: =_xlfn.SWITCH($E$2, $H$3, H24, $I$3, H33, $J$3, H42, $K$3, H51) -> 0 | I10: =_xlfn.SWITCH($E$2, $H$3, I24, $I$3, I33, $J$3, I42, $K$3, I51) -> 0 | J10: =_xlfn.SWITCH($E$2, $H$3, J24, $I$3, J33, $J$3, J42, $K$3, J51) -> 0 | ... AC10: =_xlfn.SWITCH($E$2, $H$3, AC24, $I$3, AC33, $J$3, AC42, $K$3, AC51) | AD10: =IF(_xlfn.SWITCH($E$2, $H$3, AD24, $I$3, AD33, $J$3, AD42, $K$3, AD51)="","",_xlfn.SWITCH($E$2, $H$3, AD24, $I$3, AD33, $J$3, AD42, $K$3, AD51)) | AE10: =IF(_xlfn.SWITCH($E$2, $H$3, AE24, $I$3, AE33, $J$3, AE42, $K$3, AE51)="","",_xlfn.SWITCH($E$2, $H$3, AE24, $I$3, AE33, $J$3, AE42, $K$3, AE51)) | AF10: =IF(_xlfn.SWITCH($E$2, $H$3, AF24, $I$3, AF33, $J$3, AF42, $K$3, AF51)="","",_xlfn.SWITCH($E$2, $H$3, AF24, $I$3, AF33, $J$3, AF42, $K$3, AF51)) | AG10: =IF(_xlfn.SWITCH($E$2, $H$3, AG24, $I$3, AG33, $J$3, AG42, $K$3, AG51)="","",_xlfn.SWITCH($E$2, $H$3, AG24, $I$3, AG33, $J$3, AG42, $K$3, AG51)) | AH10: =IF(_xlfn.SWITCH($E$2, $H$3, AH24, $I$3, AH33, $J$3, AH42, $K$3, AH51)="","",_xlfn.SWITCH($E$2, $H$3, AH24, $I$3, AH33, $J$3, AH42, $K$3, AH51)) | AI10: =IF(_xlfn.SWITCH($E$2, $H$3, AI24, $I$3, AI33, $J$3, AI42, $K$3, AI51)="","",_xlfn.SWITCH($E$2, $H$3, AI24, $I$3, AI33, $J$3, AI42, $K$3, AI51)) | AJ10: =IF(_xlfn.SWITCH($E$2, $H$3, AJ24, $I$3, AJ33, $J$3, AJ42, $K$3, AJ51)="","",_xlfn.SWITCH($E$2, $H$3, AJ24, $I$3, AJ33, $J$3, AJ42, $K$3, AJ51)) | AK10: =IF(_xlfn.SWITCH($E$2, $H$3, AK24, $I$3, AK33, $J$3, AK42, $K$3, AK51)="","",_xlfn.SWITCH($E$2, $H$3, AK24, $I$3, AK33, $J$3, AK42, $K$3, AK51)) | ... AR10: =IF(_xlfn.SWITCH($E$2, $H$3, AR24, $I$3, AR33, $J$3, AR42, $K$3, AR51)="","",_xlfn.SWITCH($E$2, $H$3, AR24, $I$3, AR33, $J$3, AR42, $K$3, AR51))
B11: =$B$25 -> 0 | C11: =_xlfn.SWITCH($E$2, $H$3, C25, $I$3, C34, $J$3, C43, $K$3, C52) -> 0 | D11: =_xlfn.SWITCH($E$2, $H$3, D25, $I$3, D34, $J$3, D43, $K$3, D52) -> 0 | E11: =_xlfn.SWITCH($E$2, $H$3, E25, $I$3, E34, $J$3, E43, $K$3, E52) -> 0 | F11: =_xlfn.SWITCH($E$2, $H$3, F25, $I$3, F34, $J$3, F43, $K$3, F52) -> 0 | G11: =_xlfn.SWITCH($E$2, $H$3, G25, $I$3, G34, $J$3, G43, $K$3, G52) -> 0 | H11: =_xlfn.SWITCH($E$2, $H$3, H25, $I$3, H34, $J$3, H43, $K$3, H52) -> 0 | I11: =_xlfn.SWITCH($E$2, $H$3, I25, $I$3, I34, $J$3, I43, $K$3, I52) -> 0 | J11: =_xlfn.SWITCH($E$2, $H$3, J25, $I$3, J34, $J$3, J43, $K$3, J52) -> 0 | ... AC11: =_xlfn.SWITCH($E$2, $H$3, AC25, $I$3, AC34, $J$3, AC43, $K$3, AC52) | AD11: =IF(_xlfn.SWITCH($E$2, $H$3, AD25, $I$3, AD34, $J$3, AD43, $K$3, AD52)="","",_xlfn.SWITCH($E$2, $H$3, AD25, $I$3, AD34, $J$3, AD43, $K$3, AD52)) | AE11: =IF(_xlfn.SWITCH($E$2, $H$3, AE25, $I$3, AE34, $J$3, AE43, $K$3, AE52)="","",_xlfn.SWITCH($E$2, $H$3, AE25, $I$3, AE34, $J$3, AE43, $K$3, AE52)) | AF11: =IF(_xlfn.SWITCH($E$2, $H$3, AF25, $I$3, AF34, $J$3, AF43, $K$3, AF52)="","",_xlfn.SWITCH($E$2, $H$3, AF25, $I$3, AF34, $J$3, AF43, $K$3, AF52)) | AG11: =IF(_xlfn.SWITCH($E$2, $H$3, AG25, $I$3, AG34, $J$3, AG43, $K$3, AG52)="","",_xlfn.SWITCH($E$2, $H$3, AG25, $I$3, AG34, $J$3, AG43, $K$3, AG52)) | AH11: =IF(_xlfn.SWITCH($E$2, $H$3, AH25, $I$3, AH34, $J$3, AH43, $K$3, AH52)="","",_xlfn.SWITCH($E$2, $H$3, AH25, $I$3, AH34, $J$3, AH43, $K$3, AH52)) | AI11: =IF(_xlfn.SWITCH($E$2, $H$3, AI25, $I$3, AI34, $J$3, AI43, $K$3, AI52)="","",_xlfn.SWITCH($E$2, $H$3, AI25, $I$3, AI34, $J$3, AI43, $K$3, AI52)) | AJ11: =IF(_xlfn.SWITCH($E$2, $H$3, AJ25, $I$3, AJ34, $J$3, AJ43, $K$3, AJ52)="","",_xlfn.SWITCH($E$2, $H$3, AJ25, $I$3, AJ34, $J$3, AJ43, $K$3, AJ52)) | AK11: =IF(_xlfn.SWITCH($E$2, $H$3, AK25, $I$3, AK34, $J$3, AK43, $K$3, AK52)="","",_xlfn.SWITCH($E$2, $H$3, AK25, $I$3, AK34, $J$3, AK43, $K$3, AK52)) | ... AR11: =IF(_xlfn.SWITCH($E$2, $H$3, AR25, $I$3, AR34, $J$3, AR43, $K$3, AR52)="","",_xlfn.SWITCH($E$2, $H$3, AR25, $I$3, AR34, $J$3, AR43, $K$3, AR52))
B12: 합계 | C12: =SUM(C7:C11) -> 315000 | D12: =SUM(D7:D11) -> 325000 | E12: =SUM(E7:E11) -> 348000 | F12: =SUM(F7:F11) -> 360000 | G12: =SUM(G7:G11) -> 306000 | H12: =SUM(H7:H11) -> 310000 | I12: =SUM(I7:I11) -> 285000 | J12: =SUM(J7:J11) -> 283000 | ... Z12: =SUM(Z7:Z11) -> 14300 | AA12: =AVERAGE(AA7:AA11) -> 258.88889 | AB12: =AVERAGE(AB7:AB11) -> 331.64615 | AC12: =AVERAGE(AC7:AC11) -> 280 | AD12: =AVERAGE(AD7:AD11) -> 400 | AE12: =AVERAGE(AE7:AE11) -> 400 | AF12: =AVERAGE(AF7:AF11) -> 400 | AG12: =AVERAGE(AG7:AG11) -> 396.5 | AH12: =AVERAGE(AH7:AH11) -> 342.5 | ... AR12: =AVERAGE(AR7:AR11) -> 2350
B14: 연간 총 수익 : | E14: =SUM('데이터 입력'!C26:E26,'데이터 입력'!C35:E35,'데이터 입력'!C44:E44,'데이터 입력'!C53:E53) -> 3841000
B15: 연간 총 고객 수 : | E15: =SUM(L26:N26,L35:N35,L44:N44,L53:N53) -> 1901
B16: 연간 신규 고객 수 : | E16: =SUM(O26:Q26,O35:Q35,O44:Q44,O53:Q53) -> 525
B17: 고객 당 수익 : | E17: =E14/E15 -> 2020.5155
B19: 2023 1분기 | C19: 1월 | D19: 2월 | E19: 3월 | F19: 1월 | G19: 2월 | H19: 3월 | I19: 1월 | J19: 2월 | K19: 3월 | L19: 1월 | M19: 2월 | N19: 3월 | O19: 1월 | P19: 2월 | Q19: 3월 | R19: 1월 | S19: 2월 | T19: 3월 | U19: 1월 | V19: 2월 | W19: 3월 | X19: 1월 | Y19: 2월 | Z19: 3월 | AA19: 1월 | AB19: 2월 | AC19: 3월 | AD19: 1월 | AE19: 2월 | AF19: 3월 | AG19: 1월 | AH19: 2월 | AI19: 3월 | AJ19: 1월 | AK19: 2월 | AL19: 3월 | AM19: 1월 | AN19: 2월 | AO19: 3월 | AP19: 1월 | AQ19: 2월 | AR19: 3월
B20: 성명 | C20: 수익 | D20: 수익 | E20: 수익 | F20: 목표 수익 | G20: 목표 수익 | H20: 목표 수익 | I20: 전년도 수익 | J20: 전년도 수익 | K20: 전년도 수익 | L20: 고객 수 | M20: 고객 수 | N20: 고객 수 | O20: 신규 고객 수 | P20: 신규 고객 수 | Q20: 신규 고객 수 | R20: 목표 신규 고객 | S20: 목표 신규 고객 | T20: 목표 신규 고객 | U20: 전년도 신규 고객 | V20: 전년도 신규 고객 | W20: 전년도 신규 고객 | X20: 고객 유치 비용 | Y20: 고객 유치 비용 | Z20: 고객 유치 비용 | AA20: 고객 당 유치비용 | AB20: 고객 당 유치비용 | AC20: 고객 당 유치비용 | AD20: 목표 고객 유치비용 | AE20: 목표 고객 유치비용 | AF20: 목표 고객 유치비용 | AG20: 전년도 고객 당 유치비용 | AH20: 전년도 고객 당 유치비용 | AI20: 전년도 고객 당 유치비용 | AJ20: 목표 고객 당 수익 | AK20: 목표 고객 당 수익 | AL20: 목표 고객 당 수익 | AM20: 고객 당 수익 | AN20: 고객 당 수익 | AO20: 고객 당 수익 | AP20: 전년도 고객 당 수익 | AQ20: 전년도 고객 당 수익 | AR20: 전년도 고객 당 수익
B21: 홍길동 | C21: 130000 | D21: 135000 | E21: 148000 | F21: 180000 | G21: 153000 | H21: 155000 | I21: 120000 | J21: 130000 | K21: 130000 | L21: 60 | M21: 61 | N21: 69 | O21: 15 | P21: 13 | Q21: 20 | R21: 30 | S21: 25 | T21: 27 | U21: 10 | V21: 11 | W21: 15 | X21: 3500 | Y21: 4000 | Z21: 5000 | AA21: =IFERROR(X21/O21,"") -> 233.33333 | AB21: =IFERROR(Y21/P21,"") -> 307.69231 | AC21: =IFERROR(Z21/Q21,"") -> 250 | AD21: 400 | AE21: 400 | AF21: 400 | AG21: 390 | AH21: 400 | AI21: 395 | AJ21: 2300 | AK21: 2400 | AL21: 2300 | AM21: =IFERROR(C21/L21,"") -> 2166.6667 | AN21: =IFERROR(D21/M21,"") -> 2213.1148 | AO21: =IFERROR(E21/N21,"") -> 2144.9275 | AP21: 2300 | AQ21: 2300 | AR21: 2300
B22: 이순신 | C22: 185000 | D22: 190000 | E22: 200000 | F22: 180000 | G22: 153000 | H22: 155000 | I22: 165000 | J22: 153000 | K22: 189000 | L22: 80 | M22: 75 | N22: 85 | O22: 27 | P22: 25 | Q22: 30 | R22: 30 | S22: 25 | T22: 27 | U22: 20 | V22: 20 | W22: 25 | X22: 7680 | Y22: 8890 | Z22: 9300 | AA22: =IFERROR(X22/O22,"") -> 284.44444 | AB22: =IFERROR(Y22/P22,"") -> 355.6 | AC22: =IFERROR(Z22/Q22,"") -> 310 | AD22: 400 | AE22: 400 | AF22: 400 | AG22: 403 | AH22: 285 | AI22: 385 | AJ22: 2300 | AK22: 2500 | AL22: 2300 | AM22: =IFERROR(C22/L22,"") -> 2312.5 | AN22: =IFERROR(D22/M22,"") -> 2533.3333 | AO22: =IFERROR(E22/N22,"") -> 2352.9412 | AP22: 2150 | AQ22: 2600 | AR22: 2400
AA23: =IFERROR(X23/O23,"") | AB23: =IFERROR(Y23/P23,"") | AC23: =IFERROR(Z23/Q23,"") | AM23: =IFERROR(C23/L23,"") | AN23: =IFERROR(D23/M23,"") | AO23: =IFERROR(E23/N23,"")
AA24: =IFERROR(X24/O24,"") | AB24: =IFERROR(Y24/P24,"") | AC24: =IFERROR(Z24/Q24,"") | AM24: =IFERROR(C24/L24,"") | AN24: =IFERROR(D24/M24,"") | AO24: =IFERROR(E24/N24,"")
AA25: =IFERROR(X25/O25,"") | AB25: =IFERROR(Y25/P25,"") | AC25: =IFERROR(Z25/Q25,"") | AM25: =IFERROR(C25/L25,"") | AN25: =IFERROR(D25/M25,"") | AO25: =IFERROR(E25/N25,"")
B26: 합계 | C26: =SUM(C21:C25) -> 315000 | D26: =SUM(D21:D25) -> 325000 | E26: =SUM(E21:E25) -> 348000 | F26: =SUM(F21:F25) -> 360000 | G26: =SUM(G21:G25) -> 306000 | H26: =SUM(H21:H25) -> 310000 | I26: =SUM(I21:I25) -> 285000 | J26: =SUM(J21:J25) -> 283000 | ... Z26: =SUM(Z21:Z25) -> 14300 | AA26: =AVERAGE(AA21:AA25) -> 258.88889 | AB26: =AVERAGE(AB21:AB25) -> 331.64615 | AC26: =AVERAGE(AC21:AC25) -> 280 | AD26: =AVERAGE(AD21:AD25) -> 400 | AE26: =AVERAGE(AE21:AE25) -> 400 | AF26: =AVERAGE(AF21:AF25) -> 400 | AG26: =AVERAGE(AG21:AG25) -> 396.5 | AH26: =AVERAGE(AH21:AH25) -> 342.5 | ... AR26: =AVERAGE(AR21:AR25) -> 2350
B28: 2023 2분기 | C28: 4월 | D28: 5월 | E28: 6월 | F28: 4월 | G28: 5월 | H28: 6월 | I28: 4월 | J28: 5월 | K28: 6월 | L28: 4월 | M28: 5월 | N28: 6월 | O28: 4월 | P28: 5월 | Q28: 6월 | R28: 4월 | S28: 5월 | T28: 6월 | U28: 4월 | V28: 5월 | W28: 6월 | X28: 4월 | Y28: 5월 | Z28: 6월 | AA28: 4월 | AB28: 5월 | AC28: 6월 | AD28: 4월 | AE28: 5월 | AF28: 6월 | AG28: 4월 | AH28: 5월 | AI28: 6월 | AJ28: 4월 | AK28: 5월 | AL28: 6월 | AM28: 4월 | AN28: 5월 | AO28: 6월 | AP28: 4월 | AQ28: 5월 | AR28: 6월
B29: 성명 | C29: 수익 | D29: 수익 | E29: 수익 | F29: 목표 수익 | G29: 목표 수익 | H29: 목표 수익 | I29: 전년도 수익 | J29: 전년도 수익 | K29: 전년도 수익 | L29: 고객 수 | M29: 고객 수 | N29: 고객 수 | O29: 신규 고객 수 | P29: 신규 고객 수 | Q29: 신규 고객 수 | R29: 목표 신규 고객 | S29: 목표 신규 고객 | T29: 목표 신규 고객 | U29: 전년도 신규 고객 | V29: 전년도 신규 고객 | W29: 전년도 신규 고객 | X29: 고객 유치 비용 | Y29: 고객 유치 비용 | Z29: 고객 유치 비용 | AA29: 고객 당 유치비용 | AB29: 고객 당 유치비용 | AC29: 고객 당 유치비용 | AD29: 목표 고객 유치비용 | AE29: 목표 고객 유치비용 | AF29: 목표 고객 유치비용 | AG29: 전년도 고객 당 유치비용 | AH29: 전년도 고객 당 유치비용 | AI29: 전년도 고객 당 유치비용 | AJ29: 목표 고객 당 수익 | AK29: 목표 고객 당 수익 | AL29: 목표 고객 당 수익 | AM29: 고객 당 수익 | AN29: 고객 당 수익 | AO29: 고객 당 수익 | AP29: 전년도 고객 당 수익 | AQ29: 전년도 고객 당 수익 | AR29: 전년도 고객 당 수익
B30: =$B$21 -> 홍길동 | C30: 125000 | D30: 140000 | E30: 150000 | F30: 163000 | G30: 150000 | H30: 145000 | I30: 153000 | J30: 155000 | K30: 140000 | L30: 65 | M30: 70 | N30: 70 | O30: 13 | P30: 27 | Q30: 13 | R30: 40 | S30: 45 | T30: 50 | U30: 13 | V30: 23 | W30: 15 | X30: 4000 | Y30: 4300 | Z30: 4350 | AA30: =IFERROR(X30/O30,"") -> 307.69231 | AB30: =IFERROR(Y30/P30,"") -> 159.25926 | AC30: =IFERROR(Z30/Q30,"") -> 334.61538 | AD30: 350 | AE30: 370 | AF30: 370 | AG30: 370 | AH30: 385 | AI30: 400 | AJ30: 2200 | AK30: 2000 | AL30: 2500 | AM30: =IFERROR(C30/L30,"") -> 1923.0769 | AN30: =IFERROR(D30/M30,"") -> 2000 | AO30: =IFERROR(E30/N30,"") -> 2142.8571 | AP30: 2150 | AQ30: 1990 | AR30: 2450
B31: =$B$22 -> 이순신 | C31: 180000 | D31: 160000 | E31: 210000 | F31: 163000 | G31: 150000 | H31: 145000 | I31: 160000 | J31: 130000 | K31: 130000 | L31: 95 | M31: 77 | N31: 88 | O31: 30 | P31: 20 | Q31: 25 | R31: 40 | S31: 45 | T31: 50 | U31: 18 | V31: 20 | W31: 15 | X31: 7300 | Y31: 9500 | Z31: 6000 | AA31: =IFERROR(X31/O31,"") -> 243.33333 | AB31: =IFERROR(Y31/P31,"") -> 475 | AC31: =IFERROR(Z31/Q31,"") -> 240 | AD31: 350 | AE31: 370 | AF31: 370 | AG31: 370 | AH31: 390 | AI31: 400 | AJ31: 2200 | AK31: 2000 | AL31: 2500 | AM31: =IFERROR(C31/L31,"") -> 1894.7368 | AN31: =IFERROR(D31/M31,"") -> 2077.9221 | AO31: =IFERROR(E31/N31,"") -> 2386.3636 | AP31: 2150 | AQ31: 1990 | AR31: 2450
B32: =$B$23 -> 0 | AA32: =IFERROR(X32/O32,"") | AB32: =IFERROR(Y32/P32,"") | AC32: =IFERROR(Z32/Q32,"") | AM32: =IFERROR(C32/L32,"") | AN32: =IFERROR(D32/M32,"") | AO32: =IFERROR(E32/N32,"")
B33: =$B$24 -> 0 | AA33: =IFERROR(X33/O33,"") | AB33: =IFERROR(Y33/P33,"") | AC33: =IFERROR(Z33/Q33,"") | AM33: =IFERROR(C33/L33,"") | AN33: =IFERROR(D33/M33,"") | AO33: =IFERROR(E33/N33,"")
B34: =$B$25 -> 0 | AA34: =IFERROR(X34/O34,"") | AB34: =IFERROR(Y34/P34,"") | AC34: =IFERROR(Z34/Q34,"") | AM34: =IFERROR(C34/L34,"") | AN34: =IFERROR(D34/M34,"") | AO34: =IFERROR(E34/N34,"")
B35: 합계 | C35: =SUM(C30:C34) -> 305000 | D35: =SUM(D30:D34) -> 300000 | E35: =SUM(E30:E34) -> 360000 | F35: =SUM(F30:F34) -> 326000 | G35: =SUM(G30:G34) -> 300000 | H35: =SUM(H30:H34) -> 290000 | I35: =SUM(I30:I34) -> 313000 | J35: =SUM(J30:J34) -> 285000 | ... Z35: =SUM(Z30:Z34) -> 10350 | AA35: =AVERAGE(AA30:AA34) -> 275.51282 | AB35: =AVERAGE(AB30:AB34) -> 317.12963 | AC35: =AVERAGE(AC30:AC34) -> 287.30769 | AD35: =AVERAGE(AD30:AD34) -> 350 | AE35: =AVERAGE(AE30:AE34) -> 370 | AF35: =AVERAGE(AF30:AF34) -> 370 | AG35: =AVERAGE(AG30:AG34) -> 370 | AH35: =AVERAGE(AH30:AH34) -> 387.5 | ... AR35: =AVERAGE(AR30:AR34) -> 2450
B37: 2023 3분기 | C37: 7월 | D37: 8월 | E37: 9월 | F37: 7월 | G37: 8월 | H37: 9월 | I37: 7월 | J37: 8월 | K37: 9월 | L37: 7월 | M37: 8월 | N37: 9월 | O37: 7월 | P37: 8월 | Q37: 9월 | R37: 7월 | S37: 8월 | T37: 9월 | U37: 7월 | V37: 8월 | W37: 9월 | X37: 7월 | Y37: 8월 | Z37: 9월 | AA37: 7월 | AB37: 8월 | AC37: 9월 | AD37: 7월 | AE37: 8월 | AF37: 9월 | AG37: 7월 | AH37: 8월 | AI37: 9월 | AJ37: 7월 | AK37: 8월 | AL37: 9월 | AM37: 7월 | AN37: 8월 | AO37: 9월 | AP37: 7월 | AQ37: 8월 | AR37: 9월
B38: 성명 | C38: 수익 | D38: 수익 | E38: 수익 | F38: 목표 수익 | G38: 목표 수익 | H38: 목표 수익 | I38: 전년도 수익 | J38: 전년도 수익 | K38: 전년도 수익 | L38: 고객 수 | M38: 고객 수 | N38: 고객 수 | O38: 신규 고객 수 | P38: 신규 고객 수 | Q38: 신규 고객 수 | R38: 목표 신규 고객 | S38: 목표 신규 고객 | T38: 목표 신규 고객 | U38: 전년도 신규 고객 | V38: 전년도 신규 고객 | W38: 전년도 신규 고객 | X38: 고객 유치 비용 | Y38: 고객 유치 비용 | Z38: 고객 유치 비용 | AA38: 고객 당 유치비용 | AB38: 고객 당 유치비용 | AC38: 고객 당 유치비용 | AD38: 목표 고객 유치비용 | AE38: 목표 고객 유치비용 | AF38: 목표 고객 유치비용 | AG38: 전년도 고객 당 유치비용 | AH38: 전년도 고객 당 유치비용 | AI38: 전년도 고객 당 유치비용 | AJ38: 목표 고객 당 수익 | AK38: 목표 고객 당 수익 | AL38: 목표 고객 당 수익 | AM38: 고객 당 수익 | AN38: 고객 당 수익 | AO38: 고객 당 수익 | AP38: 전년도 고객 당 수익 | AQ38: 전년도 고객 당 수익 | AR38: 전년도 고객 당 수익
B39: =$B$21 -> 홍길동 | C39: 150000 | D39: 147000 | E39: 150000 | F39: 155000 | G39: 140000 | H39: 150000 | I39: 160000 | J39: 150000 | K39: 150000 | L39: 70 | M39: 75 | N39: 73 | O39: 15 | P39: 20 | Q39: 20 | R39: 30 | S39: 30 | T39: 40 | U39: 23 | V39: 20 | W39: 13 | X39: 9500 | Y39: 5500 | Z39: 4150 | AA39: =IFERROR(X39/O39,"") -> 633.33333 | AB39: =IFERROR(Y39/P39,"") -> 275 | AC39: =IFERROR(Z39/Q39,"") -> 207.5 | AD39: 400 | AE39: 350 | AF39: 370 | AG39: 410 | AH39: 370 | AI39: 395 | AJ39: 2450 | AK39: 2600 | AL39: 2700 | AM39: =IFERROR(C39/L39,"") -> 2142.8571 | AN39: =IFERROR(D39/M39,"") -> 1960 | AO39: =IFERROR(E39/N39,"") -> 2054.7945 | AP39: 2850 | AQ39: 2550 | AR39: 2500
B40: =$B$22 -> 이순신 | C40: 175000 | D40: 170000 | E40: 175000 | F40: 155000 | G40: 140000 | H40: 150000 | I40: 160000 | J40: 135000 | K40: 150000 | L40: 100 | M40: 80 | N40: 90 | O40: 17 | P40: 27 | Q40: 27 | R40: 30 | S40: 30 | T40: 40 | U40: 17 | V40: 25 | W40: 13 | X40: 6000 | Y40: 7500 | Z40: 4850 | AA40: =IFERROR(X40/O40,"") -> 352.94118 | AB40: =IFERROR(Y40/P40,"") -> 277.77778 | AC40: =IFERROR(Z40/Q40,"") -> 179.62963 | AD40: 400 | AE40: 350 | AF40: 370 | AG40: 395 | AH40: 365 | AI40: 390 | AJ40: 2450 | AK40: 2600 | AL40: 2700 | AM40: =IFERROR(C40/L40,"") -> 1750 | AN40: =IFERROR(D40/M40,"") -> 2125 | AO40: =IFERROR(E40/N40,"") -> 1944.4444 | AP40: 2700 | AQ40: 2950 | AR40: 2100
B41: =$B$23 -> 0 | AA41: =IFERROR(X41/O41,"") | AB41: =IFERROR(Y41/P41,"") | AC41: =IFERROR(Z41/Q41,"") | AM41: =IFERROR(C41/L41,"") | AN41: =IFERROR(D41/M41,"") | AO41: =IFERROR(E41/N41,"")
B42: =$B$24 -> 0 | AA42: =IFERROR(X42/O42,"") | AB42: =IFERROR(Y42/P42,"") | AC42: =IFERROR(Z42/Q42,"") | AM42: =IFERROR(C42/L42,"") | AN42: =IFERROR(D42/M42,"") | AO42: =IFERROR(E42/N42,"")
B43: =$B$25 -> 0 | AA43: =IFERROR(X43/O43,"") | AB43: =IFERROR(Y43/P43,"") | AC43: =IFERROR(Z43/Q43,"") | AM43: =IFERROR(C43/L43,"") | AN43: =IFERROR(D43/M43,"") | AO43: =IFERROR(E43/N43,"")
B44: 합계 | C44: =SUM(C39:C43) -> 325000 | D44: =SUM(D39:D43) -> 317000 | E44: =SUM(E39:E43) -> 325000 | F44: =SUM(F39:F43) -> 310000 | G44: =SUM(G39:G43) -> 280000 | H44: =SUM(H39:H43) -> 300000 | I44: =SUM(I39:I43) -> 320000 | J44: =SUM(J39:J43) -> 285000 | ... W44: =SUM(W39:W43) -> 26 | X44: =AVERAGE(X39:X43) -> 7750 | Y44: =AVERAGE(Y39:Y43) -> 6500 | Z44: =AVERAGE(Z39:Z43) -> 4500 | AA44: =AVERAGE(AA39:AA43) -> 493.13725 | AB44: =AVERAGE(AB39:AB43) -> 276.38889 | AC44: =AVERAGE(AC39:AC43) -> 193.56481 | AD44: =AVERAGE(AD39:AD43) -> 400 | AE44: =AVERAGE(AE39:AE43) -> 350 | ... AR44: =AVERAGE(AR39:AR43) -> 2300
B46: 2023 4분기 | C46: 10월 | D46: 11월 | E46: 12월 | F46: 10월 | G46: 11월 | H46: 12월 | I46: 10월 | J46: 11월 | K46: 12월 | L46: 10월 | M46: 11월 | N46: 12월 | O46: 10월 | P46: 11월 | Q46: 12월 | R46: 10월 | S46: 11월 | T46: 12월 | U46: 10월 | V46: 11월 | W46: 12월 | X46: 10월 | Y46: 11월 | Z46: 12월 | AA46: 10월 | AB46: 11월 | AC46: 12월 | AD46: 10월 | AE46: 11월 | AF46: 12월 | AG46: 10월 | AH46: 11월 | AI46: 12월 | AJ46: 10월 | AK46: 11월 | AL46: 12월 | AM46: 10월 | AN46: 11월 | AO46: 12월 | AP46: 10월 | AQ46: 11월 | AR46: 12월
B47: 성명 | C47: 수익 | D47: 수익 | E47: 수익 | F47: 목표 수익 | G47: 목표 수익 | H47: 목표 수익 | I47: 전년도 수익 | J47: 전년도 수익 | K47: 전년도 수익 | L47: 고객 수 | M47: 고객 수 | N47: 고객 수 | O47: 신규 고객 수 | P47: 신규 고객 수 | Q47: 신규 고객 수 | R47: 목표 신규 고객 | S47: 목표 신규 고객 | T47: 목표 신규 고객 | U47: 전년도 신규 고객 | V47: 전년도 신규 고객 | W47: 전년도 신규 고객 | X47: 고객 유치 비용 | Y47: 고객 유치 비용 | Z47: 고객 유치 비용 | AA47: 고객 당 유치비용 | AB47: 고객 당 유치비용 | AC47: 고객 당 유치비용 | AD47: 목표 고객 유치비용 | AE47: 목표 고객 유치비용 | AF47: 목표 고객 유치비용 | AG47: 전년도 고객 당 유치비용 | AH47: 전년도 고객 당 유치비용 | AI47: 전년도 고객 당 유치비용 | AJ47: 목표 고객 당 수익 | AK47: 목표 고객 당 수익 | AL47: 목표 고객 당 수익 | AM47: 고객 당 수익 | AN47: 고객 당 수익 | AO47: 고객 당 수익 | AP47: 전년도 고객 당 수익 | AQ47: 전년도 고객 당 수익 | AR47: 전년도 고객 당 수익
...
