Workbook

Sheet 대시보드
B2: 마케팅 대시보드
B4: 메일 마케팅 | H4: 메일 마케팅 History
B5: 구독자 수 | H5: 내용 | I5: 발송 | J5: 오픈 수 | K5: 클릭 수 | L5: 반송 | M5: 구독 취소
B6: 전일 | E6: 지난 주 | H6: =IF(OR('메일 마케팅 데이터'!D9=""),"",'메일 마케팅 데이터'!D9) -> 신규 상품 업데이트 뉴스레터 | I6: =IF(OR('메일 마케팅 데이터'!E9=""),"",'메일 마케팅 데이터'!E9) -> 3200 | J6: =IF(OR('메일 마케팅 데이터'!F9=""),"",'메일 마케팅 데이터'!F9) -> 2130 | K6: =IF(OR('메일 마케팅 데이터'!H9=""),"",'메일 마케팅 데이터'!H9) -> 520 | L6: =IF(OR('메일 마케팅 데이터'!J9=""),"",'메일 마케팅 데이터'!J9) -> 56 | M6: =IF(OR('메일 마케팅 데이터'!K9=""),"",'메일 마케팅 데이터'!K9) -> 8
B7: ='데이터 통계'!C7 -> 31 | E7: ='데이터 통계'!C10 -> 409 | H7: =IF(OR('메일 마케팅 데이터'!B9=""),"",'메일 마케팅 데이터'!B9) -> 44947 | J7: =IF(OR('메일 마케팅 데이터'!G9=""),"",'메일 마케팅 데이터'!G9) -> 0.665625 | K7: =IF(OR('메일 마케팅 데이터'!I9=""),"",'메일 마케팅 데이터'!I9) -> 0.24413146
H9: =IF(OR('메일 마케팅 데이터'!D10=""),"",'메일 마케팅 데이터'!D10) -> 주간 선물 증정 이벤트 | I9: =IF(OR('메일 마케팅 데이터'!E10=""),"",'메일 마케팅 데이터'!E10) -> 3200 | J9: =IF(OR('메일 마케팅 데이터'!F10=""),"",'메일 마케팅 데이터'!F10) -> 1900 | K9: =IF(OR('메일 마케팅 데이터'!H10=""),"",'메일 마케팅 데이터'!H10) -> 468 | L9: =IF(OR('메일 마케팅 데이터'!J10=""),"",'메일 마케팅 데이터'!J10) -> 110 | M9: =IF(OR('메일 마케팅 데이터'!K10=""),"",'메일 마케팅 데이터'!K10) -> 46
H10: =IF(OR('메일 마케팅 데이터'!B10=""),"",'메일 마케팅 데이터'!B10) -> 44952 | J10: =IF(OR('메일 마케팅 데이터'!G10=""),"",'메일 마케팅 데이터'!G10) -> 0.59375 | K10: =IF(OR('메일 마케팅 데이터'!I10=""),"",'메일 마케팅 데이터'!I10) -> 0.24631579
H12: =IF(OR('메일 마케팅 데이터'!D11=""),"",'메일 마케팅 데이터'!D11) -> 신규 상품 업데이트 뉴스레터 | I12: =IF(OR('메일 마케팅 데이터'!E11=""),"",'메일 마케팅 데이터'!E11) -> 3500 | J12: =IF(OR('메일 마케팅 데이터'!F11=""),"",'메일 마케팅 데이터'!F11) -> 2215 | K12: =IF(OR('메일 마케팅 데이터'!H11=""),"",'메일 마케팅 데이터'!H11) -> 503 | L12: =IF(OR('메일 마케팅 데이터'!J11=""),"",'메일 마케팅 데이터'!J11) -> 38 | M12: =IF(OR('메일 마케팅 데이터'!K11=""),"",'메일 마케팅 데이터'!K11) -> 32
H13: =IF(OR('메일 마케팅 데이터'!B11=""),"",'메일 마케팅 데이터'!B11) -> 44957 | J13: =IF(OR('메일 마케팅 데이터'!G11=""),"",'메일 마케팅 데이터'!G11) -> 0.63285714 | K13: =IF(OR('메일 마케팅 데이터'!I11=""),"",'메일 마케팅 데이터'!I11) -> 0.22708804
H15: =IF(OR('메일 마케팅 데이터'!D12=""),"",'메일 마케팅 데이터'!D12) -> 주간 선물 증정 이벤트 | I15: =IF(OR('메일 마케팅 데이터'!E12=""),"",'메일 마케팅 데이터'!E12) -> 3500 | J15: =IF(OR('메일 마케팅 데이터'!F12=""),"",'메일 마케팅 데이터'!F12) -> 1689 | K15: =IF(OR('메일 마케팅 데이터'!H12=""),"",'메일 마케팅 데이터'!H12) -> 405 | L15: =IF(OR('메일 마케팅 데이터'!J12=""),"",'메일 마케팅 데이터'!J12) -> 26 | M15: =IF(OR('메일 마케팅 데이터'!K12=""),"",'메일 마케팅 데이터'!K12) -> 35
H16: =IF(OR('메일 마케팅 데이터'!B12=""),"",'메일 마케팅 데이터'!B12) -> 44962 | J16: =IF(OR('메일 마케팅 데이터'!G12=""),"",'메일 마케팅 데이터'!G12) -> 0.48257143 | K16: =IF(OR('메일 마케팅 데이터'!I12=""),"",'메일 마케팅 데이터'!I12) -> 0.23978686
H18: =IF(OR('메일 마케팅 데이터'!D13=""),"",'메일 마케팅 데이터'!D13) -> 무료 배송 이벤트 | I18: =IF(OR('메일 마케팅 데이터'!E13=""),"",'메일 마케팅 데이터'!E13) -> 4000 | J18: =IF(OR('메일 마케팅 데이터'!F13=""),"",'메일 마케팅 데이터'!F13) -> 1690 | K18: =IF(OR('메일 마케팅 데이터'!H13=""),"",'메일 마케팅 데이터'!H13) -> 376 | L18: =IF(OR('메일 마케팅 데이터'!J13=""),"",'메일 마케팅 데이터'!J13) -> 24 | M18: =IF(OR('메일 마케팅 데이터'!K13=""),"",'메일 마케팅 데이터'!K13) -> 15
H19: =IF(OR('메일 마케팅 데이터'!B13=""),"",'메일 마케팅 데이터'!B13) -> 44967 | J19: =IF(OR('메일 마케팅 데이터'!G13=""),"",'메일 마케팅 데이터'!G13) -> 0.4225 | K19: =IF(OR('메일 마케팅 데이터'!I13=""),"",'메일 마케팅 데이터'!I13) -> 0.22248521
H21: =IF(OR('메일 마케팅 데이터'!D14=""),"",'메일 마케팅 데이터'!D14) -> 10% 할인 쿠폰 이벤트 | I21: =IF(OR('메일 마케팅 데이터'!E14=""),"",'메일 마케팅 데이터'!E14) -> 4500 | J21: =IF(OR('메일 마케팅 데이터'!F14=""),"",'메일 마케팅 데이터'!F14) -> 2350 | K21: =IF(OR('메일 마케팅 데이터'!H14=""),"",'메일 마케팅 데이터'!H14) -> 452 | L21: =IF(OR('메일 마케팅 데이터'!J14=""),"",'메일 마케팅 데이터'!J14) -> 16 | M21: =IF(OR('메일 마케팅 데이터'!K14=""),"",'메일 마케팅 데이터'!K14) -> 9
H22: =IF(OR('메일 마케팅 데이터'!B14=""),"",'메일 마케팅 데이터'!B14) -> 44972 | J22: =IF(OR('메일 마케팅 데이터'!G14=""),"",'메일 마케팅 데이터'!G14) -> 0.52222222 | K22: =IF(OR('메일 마케팅 데이터'!I14=""),"",'메일 마케팅 데이터'!I14) -> 0.19234043
B24: Google Analytics - 최근 30일 방문자 수 | H24: Google Analytics - Traffic Source 최근 30일 유입 수
B25: 방문자 수
B27: 전일 | E27: 지난 주
B28: ='데이터 통계'!F7 -> -280 | E28: ='데이터 통계'!F10 -> -1339

Sheet 메일 마케팅 데이터
B2: 메일 마케팅 데이터
B4: 일자 | C4: 시간 | D4: 내용 | E4: 발송 | F4: 오픈수 | G4: 오픈율 | H4: 클릭수 | I4: 클릭율 | J4: 반송 | K4: 구독 취소
B5: 44927 | C5: 0.375 | D5: 한정 이벤트 프로모션 | E5: 3000 | F5: 1560 | G5: =IFERROR(F5/E5,"") -> 0.52 | H5: 430 | I5: =IFERROR(H5/F5,"") -> 0.27564103 | J5: 35 | K5: 43
B6: =B5+5 -> 44932 | C6: 0.41666667 | D6: 50% 할인 쿠폰 이벤트 | E6: 3000 | F6: 2300 | G6: =IFERROR(F6/E6,"") -> 0.76666667 | H6: 583 | I6: =IFERROR(H6/F6,"") -> 0.25347826 | J6: 108 | K6: 5
B7: =B6+5 -> 44937 | C7: 0.375 | D7: 무료 배송 이벤트 | E7: 3100 | F7: 1300 | G7: =IFERROR(F7/E7,"") -> 0.41935484 | H7: 359 | I7: =IFERROR(H7/F7,"") -> 0.27615385 | J7: 150 | K7: 13
B8: =B7+5 -> 44942 | C8: 0.41666667 | D8: 무료 배송 이벤트 | E8: 3150 | F8: 1350 | G8: =IFERROR(F8/E8,"") -> 0.42857143 | H8: 376 | I8: =IFERROR(H8/F8,"") -> 0.27851852 | J8: 43 | K8: 25
B9: =B8+5 -> 44947 | C9: 0.375 | D9: 신규 상품 업데이트 뉴스레터 | E9: 3200 | F9: 2130 | G9: =IFERROR(F9/E9,"") -> 0.665625 | H9: 520 | I9: =IFERROR(H9/F9,"") -> 0.24413146 | J9: 56 | K9: 8
B10: =B9+5 -> 44952 | C10: 0.41666667 | D10: 주간 선물 증정 이벤트 | E10: 3200 | F10: 1900 | G10: =IFERROR(F10/E10,"") -> 0.59375 | H10: 468 | I10: =IFERROR(H10/F10,"") -> 0.24631579 | J10: 110 | K10: 46
B11: =B10+5 -> 44957 | C11: 0.375 | D11: 신규 상품 업데이트 뉴스레터 | E11: 3500 | F11: 2215 | G11: =IFERROR(F11/E11,"") -> 0.63285714 | H11: 503 | I11: =IFERROR(H11/F11,"") -> 0.22708804 | J11: 38 | K11: 32
B12: =B11+5 -> 44962 | C12: 0.41666667 | D12: 주간 선물 증정 이벤트 | E12: 3500 | F12: 1689 | G12: =IFERROR(F12/E12,"") -> 0.48257143 | H12: 405 | I12: =IFERROR(H12/F12,"") -> 0.23978686 | J12: 26 | K12: 35
B13: =B12+5 -> 44967 | C13: 0.375 | D13: 무료 배송 이벤트 | E13: 4000 | F13: 1690 | G13: =IFERROR(F13/E13,"") -> 0.4225 | H13: 376 | I13: =IFERROR(H13/F13,"") -> 0.22248521 | J13: 24 | K13: 15
B14: =B13+5 -> 44972 | C14: 0.41666667 | D14: 10% 할인 쿠폰 이벤트 | E14: 4500 | F14: 2350 | G14: =IFERROR(F14/E14,"") -> 0.52222222 | H14: 452 | I14: =IFERROR(H14/F14,"") -> 0.19234043 | J14: 16 | K14: 9
G15: =IFERROR(F15/E15,"") | I15: =IFERROR(H15/F15,"")
G16: =IFERROR(F16/E16,"") | I16: =IFERROR(H16/F16,"")
G17: =IFERROR(F17/E17,"") | I17: =IFERROR(H17/F17,"")
G18: =IFERROR(F18/E18,"") | I18: =IFERROR(H18/F18,"")
G19: =IFERROR(F19/E19,"") | I19: =IFERROR(H19/F19,"")
G20: =IFERROR(F20/E20,"") | I20: =IFERROR(H20/F20,"")
G21: =IFERROR(F21/E21,"") | I21: =IFERROR(H21/F21,"")
G22: =IFERROR(F22/E22,"") | I22: =IFERROR(H22/F22,"")
G23: =IFERROR(F23/E23,"") | I23: =IFERROR(H23/F23,"")
G24: =IFERROR(F24/E24,"") | I24: =IFERROR(H24/F24,"")
G25: =IFERROR(F25/E25,"") | I25: =IFERROR(H25/F25,"")
G26: =IFERROR(F26/E26,"") | I26: =IFERROR(H26/F26,"")
... G30: =IFERROR(F30/E30,"") | I30: =IFERROR(H30/F30,"")

Sheet 메일 구독자 수
B2: 메일 구독자 수
B4: 일자 | C4: 구독자 수 | D4: 메모
B5: 44927 | C5: 2500
B6: 44928 | C6: 2730
B7: 44929 | C7: 2803
B8: 44930 | C8: 2905
B9: 44931 | C9: 3010
B10: 44932 | C10: 3045
B11: 44933 | C11: 3098
B12: 44934 | C12: 4023
B13: 44935 | C13: 5015
B14: 44936 | C14: 5067
B15: 44937 | C15: 5069
B16: 44938 | C16: 5130
... B28: 44950 | C28: 6087

Sheet GA
B2: Google Analytics
B4: 일자 | C4: Direct | D4: Organic Search | E4: Referral | F4: Paid Search | G4: Etc | H4: Total
B5: 44927 | C5: 27 | D5: 58 | E5: 43 | F5: 86 | G5: 53 | H5: =SUM(C5:G5) -> 267
B6: 44928 | C6: 36 | D6: 60 | E6: 13 | F6: 23 | G6: 46 | H6: =SUM(C6:G6) -> 178
B7: 44929 | C7: 120 | D7: 46 | E7: 13 | F7: 46 | G7: 135 | H7: =SUM(C7:G7) -> 360
B8: 44930 | C8: 86 | D8: 135 | E8: 52 | F8: 48 | G8: 153 | H8: =SUM(C8:G8) -> 474
B9: 44931 | C9: 76 | D9: 128 | E9: 31 | F9: 34 | G9: 137 | H9: =SUM(C9:G9) -> 406
B10: 44932 | C10: 135 | D10: 153 | E10: 76 | F10: 86 | G10: 123 | H10: =SUM(C10:G10) -> 573
B11: 44933 | C11: 23 | D11: 56 | E11: 15 | F11: 39 | G11: 68 | H11: =SUM(C11:G11) -> 201
B12: 44934 | C12: 68 | D12: 86 | E12: 132 | F12: 16 | G12: 53 | H12: =SUM(C12:G12) -> 355
B13: 44935 | C13: 156 | D13: 167 | E13: 153 | F13: 43 | G13: 35 | H13: =SUM(C13:G13) -> 554
H14: =SUM(C14:G14) -> 0
H15: =SUM(C15:G15) -> 0
H16: =SUM(C16:G16) -> 0
H17: =SUM(C17:G17) -> 0
H18: =SUM(C18:G18) -> 0
H19: =SUM(C19:G19) -> 0
H20: =SUM(C20:G20) -> 0
H21: =SUM(C21:G21) -> 0
H22: =SUM(C22:G22) -> 0
H23: =SUM(C23:G23) -> 0
H24: =SUM(C24:G24) -> 0
H25: =SUM(C25:G25) -> 0
... H36: =SUM(C36:G36) -> 0

Sheet 데이터 통계
B2: 데이터 통계
B4: 구독자 수 | C4: =INDEX(Esub[],ROWS(Esub[구독자 수]),2) -> 6087 | E4: 최근 30일 방문자 수 | F4: =SUM(K14:K43) -> 3368 | J4: 일주일 전 방문자 수
B6: 전일 구독자 수 | C6: 초과 / 미만 | E6: 전일 방문자 수 | F6: 초과 / 미만 | J6: =$E$14-6 -> 44921 | K6: 180
B7: =INDEX(Esub[],ROWS(Esub[구독자 수])-1,2) -> 6056 | C7: =C4-B7 -> 31 | E7: =F4-K43+K11 -> 3648 | F7: =F4-E7 -> -280 | J7: =$E$14-5 -> 44922 | K7: 189
J8: =$E$14-4 -> 44923 | K8: 210
B9: 지난 주 구독자 수 | C9: 초과 / 미만 | E9: 지난 주 방문자 수 | F9: 초과 / 미만 | J9: =$E$14-3 -> 44924 | K9: 250
B10: =INDEX(Esub[],ROWS(Esub[구독자 수])-7,2) -> 5678 | C10: =C4-B10 -> 409 | E10: =F4-SUM(K37:K43)+SUM(K6:K11) -> 4707 | F10: =F4-E10 -> -1339 | J10: =$E$14-2 -> 44925 | K10: 230
J11: =$E$14-1 -> 44926 | K11: 280
B13: 일자 | C13: 최근 30일 구독자 수 | E13: 일자 | F13: Direct | G13: Organic Search | H13: Referral | I13: Paid Search | J13: Etc | K13: Total
B14: =IF(OR('메일 구독자 수'!B5=""),"",'메일 구독자 수'!B5) -> 44927 | C14: =IF(OR('메일 구독자 수'!C5=""),"",'메일 구독자 수'!C5) -> 2500 | E14: =IF(OR(GA!B5=""),"",GA!B5) -> 44927 | F14: =IF(OR(GA!C5=""),"",GA!C5) -> 27 | G14: =IF(OR(GA!D5=""),"",GA!D5) -> 58 | H14: =IF(OR(GA!E5=""),"",GA!E5) -> 43 | I14: =IF(OR(GA!F5=""),"",GA!F5) -> 86 | J14: =IF(OR(GA!G5=""),"",GA!G5) -> 53 | K14: =IF(OR(GA!H5=""),"",GA!H5) -> 267
B15: =IF(OR('메일 구독자 수'!B6=""),"",'메일 구독자 수'!B6) -> 44928 | C15: =IF(OR('메일 구독자 수'!C6=""),"",'메일 구독자 수'!C6) -> 2730 | E15: =IF(OR(GA!B6=""),"",GA!B6) -> 44928 | F15: =IF(OR(GA!C6=""),"",GA!C6) -> 36 | G15: =IF(OR(GA!D6=""),"",GA!D6) -> 60 | H15: =IF(OR(GA!E6=""),"",GA!E6) -> 13 | I15: =IF(OR(GA!F6=""),"",GA!F6) -> 23 | J15: =IF(OR(GA!G6=""),"",GA!G6) -> 46 | K15: =IF(OR(GA!H6=""),"",GA!H6) -> 178
B16: =IF(OR('메일 구독자 수'!B7=""),"",'메일 구독자 수'!B7) -> 44929 | C16: =IF(OR('메일 구독자 수'!C7=""),"",'메일 구독자 수'!C7) -> 2803 | E16: =IF(OR(GA!B7=""),"",GA!B7) -> 44929 | F16: =IF(OR(GA!C7=""),"",GA!C7) -> 120 | G16: =IF(OR(GA!D7=""),"",GA!D7) -> 46 | H16: =IF(OR(GA!E7=""),"",GA!E7) -> 13 | I16: =IF(OR(GA!F7=""),"",GA!F7) -> 46 | J16: =IF(OR(GA!G7=""),"",GA!G7) -> 135 | K16: =IF(OR(GA!H7=""),"",GA!H7) -> 360
B17: =IF(OR('메일 구독자 수'!B8=""),"",'메일 구독자 수'!B8) -> 44930 | C17: =IF(OR('메일 구독자 수'!C8=""),"",'메일 구독자 수'!C8) -> 2905 | E17: =IF(OR(GA!B8=""),"",GA!B8) -> 44930 | F17: =IF(OR(GA!C8=""),"",GA!C8) -> 86 | G17: =IF(OR(GA!D8=""),"",GA!D8) -> 135 | H17: =IF(OR(GA!E8=""),"",GA!E8) -> 52 | I17: =IF(OR(GA!F8=""),"",GA!F8) -> 48 | J17: =IF(OR(GA!G8=""),"",GA!G8) -> 153 | K17: =IF(OR(GA!H8=""),"",GA!H8) -> 474
B18: =IF(OR('메일 구독자 수'!B9=""),"",'메일 구독자 수'!B9) -> 44931 | C18: =IF(OR('메일 구독자 수'!C9=""),"",'메일 구독자 수'!C9) -> 3010 | E18: =IF(OR(GA!B9=""),"",GA!B9) -> 44931 | F18: =IF(OR(GA!C9=""),"",GA!C9) -> 76 | G18: =IF(OR(GA!D9=""),"",GA!D9) -> 128 | H18: =IF(OR(GA!E9=""),"",GA!E9) -> 31 | I18: =IF(OR(GA!F9=""),"",GA!F9) -> 34 | J18: =IF(OR(GA!G9=""),"",GA!G9) -> 137 | K18: =IF(OR(GA!H9=""),"",GA!H9) -> 406
B19: =IF(OR('메일 구독자 수'!B10=""),"",'메일 구독자 수'!B10) -> 44932 | C19: =IF(OR('메일 구독자 수'!C10=""),"",'메일 구독자 수'!C10) -> 3045 | E19: =IF(OR(GA!B10=""),"",GA!B10) -> 44932 | F19: =IF(OR(GA!C10=""),"",GA!C10) -> 135 | G19: =IF(OR(GA!D10=""),"",GA!D10) -> 153 | H19: =IF(OR(GA!E10=""),"",GA!E10) -> 76 | I19: =IF(OR(GA!F10=""),"",GA!F10) -> 86 | J19: =IF(OR(GA!G10=""),"",GA!G10) -> 123 | K19: =IF(OR(GA!H10=""),"",GA!H10) -> 573
B20: =IF(OR('메일 구독자 수'!B11=""),"",'메일 구독자 수'!B11) -> 44933 | C20: =IF(OR('메일 구독자 수'!C11=""),"",'메일 구독자 수'!C11) -> 3098 | E20: =IF(OR(GA!B11=""),"",GA!B11) -> 44933 | F20: =IF(OR(GA!C11=""),"",GA!C11) -> 23 | G20: =IF(OR(GA!D11=""),"",GA!D11) -> 56 | H20: =IF(OR(GA!E11=""),"",GA!E11) -> 15 | I20: =IF(OR(GA!F11=""),"",GA!F11) -> 39 | J20: =IF(OR(GA!G11=""),"",GA!G11) -> 68 | K20: =IF(OR(GA!H11=""),"",GA!H11) -> 201
B21: =IF(OR('메일 구독자 수'!B12=""),"",'메일 구독자 수'!B12) -> 44934 | C21: =IF(OR('메일 구독자 수'!C12=""),"",'메일 구독자 수'!C12) -> 4023 | E21: =IF(OR(GA!B12=""),"",GA!B12) -> 44934 | F21: =IF(OR(GA!C12=""),"",GA!C12) -> 68 | G21: =IF(OR(GA!D12=""),"",GA!D12) -> 86 | H21: =IF(OR(GA!E12=""),"",GA!E12) -> 132 | I21: =IF(OR(GA!F12=""),"",GA!F12) -> 16 | J21: =IF(OR(GA!G12=""),"",GA!G12) -> 53 | K21: =IF(OR(GA!H12=""),"",GA!H12) -> 355
B22: =IF(OR('메일 구독자 수'!B13=""),"",'메일 구독자 수'!B13) -> 44935 | C22: =IF(OR('메일 구독자 수'!C13=""),"",'메일 구독자 수'!C13) -> 5015 | E22: =IF(OR(GA!B13=""),"",GA!B13) -> 44935 | F22: =IF(OR(GA!C13=""),"",GA!C13) -> 156 | G22: =IF(OR(GA!D13=""),"",GA!D13) -> 167 | H22: =IF(OR(GA!E13=""),"",GA!E13) -> 153 | I22: =IF(OR(GA!F13=""),"",GA!F13) -> 43 | J22: =IF(OR(GA!G13=""),"",GA!G13) -> 35 | K22: =IF(OR(GA!H13=""),"",GA!H13) -> 554
B23: =IF(OR('메일 구독자 수'!B14=""),"",'메일 구독자 수'!B14) -> 44936 | C23: =IF(OR('메일 구독자 수'!C14=""),"",'메일 구독자 수'!C14) -> 5067 | E23: =IF(OR(GA!B14=""),"",GA!B14) | F23: =IF(OR(GA!C14=""),"",GA!C14) | G23: =IF(OR(GA!D14=""),"",GA!D14) | H23: =IF(OR(GA!E14=""),"",GA!E14) | I23: =IF(OR(GA!F14=""),"",GA!F14) | J23: =IF(OR(GA!G14=""),"",GA!G14) | K23: =IF(OR(GA!H14=""),"",GA!H14) -> 0
B24: =IF(OR('메일 구독자 수'!B15=""),"",'메일 구독자 수'!B15) -> 44937 | C24: =IF(OR('메일 구독자 수'!C15=""),"",'메일 구독자 수'!C15) -> 5069 | E24: =IF(OR(GA!B15=""),"",GA!B15) | F24: =IF(OR(GA!C15=""),"",GA!C15) | G24: =IF(OR(GA!D15=""),"",GA!D15) | H24: =IF(OR(GA!E15=""),"",GA!E15) | I24: =IF(OR(GA!F15=""),"",GA!F15) | J24: =IF(OR(GA!G15=""),"",GA!G15) | K24: =IF(OR(GA!H15=""),"",GA!H15) -> 0
B25: =IF(OR('메일 구독자 수'!B16=""),"",'메일 구독자 수'!B16) -> 44938 | C25: =IF(OR('메일 구독자 수'!C16=""),"",'메일 구독자 수'!C16) -> 5130 | E25: =IF(OR(GA!B16=""),"",GA!B16) | F25: =IF(OR(GA!C16=""),"",GA!C16) | G25: =IF(OR(GA!D16=""),"",GA!D16) | H25: =IF(OR(GA!E16=""),"",GA!E16) | I25: =IF(OR(GA!F16=""),"",GA!F16) | J25: =IF(OR(GA!G16=""),"",GA!G16) | K25: =IF(OR(GA!H16=""),"",GA!H16) -> 0
... B42: =IF(OR('메일 구독자 수'!B33=""),"",'메일 구독자 수'!B33) | C42: =IF(OR('메일 구독자 수'!C33=""),"",'메일 구독자 수'!C33) | E42: =IF(OR(GA!B33=""),"",GA!B33) | F42: =IF(OR(GA!C33=""),"",GA!C33) | G42: =IF(OR(GA!D33=""),"",GA!D33) | H42: =IF(OR(GA!E33=""),"",GA!E33) | I42: =IF(OR(GA!F33=""),"",GA!F33) | J42: =IF(OR(GA!G33=""),"",GA!G33) | K42: =IF(OR(GA!H33=""),"",GA!H33) -> 0
B43: =IF(OR('메일 구독자 수'!B34=""),"",'메일 구독자 수'!B34) | C43: =IF(OR('메일 구독자 수'!C34=""),"",'메일 구독자 수'!C34) | E43: =IF(OR(GA!B34=""),"",GA!B34) | F43: =IF(OR(GA!C34=""),"",GA!C34) | G43: =IF(OR(GA!D34=""),"",GA!D34) | H43: =IF(OR(GA!E34=""),"",GA!E34) | I43: =IF(OR(GA!F34=""),"",GA!F34) | J43: =IF(OR(GA!G34=""),"",GA!G34)
E44: 합계 : | F44: =SUM(F14:F43) -> 727 | G44: =SUM(G14:G43) -> 889 | H44: =SUM(H14:H43) -> 528 | I44: =SUM(I14:I43) -> 421 | J44: =SUM(J14:J43) -> 803 | K44: =SUM(K14:K43) -> 3368
