Workbook
Name Category: #REF!
Name Transaction: #REF!

Sheet 대시보드
B2: 프로젝트 관리 대시보드
B6: 프로젝트 완료 상태 | D6: 지연 업무 | H6: 금일 : | I6: ='데이터 입력'!H3 -> 45078
D8: 프로젝트명 | E8: 업무명 | F8: 담당자 | G8: 종료일 | H8: 진행률 | I8: 지연일
D9: ='데이터 입력'!R18 -> 웹 디자인 | E9: ='데이터 입력'!S18 -> 웹사이트 검토 | F9: ='데이터 입력'!T18 -> 이순신 | G9: ='데이터 입력'!W18 -> 45073 | H9: ='데이터 입력'!X18 -> 0.85 | I9: =IF(G9=0,"",$I$6-G9) -> 5
D10: ='데이터 입력'!R19 -> 웹 디자인 | E10: ='데이터 입력'!S19 -> 와이어프레임 개발 | F10: ='데이터 입력'!T19 -> 이순신 | G10: ='데이터 입력'!W19 -> 45076 | H10: ='데이터 입력'!X19 -> 0.7 | I10: =IF(G10=0,"",$I$6-G10) -> 2
D11: ='데이터 입력'!R20 -> 설문조사 분석 | E11: ='데이터 입력'!S20 -> 통계 분석 | F11: ='데이터 입력'!T20 -> 성춘향 | G11: ='데이터 입력'!W20 -> 45075 | H11: ='데이터 입력'!X20 -> 0.3 | I11: =IF(G11=0,"",$I$6-G11) -> 3
D12: ='데이터 입력'!R21 -> 0 | E12: ='데이터 입력'!S21 -> 0 | F12: ='데이터 입력'!T21 -> 0 | G12: ='데이터 입력'!W21 -> 0 | H12: ='데이터 입력'!X21 -> 0 | I12: =IF(G12=0,"",$I$6-G12)
D13: ='데이터 입력'!R22 -> 0 | E13: ='데이터 입력'!S22 -> 0 | F13: ='데이터 입력'!T22 -> 0 | G13: ='데이터 입력'!W22 -> 0 | H13: ='데이터 입력'!X22 -> 0 | I13: =IF(G13=0,"",$I$6-G13)
D14: ='데이터 입력'!R23 -> 0 | E14: ='데이터 입력'!S23 -> 0 | F14: ='데이터 입력'!T23 -> 0 | G14: ='데이터 입력'!W23 -> 0 | H14: ='데이터 입력'!X23 -> 0 | I14: =IF(G14=0,"",$I$6-G14)
D16: 평균 업무 진행률 | F16: 담당자 참여 일수
D26: 업무 상태

Sheet 데이터 입력
B2: 데이터 입력
G3: 금일 : | H3: =TODAY() -> 45078
B5: 프로젝트명 | C5: 업무명 | D5: 담당자 | E5: 시작일 | F5: 전체일수 | G5: 종료일 | H5: 진행률 | J5: 프로젝트명 | K5: 담당자
B6: 마케팅 캠페인 | C6: 시장 조사 | D6: 홍길동 | E6: =H3 -> 45078 | F6: =IF(data[[#This Row],[종료일]]="","",data[[#This Row],[종료일]]-data[[#This Row],[시작일]]+1) -> 4 | G6: =data[[#This Row],[시작일]]+3 -> 45081 | H6: 1 | J6: 마케팅 캠페인 | K6: 홍길동
B7: 마케팅 캠페인 | C7: 마케팅 전략 개발 | D7: 홍길동 | E7: 45070 | F7: 4 | G7: 45073 | H7: 1 | J7: 웹 디자인 | K7: 이순신
B8: 마케팅 캠페인 | C8: 광고 자료 생성 | D8: 홍길동 | E8: 45070 | F8: 4 | G8: 45073 | H8: 1 | J8: 설문조사 분석 | K8: 이몽룡
B9: 웹 디자인 | C9: 웹사이트 검토 | D9: 이순신 | E9: =H3-10 -> 45068 | F9: =IF(data[[#This Row],[종료일]]="","",data[[#This Row],[종료일]]-data[[#This Row],[시작일]]+1) -> 6 | G9: =data[[#This Row],[시작일]]+5 -> 45073 | H9: 0.85 | J9: 컨텐츠 제작 | K9: 성춘향
B10: 웹 디자인 | C10: 와이어프레임 개발 | D10: 이순신 | E10: =G9 -> 45073 | F10: =IF(data[[#This Row],[종료일]]="","",data[[#This Row],[종료일]]-data[[#This Row],[시작일]]+1) -> 4 | G10: =data[[#This Row],[시작일]]+3 -> 45076 | H10: 0.7
B11: 웹 디자인 | C11: 레이아웃 컨셉 구상 | D11: 이순신 | E11: =G10 -> 45076 | F11: =IF(data[[#This Row],[종료일]]="","",data[[#This Row],[종료일]]-data[[#This Row],[시작일]]+1) -> 3 | G11: =data[[#This Row],[시작일]]+2 -> 45078 | H11: 0.5
B12: 웹 디자인 | C12: 컨텐츠 컨셉 구상 | D12: 이몽룡 | E12: =G11 -> 45078 | F12: =IF(data[[#This Row],[종료일]]="","",data[[#This Row],[종료일]]-data[[#This Row],[시작일]]+1) -> 5 | G12: =data[[#This Row],[시작일]]+4 -> 45082 | H12: 0.45
B13: 웹 디자인 | C13: 웹 테스트 및 개선 작업 | D13: 성춘향 | E13: =G12 -> 45082 | F13: =IF(data[[#This Row],[종료일]]="","",data[[#This Row],[종료일]]-data[[#This Row],[시작일]]+1) -> 6 | G13: =data[[#This Row],[시작일]]+5 -> 45087 | H13: 1
B14: 설문조사 분석 | C14: 설문조사 데이터 수집 | D14: 성춘향 | E14: =H3-20 -> 45058 | F14: =IF(data[[#This Row],[종료일]]="","",data[[#This Row],[종료일]]-data[[#This Row],[시작일]]+1) -> 8 | G14: =data[[#This Row],[시작일]]+7 -> 45065 | H14: 1
B15: 설문조사 분석 | C15: 통계 분석 | D15: 성춘향 | E15: =G14 -> 45065 | F15: =IF(data[[#This Row],[종료일]]="","",data[[#This Row],[종료일]]-data[[#This Row],[시작일]]+1) -> 11 | G15: =data[[#This Row],[시작일]]+10 -> 45075 | H15: 0.3
B16: 컨텐츠 제작 | C16: 컨텐츠 조사 | D16: 이몽룡 | E16: =G15 -> 45075 | F16: =IF(data[[#This Row],[종료일]]="","",data[[#This Row],[종료일]]-data[[#This Row],[시작일]]+1) -> 6 | G16: =data[[#This Row],[시작일]]+5 -> 45080 | H16: 0.15 | J16: 미완료 업무 | R16: 지연 업무
F17: =IF(data[[#This Row],[종료일]]="","",data[[#This Row],[종료일]]-data[[#This Row],[시작일]]+1) | J17: 프로젝트명 | K17: 업무명 | L17: 담당자 | M17: 시작일 | N17: 전체일수 | O17: 종료일 | P17: 진행률 | R17: 프로젝트명 | S17: 업무명 | T17: 담당자 | U17: 시작일 | V17: 전체일수 | W17: 종료일 | X17: 진행률
F18: =IF(data[[#This Row],[종료일]]="","",data[[#This Row],[종료일]]-data[[#This Row],[시작일]]+1) | J18: {=IFERROR(INDEX('데이터 입력'!$B$6:$H$33,SMALL(IF(('데이터 입력'!$H$6:$H$33<1),MATCH(ROW('데이터 입력'!$B$6:$H$33),ROW('데이터 입력'!$B$6:$H$33)),""),ROWS(J$18:$J18)),COLUMNS($A$5:A5)),"")} -> 웹 디자인 | K18: {=IFERROR(INDEX('데이터 입력'!$B$6:$H$33,SMALL(IF(('데이터 입력'!$H$6:$H$33<1),MATCH(ROW('데이터 입력'!$B$6:$H$33),ROW('데이터 입력'!$B$6:$H$33)),""),ROWS($J$18:K18)),COLUMNS($A$5:B5)),"")} -> 웹사이트 검토 | L18: {=IFERROR(INDEX('데이터 입력'!$B$6:$H$33,SMALL(IF(('데이터 입력'!$H$6:$H$33<1),MATCH(ROW('데이터 입력'!$B$6:$H$33),ROW('데이터 입력'!$B$6:$H$33)),""),ROWS($J$18:L18)),COLUMNS($A$5:C5)),"")} -> 이순신 | M18: {=IFERROR(INDEX('데이터 입력'!$B$6:$H$31,SMALL(IF(('데이터 입력'!$H$6:$H$31<1),MATCH(ROW('데이터 입력'!$B$6:$H$31),ROW('데이터 입력'!$B$6:$H$31)),""),ROWS($J$18:M18)),COLUMNS($A$5:D5)),"")} -> 45068 | N18: {=IFERROR(INDEX('데이터 입력'!$B$6:$H$31,SMALL(IF(('데이터 입력'!$H$6:$H$31<1),MATCH(ROW('데이터 입력'!$B$6:$H$31),ROW('데이터 입력'!$B$6:$H$31)),""),ROWS($J$18:N18)),COLUMNS($A$5:E5)),"")} -> 6 | O18: {=IFERROR(INDEX('데이터 입력'!$B$6:$H$31,SMALL(IF(('데이터 입력'!$H$6:$H$31<1),MATCH(ROW('데이터 입력'!$B$6:$H$31),ROW('데이터 입력'!$B$6:$H$31)),""),ROWS($J$18:O18)),COLUMNS($A$5:F5)),"")} -> 45073 | P18: {=IFERROR(INDEX('데이터 입력'!$B$6:$H$33,SMALL(IF(('데이터 입력'!$H$6:$H$33<1),MATCH(ROW('데이터 입력'!$B$6:$H$33),ROW('데이터 입력'!$B$6:$H$33)),""),ROWS($J$18:P18)),COLUMNS($A$5:G5)),"")} -> 0.85 | R18: {=IFERROR(INDEX($J$18:$P$33,SMALL(IF(($O$18:$O$33<$H$3),MATCH(ROW($J$18:$P$33),ROW($J$18:$P$33)),""),ROWS($R$18:R18)),COLUMNS($A$5:A5)),"")} -> 웹 디자인 | S18: {=IFERROR(INDEX($J$18:$P$33,SMALL(IF(($O$18:$O$33<$H$3),MATCH(ROW($J$18:$P$33),ROW($J$18:$P$33)),""),ROWS($R$18:S18)),COLUMNS($A$5:B5)),"")} -> 웹사이트 검토 | T18: {=IFERROR(INDEX($J$18:$P$33,SMALL(IF(($O$18:$O$33<$H$3),MATCH(ROW($J$18:$P$33),ROW($J$18:$P$33)),""),ROWS($R$18:T18)),COLUMNS($A$5:C5)),"")} -> 이순신 | U18: {=IFERROR(INDEX($J$18:$P$33,SMALL(IF(($O$18:$O$33<$H$3),MATCH(ROW($J$18:$P$33),ROW($J$18:$P$33)),""),ROWS($R$18:U18)),COLUMNS($A$5:D5)),"")} -> 45068 | V18: {=IFERROR(INDEX($J$18:$P$33,SMALL(IF(($O$18:$O$33<$H$3),MATCH(ROW($J$18:$P$33),ROW($J$18:$P$33)),""),ROWS($R$18:V18)),COLUMNS($A$5:E5)),"")} -> 6 | W18: {=IFERROR(INDEX($J$18:$P$33,SMALL(IF(($O$18:$O$33<$H$3),MATCH(ROW($J$18:$P$33),ROW($J$18:$P$33)),""),ROWS($R$18:W18)),COLUMNS($A$5:F5)),"")} -> 45073 | X18: {=IFERROR(INDEX($J$18:$P$33,SMALL(IF(($O$18:$O$33<$H$3),MATCH(ROW($J$18:$P$33),ROW($J$18:$P$33)),""),ROWS($R$18:X18)),COLUMNS($A$5:G5)),"")} -> 0.85
F19: =IF(data[[#This Row],[종료일]]="","",data[[#This Row],[종료일]]-data[[#This Row],[시작일]]+1) | J19: {=IFERROR(INDEX('데이터 입력'!$B$6:$H$33,SMALL(IF(('데이터 입력'!$H$6:$H$33<1),MATCH(ROW('데이터 입력'!$B$6:$H$33),ROW('데이터 입력'!$B$6:$H$33)),""),ROWS(J$18:$J19)),COLUMNS($A$5:A6)),"")} -> 웹 디자인 | K19: {=IFERROR(INDEX('데이터 입력'!$B$6:$H$33,SMALL(IF(('데이터 입력'!$H$6:$H$33<1),MATCH(ROW('데이터 입력'!$B$6:$H$33),ROW('데이터 입력'!$B$6:$H$33)),""),ROWS($J$18:K19)),COLUMNS($A$5:B6)),"")} -> 와이어프레임 개발 | L19: {=IFERROR(INDEX('데이터 입력'!$B$6:$H$33,SMALL(IF(('데이터 입력'!$H$6:$H$33<1),MATCH(ROW('데이터 입력'!$B$6:$H$33),ROW('데이터 입력'!$B$6:$H$33)),""),ROWS($J$18:L19)),COLUMNS($A$5:C6)),"")} -> 이순신 | M19: {=IFERROR(INDEX('데이터 입력'!$B$6:$H$31,SMALL(IF(('데이터 입력'!$H$6:$H$31<1),MATCH(ROW('데이터 입력'!$B$6:$H$31),ROW('데이터 입력'!$B$6:$H$31)),""),ROWS($J$18:M19)),COLUMNS($A$5:D6)),"")} -> 45073 | N19: {=IFERROR(INDEX('데이터 입력'!$B$6:$H$31,SMALL(IF(('데이터 입력'!$H$6:$H$31<1),MATCH(ROW('데이터 입력'!$B$6:$H$31),ROW('데이터 입력'!$B$6:$H$31)),""),ROWS($J$18:N19)),COLUMNS($A$5:E6)),"")} -> 4 | O19: {=IFERROR(INDEX('데이터 입력'!$B$6:$H$31,SMALL(IF(('데이터 입력'!$H$6:$H$31<1),MATCH(ROW('데이터 입력'!$B$6:$H$31),ROW('데이터 입력'!$B$6:$H$31)),""),ROWS($J$18:O19)),COLUMNS($A$5:F6)),"")} -> 45076 | P19: {=IFERROR(INDEX('데이터 입력'!$B$6:$H$33,SMALL(IF(('데이터 입력'!$H$6:$H$33<1),MATCH(ROW('데이터 입력'!$B$6:$H$33),ROW('데이터 입력'!$B$6:$H$33)),""),ROWS($J$18:P19)),COLUMNS($A$5:G6)),"")} -> 0.7 | R19: {=IFERROR(INDEX($J$18:$P$33,SMALL(IF(($O$18:$O$33<$H$3),MATCH(ROW($J$18:$P$33),ROW($J$18:$P$33)),""),ROWS($R$18:R19)),COLUMNS($A$5:A6)),"")} -> 웹 디자인 | S19: {=IFERROR(INDEX($J$18:$P$33,SMALL(IF(($O$18:$O$33<$H$3),MATCH(ROW($J$18:$P$33),ROW($J$18:$P$33)),""),ROWS($R$18:S19)),COLUMNS($A$5:B6)),"")} -> 와이어프레임 개발 | T19: {=IFERROR(INDEX($J$18:$P$33,SMALL(IF(($O$18:$O$33<$H$3),MATCH(ROW($J$18:$P$33),ROW($J$18:$P$33)),""),ROWS($R$18:T19)),COLUMNS($A$5:C6)),"")} -> 이순신 | U19: {=IFERROR(INDEX($J$18:$P$33,SMALL(IF(($O$18:$O$33<$H$3),MATCH(ROW($J$18:$P$33),ROW($J$18:$P$33)),""),ROWS($R$18:U19)),COLUMNS($A$5:D6)),"")} -> 45073 | V19: {=IFERROR(INDEX($J$18:$P$33,SMALL(IF(($O$18:$O$33<$H$3),MATCH(ROW($J$18:$P$33),ROW($J$18:$P$33)),""),ROWS($R$18:V19)),COLUMNS($A$5:E6)),"")} -> 4 | W19: {=IFERROR(INDEX($J$18:$P$33,SMALL(IF(($O$18:$O$33<$H$3),MATCH(ROW($J$18:$P$33),ROW($J$18:$P$33)),""),ROWS($R$18:W19)),COLUMNS($A$5:F6)),"")} -> 45076 | X19: {=IFERROR(INDEX($J$18:$P$33,SMALL(IF(($O$18:$O$33<$H$3),MATCH(ROW($J$18:$P$33),ROW($J$18:$P$33)),""),ROWS($R$18:X19)),COLUMNS($A$5:G6)),"")} -> 0.7
F20: =IF(data[[#This Row],[종료일]]="","",data[[#This Row],[종료일]]-data[[#This Row],[시작일]]+1) | J20: {=IFERROR(INDEX('데이터 입력'!$B$6:$H$33,SMALL(IF(('데이터 입력'!$H$6:$H$33<1),MATCH(ROW('데이터 입력'!$B$6:$H$33),ROW('데이터 입력'!$B$6:$H$33)),""),ROWS(J$18:$J20)),COLUMNS($A$5:A7)),"")} -> 웹 디자인 | K20: {=IFERROR(INDEX('데이터 입력'!$B$6:$H$33,SMALL(IF(('데이터 입력'!$H$6:$H$33<1),MATCH(ROW('데이터 입력'!$B$6:$H$33),ROW('데이터 입력'!$B$6:$H$33)),""),ROWS($J$18:K20)),COLUMNS($A$5:B7)),"")} -> 레이아웃 컨셉 구상 | L20: {=IFERROR(INDEX('데이터 입력'!$B$6:$H$33,SMALL(IF(('데이터 입력'!$H$6:$H$33<1),MATCH(ROW('데이터 입력'!$B$6:$H$33),ROW('데이터 입력'!$B$6:$H$33)),""),ROWS($J$18:L20)),COLUMNS($A$5:C7)),"")} -> 이순신 | M20: {=IFERROR(INDEX('데이터 입력'!$B$6:$H$31,SMALL(IF(('데이터 입력'!$H$6:$H$31<1),MATCH(ROW('데이터 입력'!$B$6:$H$31),ROW('데이터 입력'!$B$6:$H$31)),""),ROWS($J$18:M20)),COLUMNS($A$5:D7)),"")} -> 45076 | N20: {=IFERROR(INDEX('데이터 입력'!$B$6:$H$31,SMALL(IF(('데이터 입력'!$H$6:$H$31<1),MATCH(ROW('데이터 입력'!$B$6:$H$31),ROW('데이터 입력'!$B$6:$H$31)),""),ROWS($J$18:N20)),COLUMNS($A$5:E7)),"")} -> 3 | O20: {=IFERROR(INDEX('데이터 입력'!$B$6:$H$31,SMALL(IF(('데이터 입력'!$H$6:$H$31<1),MATCH(ROW('데이터 입력'!$B$6:$H$31),ROW('데이터 입력'!$B$6:$H$31)),""),ROWS($J$18:O20)),COLUMNS($A$5:F7)),"")} -> 45078 | P20: {=IFERROR(INDEX('데이터 입력'!$B$6:$H$33,SMALL(IF(('데이터 입력'!$H$6:$H$33<1),MATCH(ROW('데이터 입력'!$B$6:$H$33),ROW('데이터 입력'!$B$6:$H$33)),""),ROWS($J$18:P20)),COLUMNS($A$5:G7)),"")} -> 0.5 | R20: {=IFERROR(INDEX($J$18:$P$33,SMALL(IF(($O$18:$O$33<$H$3),MATCH(ROW($J$18:$P$33),ROW($J$18:$P$33)),""),ROWS($R$18:R20)),COLUMNS($A$5:A7)),"")} -> 설문조사 분석 | S20: {=IFERROR(INDEX($J$18:$P$33,SMALL(IF(($O$18:$O$33<$H$3),MATCH(ROW($J$18:$P$33),ROW($J$18:$P$33)),""),ROWS($R$18:S20)),COLUMNS($A$5:B7)),"")} -> 통계 분석 | T20: {=IFERROR(INDEX($J$18:$P$33,SMALL(IF(($O$18:$O$33<$H$3),MATCH(ROW($J$18:$P$33),ROW($J$18:$P$33)),""),ROWS($R$18:T20)),COLUMNS($A$5:C7)),"")} -> 성춘향 | U20: {=IFERROR(INDEX($J$18:$P$33,SMALL(IF(($O$18:$O$33<$H$3),MATCH(ROW($J$18:$P$33),ROW($J$18:$P$33)),""),ROWS($R$18:U20)),COLUMNS($A$5:D7)),"")} -> 45065 | V20: {=IFERROR(INDEX($J$18:$P$33,SMALL(IF(($O$18:$O$33<$H$3),MATCH(ROW($J$18:$P$33),ROW($J$18:$P$33)),""),ROWS($R$18:V20)),COLUMNS($A$5:E7)),"")} -> 11 | W20: {=IFERROR(INDEX($J$18:$P$33,SMALL(IF(($O$18:$O$33<$H$3),MATCH(ROW($J$18:$P$33),ROW($J$18:$P$33)),""),ROWS($R$18:W20)),COLUMNS($A$5:F7)),"")} -> 45075 | X20: {=IFERROR(INDEX($J$18:$P$33,SMALL(IF(($O$18:$O$33<$H$3),MATCH(ROW($J$18:$P$33),ROW($J$18:$P$33)),""),ROWS($R$18:X20)),COLUMNS($A$5:G7)),"")} -> 0.3
F21: =IF(data[[#This Row],[종료일]]="","",data[[#This Row],[종료일]]-data[[#This Row],[시작일]]+1) | J21: {=IFERROR(INDEX('데이터 입력'!$B$6:$H$33,SMALL(IF(('데이터 입력'!$H$6:$H$33<1),MATCH(ROW('데이터 입력'!$B$6:$H$33),ROW('데이터 입력'!$B$6:$H$33)),""),ROWS(J$18:$J21)),COLUMNS($A$5:A8)),"")} -> 웹 디자인 | K21: {=IFERROR(INDEX('데이터 입력'!$B$6:$H$33,SMALL(IF(('데이터 입력'!$H$6:$H$33<1),MATCH(ROW('데이터 입력'!$B$6:$H$33),ROW('데이터 입력'!$B$6:$H$33)),""),ROWS($J$18:K21)),COLUMNS($A$5:B8)),"")} -> 컨텐츠 컨셉 구상 | L21: {=IFERROR(INDEX('데이터 입력'!$B$6:$H$33,SMALL(IF(('데이터 입력'!$H$6:$H$33<1),MATCH(ROW('데이터 입력'!$B$6:$H$33),ROW('데이터 입력'!$B$6:$H$33)),""),ROWS($J$18:L21)),COLUMNS($A$5:C8)),"")} -> 이몽룡 | M21: {=IFERROR(INDEX('데이터 입력'!$B$6:$H$31,SMALL(IF(('데이터 입력'!$H$6:$H$31<1),MATCH(ROW('데이터 입력'!$B$6:$H$31),ROW('데이터 입력'!$B$6:$H$31)),""),ROWS($J$18:M21)),COLUMNS($A$5:D8)),"")} -> 45078 | N21: {=IFERROR(INDEX('데이터 입력'!$B$6:$H$31,SMALL(IF(('데이터 입력'!$H$6:$H$31<1),MATCH(ROW('데이터 입력'!$B$6:$H$31),ROW('데이터 입력'!$B$6:$H$31)),""),ROWS($J$18:N21)),COLUMNS($A$5:E8)),"")} -> 5 | O21: {=IFERROR(INDEX('데이터 입력'!$B$6:$H$31,SMALL(IF(('데이터 입력'!$H$6:$H$31<1),MATCH(ROW('데이터 입력'!$B$6:$H$31),ROW('데이터 입력'!$B$6:$H$31)),""),ROWS($J$18:O21)),COLUMNS($A$5:F8)),"")} -> 45082 | P21: {=IFERROR(INDEX('데이터 입력'!$B$6:$H$33,SMALL(IF(('데이터 입력'!$H$6:$H$33<1),MATCH(ROW('데이터 입력'!$B$6:$H$33),ROW('데이터 입력'!$B$6:$H$33)),""),ROWS($J$18:P21)),COLUMNS($A$5:G8)),"")} -> 0.45 | R21: {=IFERROR(INDEX($J$18:$P$33,SMALL(IF(($O$18:$O$33<$H$3),MATCH(ROW($J$18:$P$33),ROW($J$18:$P$33)),""),ROWS($R$18:R21)),COLUMNS($A$5:A8)),"")} -> 0 | S21: {=IFERROR(INDEX($J$18:$P$33,SMALL(IF(($O$18:$O$33<$H$3),MATCH(ROW($J$18:$P$33),ROW($J$18:$P$33)),""),ROWS($R$18:S21)),COLUMNS($A$5:B8)),"")} -> 0 | T21: {=IFERROR(INDEX($J$18:$P$33,SMALL(IF(($O$18:$O$33<$H$3),MATCH(ROW($J$18:$P$33),ROW($J$18:$P$33)),""),ROWS($R$18:T21)),COLUMNS($A$5:C8)),"")} -> 0 | U21: {=IFERROR(INDEX($J$18:$P$33,SMALL(IF(($O$18:$O$33<$H$3),MATCH(ROW($J$18:$P$33),ROW($J$18:$P$33)),""),ROWS($R$18:U21)),COLUMNS($A$5:D8)),"")} -> 0 | V21: {=IFERROR(INDEX($J$18:$P$33,SMALL(IF(($O$18:$O$33<$H$3),MATCH(ROW($J$18:$P$33),ROW($J$18:$P$33)),""),ROWS($R$18:V21)),COLUMNS($A$5:E8)),"")} | W21: {=IFERROR(INDEX($J$18:$P$33,SMALL(IF(($O$18:$O$33<$H$3),MATCH(ROW($J$18:$P$33),ROW($J$18:$P$33)),""),ROWS($R$18:W21)),COLUMNS($A$5:F8)),"")} -> 0 | X21: {=IFERROR(INDEX($J$18:$P$33,SMALL(IF(($O$18:$O$33<$H$3),MATCH(ROW($J$18:$P$33),ROW($J$18:$P$33)),""),ROWS($R$18:X21)),COLUMNS($A$5:G8)),"")} -> 0
F22: =IF(data[[#This Row],[종료일]]="","",data[[#This Row],[종료일]]-data[[#This Row],[시작일]]+1) | J22: {=IFERROR(INDEX('데이터 입력'!$B$6:$H$33,SMALL(IF(('데이터 입력'!$H$6:$H$33<1),MATCH(ROW('데이터 입력'!$B$6:$H$33),ROW('데이터 입력'!$B$6:$H$33)),""),ROWS(J$18:$J22)),COLUMNS($A$5:A9)),"")} -> 설문조사 분석 | K22: {=IFERROR(INDEX('데이터 입력'!$B$6:$H$33,SMALL(IF(('데이터 입력'!$H$6:$H$33<1),MATCH(ROW('데이터 입력'!$B$6:$H$33),ROW('데이터 입력'!$B$6:$H$33)),""),ROWS($J$18:K22)),COLUMNS($A$5:B9)),"")} -> 통계 분석 | L22: {=IFERROR(INDEX('데이터 입력'!$B$6:$H$33,SMALL(IF(('데이터 입력'!$H$6:$H$33<1),MATCH(ROW('데이터 입력'!$B$6:$H$33),ROW('데이터 입력'!$B$6:$H$33)),""),ROWS($J$18:L22)),COLUMNS($A$5:C9)),"")} -> 성춘향 | M22: {=IFERROR(INDEX('데이터 입력'!$B$6:$H$31,SMALL(IF(('데이터 입력'!$H$6:$H$31<1),MATCH(ROW('데이터 입력'!$B$6:$H$31),ROW('데이터 입력'!$B$6:$H$31)),""),ROWS($J$18:M22)),COLUMNS($A$5:D9)),"")} -> 45065 | N22: {=IFERROR(INDEX('데이터 입력'!$B$6:$H$31,SMALL(IF(('데이터 입력'!$H$6:$H$31<1),MATCH(ROW('데이터 입력'!$B$6:$H$31),ROW('데이터 입력'!$B$6:$H$31)),""),ROWS($J$18:N22)),COLUMNS($A$5:E9)),"")} -> 11 | O22: {=IFERROR(INDEX('데이터 입력'!$B$6:$H$31,SMALL(IF(('데이터 입력'!$H$6:$H$31<1),MATCH(ROW('데이터 입력'!$B$6:$H$31),ROW('데이터 입력'!$B$6:$H$31)),""),ROWS($J$18:O22)),COLUMNS($A$5:F9)),"")} -> 45075 | P22: {=IFERROR(INDEX('데이터 입력'!$B$6:$H$33,SMALL(IF(('데이터 입력'!$H$6:$H$33<1),MATCH(ROW('데이터 입력'!$B$6:$H$33),ROW('데이터 입력'!$B$6:$H$33)),""),ROWS($J$18:P22)),COLUMNS($A$5:G9)),"")} -> 0.3 | R22: {=IFERROR(INDEX($J$18:$P$33,SMALL(IF(($O$18:$O$33<$H$3),MATCH(ROW($J$18:$P$33),ROW($J$18:$P$33)),""),ROWS($R$18:R22)),COLUMNS($A$5:A9)),"")} -> 0 | S22: {=IFERROR(INDEX($J$18:$P$33,SMALL(IF(($O$18:$O$33<$H$3),MATCH(ROW($J$18:$P$33),ROW($J$18:$P$33)),""),ROWS($R$18:S22)),COLUMNS($A$5:B9)),"")} -> 0 | T22: {=IFERROR(INDEX($J$18:$P$33,SMALL(IF(($O$18:$O$33<$H$3),MATCH(ROW($J$18:$P$33),ROW($J$18:$P$33)),""),ROWS($R$18:T22)),COLUMNS($A$5:C9)),"")} -> 0 | U22: {=IFERROR(INDEX($J$18:$P$33,SMALL(IF(($O$18:$O$33<$H$3),MATCH(ROW($J$18:$P$33),ROW($J$18:$P$33)),""),ROWS($R$18:U22)),COLUMNS($A$5:D9)),"")} -> 0 | V22: {=IFERROR(INDEX($J$18:$P$33,SMALL(IF(($O$18:$O$33<$H$3),MATCH(ROW($J$18:$P$33),ROW($J$18:$P$33)),""),ROWS($R$18:V22)),COLUMNS($A$5:E9)),"")} | W22: {=IFERROR(INDEX($J$18:$P$33,SMALL(IF(($O$18:$O$33<$H$3),MATCH(ROW($J$18:$P$33),ROW($J$18:$P$33)),""),ROWS($R$18:W22)),COLUMNS($A$5:F9)),"")} -> 0 | X22: {=IFERROR(INDEX($J$18:$P$33,SMALL(IF(($O$18:$O$33<$H$3),MATCH(ROW($J$18:$P$33),ROW($J$18:$P$33)),""),ROWS($R$18:X22)),COLUMNS($A$5:G9)),"")} -> 0
F23: =IF(data[[#This Row],[종료일]]="","",data[[#This Row],[종료일]]-data[[#This Row],[시작일]]+1) | J23: {=IFERROR(INDEX('데이터 입력'!$B$6:$H$33,SMALL(IF(('데이터 입력'!$H$6:$H$33<1),MATCH(ROW('데이터 입력'!$B$6:$H$33),ROW('데이터 입력'!$B$6:$H$33)),""),ROWS(J$18:$J23)),COLUMNS($A$5:A10)),"")} -> 컨텐츠 제작 | K23: {=IFERROR(INDEX('데이터 입력'!$B$6:$H$33,SMALL(IF(('데이터 입력'!$H$6:$H$33<1),MATCH(ROW('데이터 입력'!$B$6:$H$33),ROW('데이터 입력'!$B$6:$H$33)),""),ROWS($J$18:K23)),COLUMNS($A$5:B10)),"")} -> 컨텐츠 조사 | L23: {=IFERROR(INDEX('데이터 입력'!$B$6:$H$33,SMALL(IF(('데이터 입력'!$H$6:$H$33<1),MATCH(ROW('데이터 입력'!$B$6:$H$33),ROW('데이터 입력'!$B$6:$H$33)),""),ROWS($J$18:L23)),COLUMNS($A$5:C10)),"")} -> 이몽룡 | M23: {=IFERROR(INDEX('데이터 입력'!$B$6:$H$33,SMALL(IF(('데이터 입력'!$H$6:$H$33<1),MATCH(ROW('데이터 입력'!$B$6:$H$33),ROW('데이터 입력'!$B$6:$H$33)),""),ROWS($J$18:M23)),COLUMNS($A$5:D10)),"")} -> 45075 | N23: {=IFERROR(INDEX('데이터 입력'!$B$6:$H$33,SMALL(IF(('데이터 입력'!$H$6:$H$33<1),MATCH(ROW('데이터 입력'!$B$6:$H$33),ROW('데이터 입력'!$B$6:$H$33)),""),ROWS($J$18:N23)),COLUMNS($A$5:E10)),"")} -> 6 | O23: {=IFERROR(INDEX('데이터 입력'!$B$6:$H$33,SMALL(IF(('데이터 입력'!$H$6:$H$33<1),MATCH(ROW('데이터 입력'!$B$6:$H$33),ROW('데이터 입력'!$B$6:$H$33)),""),ROWS($J$18:O23)),COLUMNS($A$5:F10)),"")} -> 45080 | P23: {=IFERROR(INDEX('데이터 입력'!$B$6:$H$33,SMALL(IF(('데이터 입력'!$H$6:$H$33<1),MATCH(ROW('데이터 입력'!$B$6:$H$33),ROW('데이터 입력'!$B$6:$H$33)),""),ROWS($J$18:P23)),COLUMNS($A$5:G10)),"")} -> 0.15 | R23: {=IFERROR(INDEX($J$18:$P$33,SMALL(IF(($O$18:$O$33<$H$3),MATCH(ROW($J$18:$P$33),ROW($J$18:$P$33)),""),ROWS($R$18:R23)),COLUMNS($A$5:A10)),"")} -> 0 | S23: {=IFERROR(INDEX($J$18:$P$33,SMALL(IF(($O$18:$O$33<$H$3),MATCH(ROW($J$18:$P$33),ROW($J$18:$P$33)),""),ROWS($R$18:S23)),COLUMNS($A$5:B10)),"")} -> 0 | T23: {=IFERROR(INDEX($J$18:$P$33,SMALL(IF(($O$18:$O$33<$H$3),MATCH(ROW($J$18:$P$33),ROW($J$18:$P$33)),""),ROWS($R$18:T23)),COLUMNS($A$5:C10)),"")} -> 0 | U23: {=IFERROR(INDEX($J$18:$P$33,SMALL(IF(($O$18:$O$33<$H$3),MATCH(ROW($J$18:$P$33),ROW($J$18:$P$33)),""),ROWS($R$18:U23)),COLUMNS($A$5:D10)),"")} -> 0 | V23: {=IFERROR(INDEX($J$18:$P$33,SMALL(IF(($O$18:$O$33<$H$3),MATCH(ROW($J$18:$P$33),ROW($J$18:$P$33)),""),ROWS($R$18:V23)),COLUMNS($A$5:E10)),"")} | W23: {=IFERROR(INDEX($J$18:$P$33,SMALL(IF(($O$18:$O$33<$H$3),MATCH(ROW($J$18:$P$33),ROW($J$18:$P$33)),""),ROWS($R$18:W23)),COLUMNS($A$5:F10)),"")} -> 0 | X23: {=IFERROR(INDEX($J$18:$P$33,SMALL(IF(($O$18:$O$33<$H$3),MATCH(ROW($J$18:$P$33),ROW($J$18:$P$33)),""),ROWS($R$18:X23)),COLUMNS($A$5:G10)),"")} -> 0
F24: =IF(data[[#This Row],[종료일]]="","",data[[#This Row],[종료일]]-data[[#This Row],[시작일]]+1) | J24: {=IFERROR(INDEX('데이터 입력'!$B$6:$H$33,SMALL(IF(('데이터 입력'!$H$6:$H$33<1),MATCH(ROW('데이터 입력'!$B$6:$H$33),ROW('데이터 입력'!$B$6:$H$33)),""),ROWS(J$18:$J24)),COLUMNS($A$5:A11)),"")} -> 0 | K24: {=IFERROR(INDEX('데이터 입력'!$B$6:$H$33,SMALL(IF(('데이터 입력'!$H$6:$H$33<1),MATCH(ROW('데이터 입력'!$B$6:$H$33),ROW('데이터 입력'!$B$6:$H$33)),""),ROWS($J$18:K24)),COLUMNS($A$5:B11)),"")} -> 0 | L24: {=IFERROR(INDEX('데이터 입력'!$B$6:$H$33,SMALL(IF(('데이터 입력'!$H$6:$H$33<1),MATCH(ROW('데이터 입력'!$B$6:$H$33),ROW('데이터 입력'!$B$6:$H$33)),""),ROWS($J$18:L24)),COLUMNS($A$5:C11)),"")} -> 0 | M24: {=IFERROR(INDEX('데이터 입력'!$B$6:$H$33,SMALL(IF(('데이터 입력'!$H$6:$H$33<1),MATCH(ROW('데이터 입력'!$B$6:$H$33),ROW('데이터 입력'!$B$6:$H$33)),""),ROWS($J$18:M24)),COLUMNS($A$5:D11)),"")} -> 0 | N24: {=IFERROR(INDEX('데이터 입력'!$B$6:$H$33,SMALL(IF(('데이터 입력'!$H$6:$H$33<1),MATCH(ROW('데이터 입력'!$B$6:$H$33),ROW('데이터 입력'!$B$6:$H$33)),""),ROWS($J$18:N24)),COLUMNS($A$5:E11)),"")} | O24: {=IFERROR(INDEX('데이터 입력'!$B$6:$H$33,SMALL(IF(('데이터 입력'!$H$6:$H$33<1),MATCH(ROW('데이터 입력'!$B$6:$H$33),ROW('데이터 입력'!$B$6:$H$33)),""),ROWS($J$18:O24)),COLUMNS($A$5:F11)),"")} -> 0 | P24: {=IFERROR(INDEX('데이터 입력'!$B$6:$H$33,SMALL(IF(('데이터 입력'!$H$6:$H$33<1),MATCH(ROW('데이터 입력'!$B$6:$H$33),ROW('데이터 입력'!$B$6:$H$33)),""),ROWS($J$18:P24)),COLUMNS($A$5:G11)),"")} -> 0 | R24: {=IFERROR(INDEX($J$18:$P$33,SMALL(IF(($O$18:$O$33<$H$3),MATCH(ROW($J$18:$P$33),ROW($J$18:$P$33)),""),ROWS($R$18:R24)),COLUMNS($A$5:A11)),"")} -> 0 | S24: {=IFERROR(INDEX($J$18:$P$33,SMALL(IF(($O$18:$O$33<$H$3),MATCH(ROW($J$18:$P$33),ROW($J$18:$P$33)),""),ROWS($R$18:S24)),COLUMNS($A$5:B11)),"")} -> 0 | T24: {=IFERROR(INDEX($J$18:$P$33,SMALL(IF(($O$18:$O$33<$H$3),MATCH(ROW($J$18:$P$33),ROW($J$18:$P$33)),""),ROWS($R$18:T24)),COLUMNS($A$5:C11)),"")} -> 0 | U24: {=IFERROR(INDEX($J$18:$P$33,SMALL(IF(($O$18:$O$33<$H$3),MATCH(ROW($J$18:$P$33),ROW($J$18:$P$33)),""),ROWS($R$18:U24)),COLUMNS($A$5:D11)),"")} -> 0 | V24: {=IFERROR(INDEX($J$18:$P$33,SMALL(IF(($O$18:$O$33<$H$3),MATCH(ROW($J$18:$P$33),ROW($J$18:$P$33)),""),ROWS($R$18:V24)),COLUMNS($A$5:E11)),"")} | W24: {=IFERROR(INDEX($J$18:$P$33,SMALL(IF(($O$18:$O$33<$H$3),MATCH(ROW($J$18:$P$33),ROW($J$18:$P$33)),""),ROWS($R$18:W24)),COLUMNS($A$5:F11)),"")} -> 0 | X24: {=IFERROR(INDEX($J$18:$P$33,SMALL(IF(($O$18:$O$33<$H$3),MATCH(ROW($J$18:$P$33),ROW($J$18:$P$33)),""),ROWS($R$18:X24)),COLUMNS($A$5:G11)),"")} -> 0
F25: =IF(data[[#This Row],[종료일]]="","",data[[#This Row],[종료일]]-data[[#This Row],[시작일]]+1) | J25: {=IFERROR(INDEX('데이터 입력'!$B$6:$H$33,SMALL(IF(('데이터 입력'!$H$6:$H$33<1),MATCH(ROW('데이터 입력'!$B$6:$H$33),ROW('데이터 입력'!$B$6:$H$33)),""),ROWS(J$18:$J25)),COLUMNS($A$5:A12)),"")} -> 0 | K25: {=IFERROR(INDEX('데이터 입력'!$B$6:$H$33,SMALL(IF(('데이터 입력'!$H$6:$H$33<1),MATCH(ROW('데이터 입력'!$B$6:$H$33),ROW('데이터 입력'!$B$6:$H$33)),""),ROWS($J$18:K25)),COLUMNS($A$5:B12)),"")} -> 0 | L25: {=IFERROR(INDEX('데이터 입력'!$B$6:$H$33,SMALL(IF(('데이터 입력'!$H$6:$H$33<1),MATCH(ROW('데이터 입력'!$B$6:$H$33),ROW('데이터 입력'!$B$6:$H$33)),""),ROWS($J$18:L25)),COLUMNS($A$5:C12)),"")} -> 0 | M25: {=IFERROR(INDEX('데이터 입력'!$B$6:$H$33,SMALL(IF(('데이터 입력'!$H$6:$H$33<1),MATCH(ROW('데이터 입력'!$B$6:$H$33),ROW('데이터 입력'!$B$6:$H$33)),""),ROWS($J$18:M25)),COLUMNS($A$5:D12)),"")} -> 0 | N25: {=IFERROR(INDEX('데이터 입력'!$B$6:$H$33,SMALL(IF(('데이터 입력'!$H$6:$H$33<1),MATCH(ROW('데이터 입력'!$B$6:$H$33),ROW('데이터 입력'!$B$6:$H$33)),""),ROWS($J$18:N25)),COLUMNS($A$5:E12)),"")} | O25: {=IFERROR(INDEX('데이터 입력'!$B$6:$H$33,SMALL(IF(('데이터 입력'!$H$6:$H$33<1),MATCH(ROW('데이터 입력'!$B$6:$H$33),ROW('데이터 입력'!$B$6:$H$33)),""),ROWS($J$18:O25)),COLUMNS($A$5:F12)),"")} -> 0 | P25: {=IFERROR(INDEX('데이터 입력'!$B$6:$H$33,SMALL(IF(('데이터 입력'!$H$6:$H$33<1),MATCH(ROW('데이터 입력'!$B$6:$H$33),ROW('데이터 입력'!$B$6:$H$33)),""),ROWS($J$18:P25)),COLUMNS($A$5:G12)),"")} -> 0 | R25: {=IFERROR(INDEX($J$18:$P$33,SMALL(IF(($O$18:$O$33<$H$3),MATCH(ROW($J$18:$P$33),ROW($J$18:$P$33)),""),ROWS($R$18:R25)),COLUMNS($A$5:A12)),"")} -> 0 | S25: {=IFERROR(INDEX($J$18:$P$33,SMALL(IF(($O$18:$O$33<$H$3),MATCH(ROW($J$18:$P$33),ROW($J$18:$P$33)),""),ROWS($R$18:S25)),COLUMNS($A$5:B12)),"")} -> 0 | T25: {=IFERROR(INDEX($J$18:$P$33,SMALL(IF(($O$18:$O$33<$H$3),MATCH(ROW($J$18:$P$33),ROW($J$18:$P$33)),""),ROWS($R$18:T25)),COLUMNS($A$5:C12)),"")} -> 0 | U25: {=IFERROR(INDEX($J$18:$P$33,SMALL(IF(($O$18:$O$33<$H$3),MATCH(ROW($J$18:$P$33),ROW($J$18:$P$33)),""),ROWS($R$18:U25)),COLUMNS($A$5:D12)),"")} -> 0 | V25: {=IFERROR(INDEX($J$18:$P$33,SMALL(IF(($O$18:$O$33<$H$3),MATCH(ROW($J$18:$P$33),ROW($J$18:$P$33)),""),ROWS($R$18:V25)),COLUMNS($A$5:E12)),"")} | W25: {=IFERROR(INDEX($J$18:$P$33,SMALL(IF(($O$18:$O$33<$H$3),MATCH(ROW($J$18:$P$33),ROW($J$18:$P$33)),""),ROWS($R$18:W25)),COLUMNS($A$5:F12)),"")} -> 0 | X25: {=IFERROR(INDEX($J$18:$P$33,SMALL(IF(($O$18:$O$33<$H$3),MATCH(ROW($J$18:$P$33),ROW($J$18:$P$33)),""),ROWS($R$18:X25)),COLUMNS($A$5:G12)),"")} -> 0
F26: =IF(data[[#This Row],[종료일]]="","",data[[#This Row],[종료일]]-data[[#This Row],[시작일]]+1) | J26: {=IFERROR(INDEX('데이터 입력'!$B$6:$H$33,SMALL(IF(('데이터 입력'!$H$6:$H$33<1),MATCH(ROW('데이터 입력'!$B$6:$H$33),ROW('데이터 입력'!$B$6:$H$33)),""),ROWS(J$18:$J26)),COLUMNS($A$5:A13)),"")} -> 0 | K26: {=IFERROR(INDEX('데이터 입력'!$B$6:$H$33,SMALL(IF(('데이터 입력'!$H$6:$H$33<1),MATCH(ROW('데이터 입력'!$B$6:$H$33),ROW('데이터 입력'!$B$6:$H$33)),""),ROWS($J$18:K26)),COLUMNS($A$5:B13)),"")} -> 0 | L26: {=IFERROR(INDEX('데이터 입력'!$B$6:$H$33,SMALL(IF(('데이터 입력'!$H$6:$H$33<1),MATCH(ROW('데이터 입력'!$B$6:$H$33),ROW('데이터 입력'!$B$6:$H$33)),""),ROWS($J$18:L26)),COLUMNS($A$5:C13)),"")} -> 0 | M26: {=IFERROR(INDEX('데이터 입력'!$B$6:$H$33,SMALL(IF(('데이터 입력'!$H$6:$H$33<1),MATCH(ROW('데이터 입력'!$B$6:$H$33),ROW('데이터 입력'!$B$6:$H$33)),""),ROWS($J$18:M26)),COLUMNS($A$5:D13)),"")} -> 0 | N26: {=IFERROR(INDEX('데이터 입력'!$B$6:$H$33,SMALL(IF(('데이터 입력'!$H$6:$H$33<1),MATCH(ROW('데이터 입력'!$B$6:$H$33),ROW('데이터 입력'!$B$6:$H$33)),""),ROWS($J$18:N26)),COLUMNS($A$5:E13)),"")} | O26: {=IFERROR(INDEX('데이터 입력'!$B$6:$H$33,SMALL(IF(('데이터 입력'!$H$6:$H$33<1),MATCH(ROW('데이터 입력'!$B$6:$H$33),ROW('데이터 입력'!$B$6:$H$33)),""),ROWS($J$18:O26)),COLUMNS($A$5:F13)),"")} -> 0 | P26: {=IFERROR(INDEX('데이터 입력'!$B$6:$H$33,SMALL(IF(('데이터 입력'!$H$6:$H$33<1),MATCH(ROW('데이터 입력'!$B$6:$H$33),ROW('데이터 입력'!$B$6:$H$33)),""),ROWS($J$18:P26)),COLUMNS($A$5:G13)),"")} -> 0 | R26: {=IFERROR(INDEX($J$18:$P$33,SMALL(IF(($O$18:$O$33<$H$3),MATCH(ROW($J$18:$P$33),ROW($J$18:$P$33)),""),ROWS($R$18:R26)),COLUMNS($A$5:A13)),"")} -> 0 | S26: {=IFERROR(INDEX($J$18:$P$33,SMALL(IF(($O$18:$O$33<$H$3),MATCH(ROW($J$18:$P$33),ROW($J$18:$P$33)),""),ROWS($R$18:S26)),COLUMNS($A$5:B13)),"")} -> 0 | T26: {=IFERROR(INDEX($J$18:$P$33,SMALL(IF(($O$18:$O$33<$H$3),MATCH(ROW($J$18:$P$33),ROW($J$18:$P$33)),""),ROWS($R$18:T26)),COLUMNS($A$5:C13)),"")} -> 0 | U26: {=IFERROR(INDEX($J$18:$P$33,SMALL(IF(($O$18:$O$33<$H$3),MATCH(ROW($J$18:$P$33),ROW($J$18:$P$33)),""),ROWS($R$18:U26)),COLUMNS($A$5:D13)),"")} -> 0 | V26: {=IFERROR(INDEX($J$18:$P$33,SMALL(IF(($O$18:$O$33<$H$3),MATCH(ROW($J$18:$P$33),ROW($J$18:$P$33)),""),ROWS($R$18:V26)),COLUMNS($A$5:E13)),"")} | W26: {=IFERROR(INDEX($J$18:$P$33,SMALL(IF(($O$18:$O$33<$H$3),MATCH(ROW($J$18:$P$33),ROW($J$18:$P$33)),""),ROWS($R$18:W26)),COLUMNS($A$5:F13)),"")} -> 0 | X26: {=IFERROR(INDEX($J$18:$P$33,SMALL(IF(($O$18:$O$33<$H$3),MATCH(ROW($J$18:$P$33),ROW($J$18:$P$33)),""),ROWS($R$18:X26)),COLUMNS($A$5:G13)),"")} -> 0
F27: =IF(data[[#This Row],[종료일]]="","",data[[#This Row],[종료일]]-data[[#This Row],[시작일]]+1) | J27: {=IFERROR(INDEX('데이터 입력'!$B$6:$H$33,SMALL(IF(('데이터 입력'!$H$6:$H$33<1),MATCH(ROW('데이터 입력'!$B$6:$H$33),ROW('데이터 입력'!$B$6:$H$33)),""),ROWS(J$18:$J27)),COLUMNS($A$5:A14)),"")} -> 0 | K27: {=IFERROR(INDEX('데이터 입력'!$B$6:$H$33,SMALL(IF(('데이터 입력'!$H$6:$H$33<1),MATCH(ROW('데이터 입력'!$B$6:$H$33),ROW('데이터 입력'!$B$6:$H$33)),""),ROWS($J$18:K27)),COLUMNS($A$5:B14)),"")} -> 0 | L27: {=IFERROR(INDEX('데이터 입력'!$B$6:$H$33,SMALL(IF(('데이터 입력'!$H$6:$H$33<1),MATCH(ROW('데이터 입력'!$B$6:$H$33),ROW('데이터 입력'!$B$6:$H$33)),""),ROWS($J$18:L27)),COLUMNS($A$5:C14)),"")} -> 0 | M27: {=IFERROR(INDEX('데이터 입력'!$B$6:$H$33,SMALL(IF(('데이터 입력'!$H$6:$H$33<1),MATCH(ROW('데이터 입력'!$B$6:$H$33),ROW('데이터 입력'!$B$6:$H$33)),""),ROWS($J$18:M27)),COLUMNS($A$5:D14)),"")} -> 0 | N27: {=IFERROR(INDEX('데이터 입력'!$B$6:$H$33,SMALL(IF(('데이터 입력'!$H$6:$H$33<1),MATCH(ROW('데이터 입력'!$B$6:$H$33),ROW('데이터 입력'!$B$6:$H$33)),""),ROWS($J$18:N27)),COLUMNS($A$5:E14)),"")} | O27: {=IFERROR(INDEX('데이터 입력'!$B$6:$H$33,SMALL(IF(('데이터 입력'!$H$6:$H$33<1),MATCH(ROW('데이터 입력'!$B$6:$H$33),ROW('데이터 입력'!$B$6:$H$33)),""),ROWS($J$18:O27)),COLUMNS($A$5:F14)),"")} -> 0 | P27: {=IFERROR(INDEX('데이터 입력'!$B$6:$H$33,SMALL(IF(('데이터 입력'!$H$6:$H$33<1),MATCH(ROW('데이터 입력'!$B$6:$H$33),ROW('데이터 입력'!$B$6:$H$33)),""),ROWS($J$18:P27)),COLUMNS($A$5:G14)),"")} -> 0 | R27: {=IFERROR(INDEX($J$18:$P$33,SMALL(IF(($O$18:$O$33<$H$3),MATCH(ROW($J$18:$P$33),ROW($J$18:$P$33)),""),ROWS($R$18:R27)),COLUMNS($A$5:A14)),"")} -> 0 | S27: {=IFERROR(INDEX($J$18:$P$33,SMALL(IF(($O$18:$O$33<$H$3),MATCH(ROW($J$18:$P$33),ROW($J$18:$P$33)),""),ROWS($R$18:S27)),COLUMNS($A$5:B14)),"")} -> 0 | T27: {=IFERROR(INDEX($J$18:$P$33,SMALL(IF(($O$18:$O$33<$H$3),MATCH(ROW($J$18:$P$33),ROW($J$18:$P$33)),""),ROWS($R$18:T27)),COLUMNS($A$5:C14)),"")} -> 0 | U27: {=IFERROR(INDEX($J$18:$P$33,SMALL(IF(($O$18:$O$33<$H$3),MATCH(ROW($J$18:$P$33),ROW($J$18:$P$33)),""),ROWS($R$18:U27)),COLUMNS($A$5:D14)),"")} -> 0 | V27: {=IFERROR(INDEX($J$18:$P$33,SMALL(IF(($O$18:$O$33<$H$3),MATCH(ROW($J$18:$P$33),ROW($J$18:$P$33)),""),ROWS($R$18:V27)),COLUMNS($A$5:E14)),"")} | W27: {=IFERROR(INDEX($J$18:$P$33,SMALL(IF(($O$18:$O$33<$H$3),MATCH(ROW($J$18:$P$33),ROW($J$18:$P$33)),""),ROWS($R$18:W27)),COLUMNS($A$5:F14)),"")} -> 0 | X27: {=IFERROR(INDEX($J$18:$P$33,SMALL(IF(($O$18:$O$33<$H$3),MATCH(ROW($J$18:$P$33),ROW($J$18:$P$33)),""),ROWS($R$18:X27)),COLUMNS($A$5:G14)),"")} -> 0
F28: =IF(data[[#This Row],[종료일]]="","",data[[#This Row],[종료일]]-data[[#This Row],[시작일]]+1) | J28: {=IFERROR(INDEX('데이터 입력'!$B$6:$H$33,SMALL(IF(('데이터 입력'!$H$6:$H$33<1),MATCH(ROW('데이터 입력'!$B$6:$H$33),ROW('데이터 입력'!$B$6:$H$33)),""),ROWS(J$18:$J28)),COLUMNS($A$5:A15)),"")} -> 0 | K28: {=IFERROR(INDEX('데이터 입력'!$B$6:$H$33,SMALL(IF(('데이터 입력'!$H$6:$H$33<1),MATCH(ROW('데이터 입력'!$B$6:$H$33),ROW('데이터 입력'!$B$6:$H$33)),""),ROWS($J$18:K28)),COLUMNS($A$5:B15)),"")} -> 0 | L28: {=IFERROR(INDEX('데이터 입력'!$B$6:$H$33,SMALL(IF(('데이터 입력'!$H$6:$H$33<1),MATCH(ROW('데이터 입력'!$B$6:$H$33),ROW('데이터 입력'!$B$6:$H$33)),""),ROWS($J$18:L28)),COLUMNS($A$5:C15)),"")} -> 0 | M28: {=IFERROR(INDEX('데이터 입력'!$B$6:$H$33,SMALL(IF(('데이터 입력'!$H$6:$H$33<1),MATCH(ROW('데이터 입력'!$B$6:$H$33),ROW('데이터 입력'!$B$6:$H$33)),""),ROWS($J$18:M28)),COLUMNS($A$5:D15)),"")} -> 0 | N28: {=IFERROR(INDEX('데이터 입력'!$B$6:$H$33,SMALL(IF(('데이터 입력'!$H$6:$H$33<1),MATCH(ROW('데이터 입력'!$B$6:$H$33),ROW('데이터 입력'!$B$6:$H$33)),""),ROWS($J$18:N28)),COLUMNS($A$5:E15)),"")} | O28: {=IFERROR(INDEX('데이터 입력'!$B$6:$H$33,SMALL(IF(('데이터 입력'!$H$6:$H$33<1),MATCH(ROW('데이터 입력'!$B$6:$H$33),ROW('데이터 입력'!$B$6:$H$33)),""),ROWS($J$18:O28)),COLUMNS($A$5:F15)),"")} -> 0 | P28: {=IFERROR(INDEX('데이터 입력'!$B$6:$H$33,SMALL(IF(('데이터 입력'!$H$6:$H$33<1),MATCH(ROW('데이터 입력'!$B$6:$H$33),ROW('데이터 입력'!$B$6:$H$33)),""),ROWS($J$18:P28)),COLUMNS($A$5:G15)),"")} -> 0 | R28: {=IFERROR(INDEX($J$18:$P$33,SMALL(IF(($O$18:$O$33<$H$3),MATCH(ROW($J$18:$P$33),ROW($J$18:$P$33)),""),ROWS($R$18:R28)),COLUMNS($A$5:A15)),"")} -> 0 | S28: {=IFERROR(INDEX($J$18:$P$33,SMALL(IF(($O$18:$O$33<$H$3),MATCH(ROW($J$18:$P$33),ROW($J$18:$P$33)),""),ROWS($R$18:S28)),COLUMNS($A$5:B15)),"")} -> 0 | T28: {=IFERROR(INDEX($J$18:$P$33,SMALL(IF(($O$18:$O$33<$H$3),MATCH(ROW($J$18:$P$33),ROW($J$18:$P$33)),""),ROWS($R$18:T28)),COLUMNS($A$5:C15)),"")} -> 0 | U28: {=IFERROR(INDEX($J$18:$P$33,SMALL(IF(($O$18:$O$33<$H$3),MATCH(ROW($J$18:$P$33),ROW($J$18:$P$33)),""),ROWS($R$18:U28)),COLUMNS($A$5:D15)),"")} -> 0 | V28: {=IFERROR(INDEX($J$18:$P$33,SMALL(IF(($O$18:$O$33<$H$3),MATCH(ROW($J$18:$P$33),ROW($J$18:$P$33)),""),ROWS($R$18:V28)),COLUMNS($A$5:E15)),"")} | W28: {=IFERROR(INDEX($J$18:$P$33,SMALL(IF(($O$18:$O$33<$H$3),MATCH(ROW($J$18:$P$33),ROW($J$18:$P$33)),""),ROWS($R$18:W28)),COLUMNS($A$5:F15)),"")} -> 0 | X28: {=IFERROR(INDEX($J$18:$P$33,SMALL(IF(($O$18:$O$33<$H$3),MATCH(ROW($J$18:$P$33),ROW($J$18:$P$33)),""),ROWS($R$18:X28)),COLUMNS($A$5:G15)),"")} -> 0
F29: =IF(data[[#This Row],[종료일]]="","",data[[#This Row],[종료일]]-data[[#This Row],[시작일]]+1) | J29: {=IFERROR(INDEX('데이터 입력'!$B$6:$H$33,SMALL(IF(('데이터 입력'!$H$6:$H$33<1),MATCH(ROW('데이터 입력'!$B$6:$H$33),ROW('데이터 입력'!$B$6:$H$33)),""),ROWS(J$18:$J29)),COLUMNS($A$5:A16)),"")} -> 0 | K29: {=IFERROR(INDEX('데이터 입력'!$B$6:$H$33,SMALL(IF(('데이터 입력'!$H$6:$H$33<1),MATCH(ROW('데이터 입력'!$B$6:$H$33),ROW('데이터 입력'!$B$6:$H$33)),""),ROWS($J$18:K29)),COLUMNS($A$5:B16)),"")} -> 0 | L29: {=IFERROR(INDEX('데이터 입력'!$B$6:$H$33,SMALL(IF(('데이터 입력'!$H$6:$H$33<1),MATCH(ROW('데이터 입력'!$B$6:$H$33),ROW('데이터 입력'!$B$6:$H$33)),""),ROWS($J$18:L29)),COLUMNS($A$5:C16)),"")} -> 0 | M29: {=IFERROR(INDEX('데이터 입력'!$B$6:$H$33,SMALL(IF(('데이터 입력'!$H$6:$H$33<1),MATCH(ROW('데이터 입력'!$B$6:$H$33),ROW('데이터 입력'!$B$6:$H$33)),""),ROWS($J$18:M29)),COLUMNS($A$5:D16)),"")} -> 0 | N29: {=IFERROR(INDEX('데이터 입력'!$B$6:$H$33,SMALL(IF(('데이터 입력'!$H$6:$H$33<1),MATCH(ROW('데이터 입력'!$B$6:$H$33),ROW('데이터 입력'!$B$6:$H$33)),""),ROWS($J$18:N29)),COLUMNS($A$5:E16)),"")} | O29: {=IFERROR(INDEX('데이터 입력'!$B$6:$H$33,SMALL(IF(('데이터 입력'!$H$6:$H$33<1),MATCH(ROW('데이터 입력'!$B$6:$H$33),ROW('데이터 입력'!$B$6:$H$33)),""),ROWS($J$18:O29)),COLUMNS($A$5:F16)),"")} -> 0 | P29: {=IFERROR(INDEX('데이터 입력'!$B$6:$H$33,SMALL(IF(('데이터 입력'!$H$6:$H$33<1),MATCH(ROW('데이터 입력'!$B$6:$H$33),ROW('데이터 입력'!$B$6:$H$33)),""),ROWS($J$18:P29)),COLUMNS($A$5:G16)),"")} -> 0 | R29: {=IFERROR(INDEX($J$18:$P$33,SMALL(IF(($O$18:$O$33<$H$3),MATCH(ROW($J$18:$P$33),ROW($J$18:$P$33)),""),ROWS($R$18:R29)),COLUMNS($A$5:A16)),"")} -> 0 | S29: {=IFERROR(INDEX($J$18:$P$33,SMALL(IF(($O$18:$O$33<$H$3),MATCH(ROW($J$18:$P$33),ROW($J$18:$P$33)),""),ROWS($R$18:S29)),COLUMNS($A$5:B16)),"")} -> 0 | T29: {=IFERROR(INDEX($J$18:$P$33,SMALL(IF(($O$18:$O$33<$H$3),MATCH(ROW($J$18:$P$33),ROW($J$18:$P$33)),""),ROWS($R$18:T29)),COLUMNS($A$5:C16)),"")} -> 0 | U29: {=IFERROR(INDEX($J$18:$P$33,SMALL(IF(($O$18:$O$33<$H$3),MATCH(ROW($J$18:$P$33),ROW($J$18:$P$33)),""),ROWS($R$18:U29)),COLUMNS($A$5:D16)),"")} -> 0 | V29: {=IFERROR(INDEX($J$18:$P$33,SMALL(IF(($O$18:$O$33<$H$3),MATCH(ROW($J$18:$P$33),ROW($J$18:$P$33)),""),ROWS($R$18:V29)),COLUMNS($A$5:E16)),"")} | W29: {=IFERROR(INDEX($J$18:$P$33,SMALL(IF(($O$18:$O$33<$H$3),MATCH(ROW($J$18:$P$33),ROW($J$18:$P$33)),""),ROWS($R$18:W29)),COLUMNS($A$5:F16)),"")} -> 0 | X29: {=IFERROR(INDEX($J$18:$P$33,SMALL(IF(($O$18:$O$33<$H$3),MATCH(ROW($J$18:$P$33),ROW($J$18:$P$33)),""),ROWS($R$18:X29)),COLUMNS($A$5:G16)),"")} -> 0
F30: =IF(data[[#This Row],[종료일]]="","",data[[#This Row],[종료일]]-data[[#This Row],[시작일]]+1) | J30: {=IFERROR(INDEX('데이터 입력'!$B$6:$H$33,SMALL(IF(('데이터 입력'!$H$6:$H$33<1),MATCH(ROW('데이터 입력'!$B$6:$H$33),ROW('데이터 입력'!$B$6:$H$33)),""),ROWS(J$18:$J30)),COLUMNS($A$5:A17)),"")} -> 0 | K30: {=IFERROR(INDEX('데이터 입력'!$B$6:$H$33,SMALL(IF(('데이터 입력'!$H$6:$H$33<1),MATCH(ROW('데이터 입력'!$B$6:$H$33),ROW('데이터 입력'!$B$6:$H$33)),""),ROWS($J$18:K30)),COLUMNS($A$5:B17)),"")} -> 0 | L30: {=IFERROR(INDEX('데이터 입력'!$B$6:$H$33,SMALL(IF(('데이터 입력'!$H$6:$H$33<1),MATCH(ROW('데이터 입력'!$B$6:$H$33),ROW('데이터 입력'!$B$6:$H$33)),""),ROWS($J$18:L30)),COLUMNS($A$5:C17)),"")} -> 0 | M30: {=IFERROR(INDEX('데이터 입력'!$B$6:$H$33,SMALL(IF(('데이터 입력'!$H$6:$H$33<1),MATCH(ROW('데이터 입력'!$B$6:$H$33),ROW('데이터 입력'!$B$6:$H$33)),""),ROWS($J$18:M30)),COLUMNS($A$5:D17)),"")} -> 0 | N30: {=IFERROR(INDEX('데이터 입력'!$B$6:$H$33,SMALL(IF(('데이터 입력'!$H$6:$H$33<1),MATCH(ROW('데이터 입력'!$B$6:$H$33),ROW('데이터 입력'!$B$6:$H$33)),""),ROWS($J$18:N30)),COLUMNS($A$5:E17)),"")} | O30: {=IFERROR(INDEX('데이터 입력'!$B$6:$H$33,SMALL(IF(('데이터 입력'!$H$6:$H$33<1),MATCH(ROW('데이터 입력'!$B$6:$H$33),ROW('데이터 입력'!$B$6:$H$33)),""),ROWS($J$18:O30)),COLUMNS($A$5:F17)),"")} -> 0 | P30: {=IFERROR(INDEX('데이터 입력'!$B$6:$H$33,SMALL(IF(('데이터 입력'!$H$6:$H$33<1),MATCH(ROW('데이터 입력'!$B$6:$H$33),ROW('데이터 입력'!$B$6:$H$33)),""),ROWS($J$18:P30)),COLUMNS($A$5:G17)),"")} -> 0 | R30: {=IFERROR(INDEX($J$18:$P$33,SMALL(IF(($O$18:$O$33<$H$3),MATCH(ROW($J$18:$P$33),ROW($J$18:$P$33)),""),ROWS($R$18:R30)),COLUMNS($A$5:A17)),"")} -> 0 | S30: {=IFERROR(INDEX($J$18:$P$33,SMALL(IF(($O$18:$O$33<$H$3),MATCH(ROW($J$18:$P$33),ROW($J$18:$P$33)),""),ROWS($R$18:S30)),COLUMNS($A$5:B17)),"")} -> 0 | T30: {=IFERROR(INDEX($J$18:$P$33,SMALL(IF(($O$18:$O$33<$H$3),MATCH(ROW($J$18:$P$33),ROW($J$18:$P$33)),""),ROWS($R$18:T30)),COLUMNS($A$5:C17)),"")} -> 0 | U30: {=IFERROR(INDEX($J$18:$P$33,SMALL(IF(($O$18:$O$33<$H$3),MATCH(ROW($J$18:$P$33),ROW($J$18:$P$33)),""),ROWS($R$18:U30)),COLUMNS($A$5:D17)),"")} -> 0 | V30: {=IFERROR(INDEX($J$18:$P$33,SMALL(IF(($O$18:$O$33<$H$3),MATCH(ROW($J$18:$P$33),ROW($J$18:$P$33)),""),ROWS($R$18:V30)),COLUMNS($A$5:E17)),"")} | W30: {=IFERROR(INDEX($J$18:$P$33,SMALL(IF(($O$18:$O$33<$H$3),MATCH(ROW($J$18:$P$33),ROW($J$18:$P$33)),""),ROWS($R$18:W30)),COLUMNS($A$5:F17)),"")} -> 0 | X30: {=IFERROR(INDEX($J$18:$P$33,SMALL(IF(($O$18:$O$33<$H$3),MATCH(ROW($J$18:$P$33),ROW($J$18:$P$33)),""),ROWS($R$18:X30)),COLUMNS($A$5:G17)),"")} -> 0
F31: =IF(data[[#This Row],[종료일]]="","",data[[#This Row],[종료일]]-data[[#This Row],[시작일]]+1) | J31: {=IFERROR(INDEX('데이터 입력'!$B$6:$H$33,SMALL(IF(('데이터 입력'!$H$6:$H$33<1),MATCH(ROW('데이터 입력'!$B$6:$H$33),ROW('데이터 입력'!$B$6:$H$33)),""),ROWS(J$18:$J31)),COLUMNS($A$5:A18)),"")} -> 0 | K31: {=IFERROR(INDEX('데이터 입력'!$B$6:$H$33,SMALL(IF(('데이터 입력'!$H$6:$H$33<1),MATCH(ROW('데이터 입력'!$B$6:$H$33),ROW('데이터 입력'!$B$6:$H$33)),""),ROWS($J$18:K31)),COLUMNS($A$5:B18)),"")} -> 0 | L31: {=IFERROR(INDEX('데이터 입력'!$B$6:$H$33,SMALL(IF(('데이터 입력'!$H$6:$H$33<1),MATCH(ROW('데이터 입력'!$B$6:$H$33),ROW('데이터 입력'!$B$6:$H$33)),""),ROWS($J$18:L31)),COLUMNS($A$5:C18)),"")} -> 0 | M31: {=IFERROR(INDEX('데이터 입력'!$B$6:$H$33,SMALL(IF(('데이터 입력'!$H$6:$H$33<1),MATCH(ROW('데이터 입력'!$B$6:$H$33),ROW('데이터 입력'!$B$6:$H$33)),""),ROWS($J$18:M31)),COLUMNS($A$5:D18)),"")} -> 0 | N31: {=IFERROR(INDEX('데이터 입력'!$B$6:$H$33,SMALL(IF(('데이터 입력'!$H$6:$H$33<1),MATCH(ROW('데이터 입력'!$B$6:$H$33),ROW('데이터 입력'!$B$6:$H$33)),""),ROWS($J$18:N31)),COLUMNS($A$5:E18)),"")} | O31: {=IFERROR(INDEX('데이터 입력'!$B$6:$H$33,SMALL(IF(('데이터 입력'!$H$6:$H$33<1),MATCH(ROW('데이터 입력'!$B$6:$H$33),ROW('데이터 입력'!$B$6:$H$33)),""),ROWS($J$18:O31)),COLUMNS($A$5:F18)),"")} -> 0 | P31: {=IFERROR(INDEX('데이터 입력'!$B$6:$H$33,SMALL(IF(('데이터 입력'!$H$6:$H$33<1),MATCH(ROW('데이터 입력'!$B$6:$H$33),ROW('데이터 입력'!$B$6:$H$33)),""),ROWS($J$18:P31)),COLUMNS($A$5:G18)),"")} -> 0 | R31: {=IFERROR(INDEX($J$18:$P$33,SMALL(IF(($O$18:$O$33<$H$3),MATCH(ROW($J$18:$P$33),ROW($J$18:$P$33)),""),ROWS($R$18:R31)),COLUMNS($A$5:A18)),"")} | S31: {=IFERROR(INDEX($J$18:$P$33,SMALL(IF(($O$18:$O$33<$H$3),MATCH(ROW($J$18:$P$33),ROW($J$18:$P$33)),""),ROWS($R$18:S31)),COLUMNS($A$5:B18)),"")} | T31: {=IFERROR(INDEX($J$18:$P$33,SMALL(IF(($O$18:$O$33<$H$3),MATCH(ROW($J$18:$P$33),ROW($J$18:$P$33)),""),ROWS($R$18:T31)),COLUMNS($A$5:C18)),"")} | U31: {=IFERROR(INDEX($J$18:$P$33,SMALL(IF(($O$18:$O$33<$H$3),MATCH(ROW($J$18:$P$33),ROW($J$18:$P$33)),""),ROWS($R$18:U31)),COLUMNS($A$5:D18)),"")} | V31: {=IFERROR(INDEX($J$18:$P$33,SMALL(IF(($O$18:$O$33<$H$3),MATCH(ROW($J$18:$P$33),ROW($J$18:$P$33)),""),ROWS($R$18:V31)),COLUMNS($A$5:E18)),"")} | W31: {=IFERROR(INDEX($J$18:$P$33,SMALL(IF(($O$18:$O$33<$H$3),MATCH(ROW($J$18:$P$33),ROW($J$18:$P$33)),""),ROWS($R$18:W31)),COLUMNS($A$5:F18)),"")} | X31: {=IFERROR(INDEX($J$18:$P$33,SMALL(IF(($O$18:$O$33<$H$3),MATCH(ROW($J$18:$P$33),ROW($J$18:$P$33)),""),ROWS($R$18:X31)),COLUMNS($A$5:G18)),"")}
F32: =IF(data[[#This Row],[종료일]]="","",data[[#This Row],[종료일]]-data[[#This Row],[시작일]]+1) | J32: {=IFERROR(INDEX('데이터 입력'!$B$6:$H$33,SMALL(IF(('데이터 입력'!$H$6:$H$33<1),MATCH(ROW('데이터 입력'!$B$6:$H$33),ROW('데이터 입력'!$B$6:$H$33)),""),ROWS(J$18:$J32)),COLUMNS($A$5:A19)),"")} -> 0 | K32: {=IFERROR(INDEX('데이터 입력'!$B$6:$H$33,SMALL(IF(('데이터 입력'!$H$6:$H$33<1),MATCH(ROW('데이터 입력'!$B$6:$H$33),ROW('데이터 입력'!$B$6:$H$33)),""),ROWS($J$18:K32)),COLUMNS($A$5:B19)),"")} -> 0 | L32: {=IFERROR(INDEX('데이터 입력'!$B$6:$H$33,SMALL(IF(('데이터 입력'!$H$6:$H$33<1),MATCH(ROW('데이터 입력'!$B$6:$H$33),ROW('데이터 입력'!$B$6:$H$33)),""),ROWS($J$18:L32)),COLUMNS($A$5:C19)),"")} -> 0 | M32: {=IFERROR(INDEX('데이터 입력'!$B$6:$H$33,SMALL(IF(('데이터 입력'!$H$6:$H$33<1),MATCH(ROW('데이터 입력'!$B$6:$H$33),ROW('데이터 입력'!$B$6:$H$33)),""),ROWS($J$18:M32)),COLUMNS($A$5:D19)),"")} -> 0 | N32: {=IFERROR(INDEX('데이터 입력'!$B$6:$H$33,SMALL(IF(('데이터 입력'!$H$6:$H$33<1),MATCH(ROW('데이터 입력'!$B$6:$H$33),ROW('데이터 입력'!$B$6:$H$33)),""),ROWS($J$18:N32)),COLUMNS($A$5:E19)),"")} | O32: {=IFERROR(INDEX('데이터 입력'!$B$6:$H$33,SMALL(IF(('데이터 입력'!$H$6:$H$33<1),MATCH(ROW('데이터 입력'!$B$6:$H$33),ROW('데이터 입력'!$B$6:$H$33)),""),ROWS($J$18:O32)),COLUMNS($A$5:F19)),"")} -> 0 | P32: {=IFERROR(INDEX('데이터 입력'!$B$6:$H$33,SMALL(IF(('데이터 입력'!$H$6:$H$33<1),MATCH(ROW('데이터 입력'!$B$6:$H$33),ROW('데이터 입력'!$B$6:$H$33)),""),ROWS($J$18:P32)),COLUMNS($A$5:G19)),"")} -> 0 | R32: {=IFERROR(INDEX($J$18:$P$33,SMALL(IF(($O$18:$O$33<$H$3),MATCH(ROW($J$18:$P$33),ROW($J$18:$P$33)),""),ROWS($R$18:R32)),COLUMNS($A$5:A19)),"")} | S32: {=IFERROR(INDEX($J$18:$P$33,SMALL(IF(($O$18:$O$33<$H$3),MATCH(ROW($J$18:$P$33),ROW($J$18:$P$33)),""),ROWS($R$18:S32)),COLUMNS($A$5:B19)),"")} | T32: {=IFERROR(INDEX($J$18:$P$33,SMALL(IF(($O$18:$O$33<$H$3),MATCH(ROW($J$18:$P$33),ROW($J$18:$P$33)),""),ROWS($R$18:T32)),COLUMNS($A$5:C19)),"")} | U32: {=IFERROR(INDEX($J$18:$P$33,SMALL(IF(($O$18:$O$33<$H$3),MATCH(ROW($J$18:$P$33),ROW($J$18:$P$33)),""),ROWS($R$18:U32)),COLUMNS($A$5:D19)),"")} | V32: {=IFERROR(INDEX($J$18:$P$33,SMALL(IF(($O$18:$O$33<$H$3),MATCH(ROW($J$18:$P$33),ROW($J$18:$P$33)),""),ROWS($R$18:V32)),COLUMNS($A$5:E19)),"")} | W32: {=IFERROR(INDEX($J$18:$P$33,SMALL(IF(($O$18:$O$33<$H$3),MATCH(ROW($J$18:$P$33),ROW($J$18:$P$33)),""),ROWS($R$18:W32)),COLUMNS($A$5:F19)),"")} | X32: {=IFERROR(INDEX($J$18:$P$33,SMALL(IF(($O$18:$O$33<$H$3),MATCH(ROW($J$18:$P$33),ROW($J$18:$P$33)),""),ROWS($R$18:X32)),COLUMNS($A$5:G19)),"")}
F33: =IF(data[[#This Row],[종료일]]="","",data[[#This Row],[종료일]]-data[[#This Row],[시작일]]+1) | J33: {=IFERROR(INDEX('데이터 입력'!$B$6:$H$33,SMALL(IF(('데이터 입력'!$H$6:$H$33<1),MATCH(ROW('데이터 입력'!$B$6:$H$33),ROW('데이터 입력'!$B$6:$H$33)),""),ROWS(J$18:$J33)),COLUMNS($A$5:A20)),"")} -> 0 | K33: {=IFERROR(INDEX('데이터 입력'!$B$6:$H$33,SMALL(IF(('데이터 입력'!$H$6:$H$33<1),MATCH(ROW('데이터 입력'!$B$6:$H$33),ROW('데이터 입력'!$B$6:$H$33)),""),ROWS($J$18:K33)),COLUMNS($A$5:B20)),"")} -> 0 | L33: {=IFERROR(INDEX('데이터 입력'!$B$6:$H$33,SMALL(IF(('데이터 입력'!$H$6:$H$33<1),MATCH(ROW('데이터 입력'!$B$6:$H$33),ROW('데이터 입력'!$B$6:$H$33)),""),ROWS($J$18:L33)),COLUMNS($A$5:C20)),"")} -> 0 | M33: {=IFERROR(INDEX('데이터 입력'!$B$6:$H$33,SMALL(IF(('데이터 입력'!$H$6:$H$33<1),MATCH(ROW('데이터 입력'!$B$6:$H$33),ROW('데이터 입력'!$B$6:$H$33)),""),ROWS($J$18:M33)),COLUMNS($A$5:D20)),"")} -> 0 | N33: {=IFERROR(INDEX('데이터 입력'!$B$6:$H$33,SMALL(IF(('데이터 입력'!$H$6:$H$33<1),MATCH(ROW('데이터 입력'!$B$6:$H$33),ROW('데이터 입력'!$B$6:$H$33)),""),ROWS($J$18:N33)),COLUMNS($A$5:E20)),"")} | O33: {=IFERROR(INDEX('데이터 입력'!$B$6:$H$33,SMALL(IF(('데이터 입력'!$H$6:$H$33<1),MATCH(ROW('데이터 입력'!$B$6:$H$33),ROW('데이터 입력'!$B$6:$H$33)),""),ROWS($J$18:O33)),COLUMNS($A$5:F20)),"")} -> 0 | P33: {=IFERROR(INDEX('데이터 입력'!$B$6:$H$33,SMALL(IF(('데이터 입력'!$H$6:$H$33<1),MATCH(ROW('데이터 입력'!$B$6:$H$33),ROW('데이터 입력'!$B$6:$H$33)),""),ROWS($J$18:P33)),COLUMNS($A$5:G20)),"")} -> 0 | R33: {=IFERROR(INDEX($J$18:$P$33,SMALL(IF(($O$18:$O$33<$H$3),MATCH(ROW($J$18:$P$33),ROW($J$18:$P$33)),""),ROWS($R$18:R33)),COLUMNS($A$5:A20)),"")} | S33: {=IFERROR(INDEX($J$18:$P$33,SMALL(IF(($O$18:$O$33<$H$3),MATCH(ROW($J$18:$P$33),ROW($J$18:$P$33)),""),ROWS($R$18:S33)),COLUMNS($A$5:B20)),"")} | T33: {=IFERROR(INDEX($J$18:$P$33,SMALL(IF(($O$18:$O$33<$H$3),MATCH(ROW($J$18:$P$33),ROW($J$18:$P$33)),""),ROWS($R$18:T33)),COLUMNS($A$5:C20)),"")} | U33: {=IFERROR(INDEX($J$18:$P$33,SMALL(IF(($O$18:$O$33<$H$3),MATCH(ROW($J$18:$P$33),ROW($J$18:$P$33)),""),ROWS($R$18:U33)),COLUMNS($A$5:D20)),"")} | V33: {=IFERROR(INDEX($J$18:$P$33,SMALL(IF(($O$18:$O$33<$H$3),MATCH(ROW($J$18:$P$33),ROW($J$18:$P$33)),""),ROWS($R$18:V33)),COLUMNS($A$5:E20)),"")} | W33: {=IFERROR(INDEX($J$18:$P$33,SMALL(IF(($O$18:$O$33<$H$3),MATCH(ROW($J$18:$P$33),ROW($J$18:$P$33)),""),ROWS($R$18:W33)),COLUMNS($A$5:F20)),"")} | X33: {=IFERROR(INDEX($J$18:$P$33,SMALL(IF(($O$18:$O$33<$H$3),MATCH(ROW($J$18:$P$33),ROW($J$18:$P$33)),""),ROWS($R$18:X33)),COLUMNS($A$5:G20)),"")}

Sheet 데이터 통계
B2: 데이터 통계
F3: 총 프로젝트 : | H3: =COUNTA('데이터 입력'!$J$6:$J$14) -> 4 | J3: 프로젝트 기간 : | K3: =MAX('데이터 입력'!$G$6:$G$42)-MIN('데이터 입력'!$E$6:$E$42) -> 29 | L3: 진행중 : | M3: =COUNTIFS(data[진행률],">0", data[진행률],"<1") -> 6
F4: 총 업무 수 : | H4: =C8 -> 11 | J4: 시작 전 : | K4: =COUNTIF(data[진행률],"=0") -> 0 | L4: 완료 : | M4: =COUNTIF(data[진행률],"=1") -> 5
B6: 프로젝트 | J6: 담당자
B7: 프로젝트명 | C7: 업무 수 | D7: 시작일 | E7: 종료일 | F7: 전체일수 | G7: 진행률 | H7: 잔여율 | J7: 프로젝트명 | K7: 업무 수 | L7: 참여일수 | M7: 진행률 | N7: 잔여율 | O7: 최대 작업 일수
B8: 총 프로젝트 | C8: =COUNTA(data[업무명]) -> 11 | D8: =MIN(data[시작일]) -> 45058 | E8: =MAX(data[종료일]) -> 45087 | F8: =SUM(data[전체일수]) -> 61 | G8: =AVERAGE(data[진행률]) -> 0.72272727 | H8: =IFERROR(1-G8,"") -> 0.27727273 | J8: 총 담당자 | K8: =COUNTA(data[업무명]) -> 11 | L8: =SUM(data[전체일수]) -> 61 | M8: =AVERAGE(data[진행률]) -> 0.72272727 | N8: =IFERROR(1-M8,"") -> 0.27727273 | O8: =COUNTIF(K9:K18, ">0")*$K$3 -> 116
B9: =_xlfn.IFS('데이터 입력'!J6<>0, '데이터 입력'!J6,'데이터 입력'!J6=0, "") -> 마케팅 캠페인 | C9: =IF(표6[[#This Row],[프로젝트명]]="","",(COUNTIF(data[프로젝트명],B9))) -> 3 | D9: {=MIN(IF('데이터 입력'!$B$6:$B$42=B9,'데이터 입력'!$E$6:$E$42))} -> 45070 | E9: {=MAX(IF('데이터 입력'!$B$6:$B$42=B9, '데이터 입력'!$G$6:$G$42))} -> 45081 | F9: =SUMIF('데이터 입력'!$B$6:$B$42, B9, '데이터 입력'!$F$6:$F$42) -> 12 | G9: =IF(표6[[#This Row],[프로젝트명]]="","",AVERAGEIF('데이터 입력'!$B$6:$B$42, B9, '데이터 입력'!$H$6:$H$42)) -> 1 | H9: =IFERROR(1-G9,"") -> 0 | J9: =_xlfn.IFS('데이터 입력'!K6<>0, '데이터 입력'!K6,'데이터 입력'!K6=0, "") -> 홍길동 | K9: =IF(표10[[#This Row],[프로젝트명]]="","",COUNTIF('데이터 입력'!$D$6:$D$42,J9)) -> 3 | L9: =SUMIF('데이터 입력'!$D$6:$D$33, J9, '데이터 입력'!$F$6:$F$33) -> 12 | M9: =IF(표10[[#This Row],[프로젝트명]]="","",AVERAGEIF('데이터 입력'!$D$6:$D$42, J9, '데이터 입력'!$H$6:$H$42)) -> 1 | N9: =IFERROR(1-M9,"") -> 0 | O9: =IF(표10[[#This Row],[프로젝트명]]="","",IF(K9>0, $K$3, "")) -> 29
B10: =_xlfn.IFS('데이터 입력'!J7<>0, '데이터 입력'!J7,'데이터 입력'!J7=0, "") -> 웹 디자인 | C10: =IF(표6[[#This Row],[프로젝트명]]="","",(COUNTIF(data[프로젝트명],B10))) -> 5 | D10: {=MIN(IF('데이터 입력'!$B$6:$B$42=B10,'데이터 입력'!$E$6:$E$42))} -> 45068 | E10: {=MAX(IF('데이터 입력'!$B$6:$B$42=B10, '데이터 입력'!$G$6:$G$42))} -> 45087 | F10: =SUMIF('데이터 입력'!$B$6:$B$42, B10, '데이터 입력'!$F$6:$F$42) -> 24 | G10: =IF(표6[[#This Row],[프로젝트명]]="","",AVERAGEIF('데이터 입력'!$B$6:$B$42, B10, '데이터 입력'!$H$6:$H$42)) -> 0.7 | H10: =IFERROR(1-G10,"") -> 0.3 | J10: =_xlfn.IFS('데이터 입력'!K7<>0, '데이터 입력'!K7,'데이터 입력'!K7=0, "") -> 이순신 | K10: =IF(표10[[#This Row],[프로젝트명]]="","",COUNTIF('데이터 입력'!$D$6:$D$42,J10)) -> 3 | L10: =SUMIF('데이터 입력'!$D$6:$D$33, J10, '데이터 입력'!$F$6:$F$33) -> 13 | M10: =IF(표10[[#This Row],[프로젝트명]]="","",AVERAGEIF('데이터 입력'!$D$6:$D$42, J10, '데이터 입력'!$H$6:$H$42)) -> 0.68333333 | N10: =IFERROR(1-M10,"") -> 0.31666667 | O10: =IF(표10[[#This Row],[프로젝트명]]="","",IF(K10>0, $K$3, "")) -> 29
B11: =_xlfn.IFS('데이터 입력'!J8<>0, '데이터 입력'!J8,'데이터 입력'!J8=0, "") -> 설문조사 분석 | C11: =IF(표6[[#This Row],[프로젝트명]]="","",(COUNTIF(data[프로젝트명],B11))) -> 2 | D11: {=MIN(IF('데이터 입력'!$B$6:$B$42=B11,'데이터 입력'!$E$6:$E$42))} -> 45058 | E11: {=MAX(IF('데이터 입력'!$B$6:$B$42=B11, '데이터 입력'!$G$6:$G$42))} -> 45075 | F11: =SUMIF('데이터 입력'!$B$6:$B$42, B11, '데이터 입력'!$F$6:$F$42) -> 19 | G11: =IF(표6[[#This Row],[프로젝트명]]="","",AVERAGEIF('데이터 입력'!$B$6:$B$42, B11, '데이터 입력'!$H$6:$H$42)) -> 0.65 | H11: =IFERROR(1-G11,"") -> 0.35 | J11: =_xlfn.IFS('데이터 입력'!K8<>0, '데이터 입력'!K8,'데이터 입력'!K8=0, "") -> 이몽룡 | K11: =IF(표10[[#This Row],[프로젝트명]]="","",COUNTIF('데이터 입력'!$D$6:$D$42,J11)) -> 2 | L11: =SUMIF('데이터 입력'!$D$6:$D$33, J11, '데이터 입력'!$F$6:$F$33) -> 11 | M11: =IF(표10[[#This Row],[프로젝트명]]="","",AVERAGEIF('데이터 입력'!$D$6:$D$42, J11, '데이터 입력'!$H$6:$H$42)) -> 0.3 | N11: =IFERROR(1-M11,"") -> 0.7 | O11: =IF(표10[[#This Row],[프로젝트명]]="","",IF(K11>0, $K$3, "")) -> 29
B12: =_xlfn.IFS('데이터 입력'!J9<>0, '데이터 입력'!J9,'데이터 입력'!J9=0, "") -> 컨텐츠 제작 | C12: =IF(표6[[#This Row],[프로젝트명]]="","",(COUNTIF(data[프로젝트명],B12))) -> 1 | D12: {=MIN(IF('데이터 입력'!$B$6:$B$42=B12,'데이터 입력'!$E$6:$E$42))} -> 45075 | E12: {=MAX(IF('데이터 입력'!$B$6:$B$42=B12, '데이터 입력'!$G$6:$G$42))} -> 45080 | F12: =SUMIF('데이터 입력'!$B$6:$B$33, B12, '데이터 입력'!$F$6:$F$33) -> 6 | G12: =IF(표6[[#This Row],[프로젝트명]]="","",AVERAGEIF('데이터 입력'!$B$6:$B$42, B12, '데이터 입력'!$H$6:$H$42)) -> 0.15 | H12: =IFERROR(1-G12,"") -> 0.85 | J12: =_xlfn.IFS('데이터 입력'!K9<>0, '데이터 입력'!K9,'데이터 입력'!K9=0, "") -> 성춘향 | K12: =IF(표10[[#This Row],[프로젝트명]]="","",COUNTIF('데이터 입력'!$D$6:$D$42,J12)) -> 3 | L12: =SUMIF('데이터 입력'!$D$6:$D$33, J12, '데이터 입력'!$F$6:$F$33) -> 25 | M12: =IF(표10[[#This Row],[프로젝트명]]="","",AVERAGEIF('데이터 입력'!$D$6:$D$42, J12, '데이터 입력'!$H$6:$H$42)) -> 0.76666667 | N12: =IFERROR(1-M12,"") -> 0.23333333 | O12: =IF(표10[[#This Row],[프로젝트명]]="","",IF(K12>0, $K$3, "")) -> 29
B13: =_xlfn.IFS('데이터 입력'!J10<>0, '데이터 입력'!J10,'데이터 입력'!J10=0, "") | C13: =IF(표6[[#This Row],[프로젝트명]]="","",(COUNTIF(data[프로젝트명],B13))) | D13: {=MIN(IF('데이터 입력'!$B$6:$B$42=B13,'데이터 입력'!$E$6:$E$42))} -> 0 | E13: {=MAX(IF('데이터 입력'!$B$6:$B$42=B13, '데이터 입력'!$G$6:$G$42))} -> 0 | F13: =SUMIF('데이터 입력'!$B$6:$B$33, B13, '데이터 입력'!$F$6:$F$33) -> 0 | G13: =IF(표6[[#This Row],[프로젝트명]]="","",AVERAGEIF('데이터 입력'!$B$6:$B$42, B13, '데이터 입력'!$H$6:$H$42)) | H13: =IFERROR(1-G13,"") | J13: =_xlfn.IFS('데이터 입력'!K10<>0, '데이터 입력'!K10,'데이터 입력'!K10=0, "") | K13: =IF(표10[[#This Row],[프로젝트명]]="","",COUNTIF('데이터 입력'!$D$6:$D$42,J13)) | L13: =SUMIF('데이터 입력'!$D$6:$D$33, J13, '데이터 입력'!$F$6:$F$33) -> 0 | M13: =IF(표10[[#This Row],[프로젝트명]]="","",AVERAGEIF('데이터 입력'!$D$6:$D$42, J13, '데이터 입력'!$H$6:$H$42)) | N13: =IFERROR(1-M13,"") | O13: =IF(표10[[#This Row],[프로젝트명]]="","",IF(K13>0, $K$3, ""))
B14: =_xlfn.IFS('데이터 입력'!J11<>0, '데이터 입력'!J11,'데이터 입력'!J11=0, "") | C14: =IF(표6[[#This Row],[프로젝트명]]="","",(COUNTIF(data[프로젝트명],B14))) | D14: {=MIN(IF('데이터 입력'!$B$6:$B$42=B14,'데이터 입력'!$E$6:$E$42))} -> 0 | E14: {=MAX(IF('데이터 입력'!$B$6:$B$42=B14, '데이터 입력'!$G$6:$G$42))} -> 0 | F14: =SUMIF('데이터 입력'!$B$6:$B$33, B14, '데이터 입력'!$F$6:$F$33) -> 0 | G14: =IF(표6[[#This Row],[프로젝트명]]="","",AVERAGEIF('데이터 입력'!$B$6:$B$42, B14, '데이터 입력'!$H$6:$H$42)) | H14: =IFERROR(1-G14,"") | J14: =_xlfn.IFS('데이터 입력'!K11<>0, '데이터 입력'!K11,'데이터 입력'!K11=0, "") | K14: =IF(표10[[#This Row],[프로젝트명]]="","",COUNTIF('데이터 입력'!$D$6:$D$42,J14)) | L14: =SUMIF('데이터 입력'!$D$6:$D$33, J14, '데이터 입력'!$F$6:$F$33) -> 0 | M14: =IF(표10[[#This Row],[프로젝트명]]="","",AVERAGEIF('데이터 입력'!$D$6:$D$42, J14, '데이터 입력'!$H$6:$H$42)) | N14: =IFERROR(1-M14,"") | O14: =IF(표10[[#This Row],[프로젝트명]]="","",IF(K14>0, $K$3, ""))
B15: =_xlfn.IFS('데이터 입력'!J12<>0, '데이터 입력'!J12,'데이터 입력'!J12=0, "") | C15: =IF(표6[[#This Row],[프로젝트명]]="","",(COUNTIF(data[프로젝트명],B15))) | D15: {=MIN(IF('데이터 입력'!$B$6:$B$42=B15,'데이터 입력'!$E$6:$E$42))} -> 0 | E15: {=MAX(IF('데이터 입력'!$B$6:$B$42=B15, '데이터 입력'!$G$6:$G$42))} -> 0 | F15: =SUMIF('데이터 입력'!$B$6:$B$33, B15, '데이터 입력'!$F$6:$F$33) -> 0 | G15: =IF(표6[[#This Row],[프로젝트명]]="","",AVERAGEIF('데이터 입력'!$B$6:$B$42, B15, '데이터 입력'!$H$6:$H$42)) | H15: =IFERROR(1-G15,"") | J15: =_xlfn.IFS('데이터 입력'!K12<>0, '데이터 입력'!K12,'데이터 입력'!K12=0, "") | K15: =IF(표10[[#This Row],[프로젝트명]]="","",COUNTIF('데이터 입력'!$D$6:$D$42,J15)) | L15: =SUMIF('데이터 입력'!$D$6:$D$33, J15, '데이터 입력'!$F$6:$F$33) -> 0 | M15: =IF(표10[[#This Row],[프로젝트명]]="","",AVERAGEIF('데이터 입력'!$D$6:$D$42, J15, '데이터 입력'!$H$6:$H$42)) | N15: =IFERROR(1-M15,"") | O15: =IF(표10[[#This Row],[프로젝트명]]="","",IF(K15>0, $K$3, ""))
B16: =_xlfn.IFS('데이터 입력'!J13<>0, '데이터 입력'!J13,'데이터 입력'!J13=0, "") | C16: =IF(표6[[#This Row],[프로젝트명]]="","",(COUNTIF(data[프로젝트명],B16))) | D16: {=MIN(IF('데이터 입력'!$B$6:$B$42=B16,'데이터 입력'!$E$6:$E$42))} -> 0 | E16: {=MAX(IF('데이터 입력'!$B$6:$B$42=B16, '데이터 입력'!$G$6:$G$42))} -> 0 | F16: =SUMIF('데이터 입력'!$B$6:$B$33, B16, '데이터 입력'!$F$6:$F$33) -> 0 | G16: =IF(표6[[#This Row],[프로젝트명]]="","",AVERAGEIF('데이터 입력'!$B$6:$B$42, B16, '데이터 입력'!$H$6:$H$42)) | H16: =IFERROR(1-G16,"") | J16: =_xlfn.IFS('데이터 입력'!K13<>0, '데이터 입력'!K13,'데이터 입력'!K13=0, "") | K16: =IF(표10[[#This Row],[프로젝트명]]="","",COUNTIF('데이터 입력'!$D$6:$D$42,J16)) | L16: =SUMIF('데이터 입력'!$D$6:$D$33, J16, '데이터 입력'!$F$6:$F$33) -> 0 | M16: =IF(표10[[#This Row],[프로젝트명]]="","",AVERAGEIF('데이터 입력'!$D$6:$D$42, J16, '데이터 입력'!$H$6:$H$42)) | N16: =IFERROR(1-M16,"") | O16: =IF(표10[[#This Row],[프로젝트명]]="","",IF(K16>0, $K$3, ""))
B17: =_xlfn.IFS('데이터 입력'!J14<>0, '데이터 입력'!J14,'데이터 입력'!J14=0, "") | C17: =IF(표6[[#This Row],[프로젝트명]]="","",(COUNTIF(data[프로젝트명],B17))) | D17: {=MIN(IF('데이터 입력'!$B$6:$B$42=B17,'데이터 입력'!$E$6:$E$42))} -> 0 | E17: {=MAX(IF('데이터 입력'!$B$6:$B$42=B17, '데이터 입력'!$G$6:$G$42))} -> 0 | F17: =SUMIF('데이터 입력'!$B$6:$B$33, B17, '데이터 입력'!$F$6:$F$33) -> 0 | G17: =IF(표6[[#This Row],[프로젝트명]]="","",AVERAGEIF('데이터 입력'!$B$6:$B$42, B17, '데이터 입력'!$H$6:$H$42)) | H17: =IFERROR(1-G17,"") | J17: =_xlfn.IFS('데이터 입력'!K14<>0, '데이터 입력'!K14,'데이터 입력'!K14=0, "") | K17: =IF(표10[[#This Row],[프로젝트명]]="","",COUNTIF('데이터 입력'!$D$6:$D$42,J17)) | L17: =SUMIF('데이터 입력'!$D$6:$D$33, J17, '데이터 입력'!$F$6:$F$33) -> 0 | M17: =IF(표10[[#This Row],[프로젝트명]]="","",AVERAGEIF('데이터 입력'!$D$6:$D$42, J17, '데이터 입력'!$H$6:$H$42)) | N17: =IFERROR(1-M17,"") | O17: =IF(표10[[#This Row],[프로젝트명]]="","",IF(K17>0, $K$3, ""))
B18: =_xlfn.IFS('데이터 입력'!J15<>0, '데이터 입력'!J15,'데이터 입력'!J15=0, "") | C18: =IF(표6[[#This Row],[프로젝트명]]="","",(COUNTIF(data[프로젝트명],B18))) | D18: {=MIN(IF('데이터 입력'!$B$6:$B$42=B18,'데이터 입력'!$E$6:$E$42))} -> 0 | E18: {=MAX(IF('데이터 입력'!$B$6:$B$42=B18, '데이터 입력'!$G$6:$G$42))} -> 0 | F18: =SUMIF('데이터 입력'!$B$6:$B$33, B18, '데이터 입력'!$F$6:$F$33) -> 0 | G18: =IF(표6[[#This Row],[프로젝트명]]="","",AVERAGEIF('데이터 입력'!$B$6:$B$42, B18, '데이터 입력'!$H$6:$H$42)) | H18: =IFERROR(1-G18,"") | J18: =_xlfn.IFS('데이터 입력'!K15<>0, '데이터 입력'!K15,'데이터 입력'!K15=0, "") | K18: =IF(표10[[#This Row],[프로젝트명]]="","",COUNTIF('데이터 입력'!$D$6:$D$42,J18)) | L18: =SUMIF('데이터 입력'!$D$6:$D$33, J18, '데이터 입력'!$F$6:$F$33) -> 0 | M18: =IF(표10[[#This Row],[프로젝트명]]="","",AVERAGEIF('데이터 입력'!$D$6:$D$42, J18, '데이터 입력'!$H$6:$H$42)) | N18: =IFERROR(1-M18,"") | O18: =IF(표10[[#This Row],[프로젝트명]]="","",IF(K18>0, $K$3, ""))
