Workbook

Sheet 대시보드
B2: 재고관리 대시보드
B3: 선택 월 : | C3: 45292
B5: 유형별 매입 수량 | F5: 유형별 판매 수량
B9: 선택 품목 : | C9: 남색 면바지 | F9: 현 재고 수량
F13: 일일 판매량
F17: 예상 판매 가능 일수
B22: 사용 가능 현 재고 수량 | D22: 총 재고 금액 | F22: 전체 품목 재고 상태
B27: 유형별 재고 금액

Sheet 품목정보
B2: 품목정보 입력
B4: 품목 코드 | C4: 품목명 | D4: 구분 | E4: 단가 | F4: 적정 수량 | G4: 최소 수량 | H4: 현 재고 | I4: 재고 금액 | J4: 최소 재고량 | K4: 재고 상태 | L4: 적정 재고 비율
B5: a_001 | C5: 흰색 자켓 | D5: 의류 | E5: 50000 | F5: 50 | G5: 45 | H5: =SUMIF(매입내역!$D$5:$D$74, 품목정보!$B5, 매입내역!$H$5:$H$74)-SUMIF(매출내역!$D$5:$D$74, 품목정보!$B5, 매출내역!$H$5:$H$74) -> 50 | I5: =품목정보!$E5*품목정보!$H5 -> 2500000 | J5: =IF(품목정보!$H5<품목정보!$F5, 품목정보!$F5-품목정보!$H5,0) -> 0 | K5: =IF(표1[[#This Row],[적정 수량]]="","",IF(품목정보!$H5>=품목정보!$F5, "재고 보유", IF(품목정보!$H5<품목정보!$G5, "재주문 필요", "적정 재고 미달"))) -> 재고 보유 | L5: =IFERROR(품목정보!$H5/품목정보!$F5,"") -> 1
B6: a_002 | C6: 남색 면바지 | D6: 의류 | E6: 25000 | F6: 40 | G6: 40 | H6: =SUMIF(매입내역!$D$5:$D$74, 품목정보!$B6, 매입내역!$H$5:$H$74)-SUMIF(매출내역!$D$5:$D$74, 품목정보!$B6, 매출내역!$H$5:$H$74) -> 25 | I6: =품목정보!$E6*품목정보!$H6 -> 625000 | J6: =IF(품목정보!$H6<품목정보!$F6, 품목정보!$F6-품목정보!$H6,0) -> 15 | K6: =IF(표1[[#This Row],[적정 수량]]="","",IF(품목정보!$H6>=품목정보!$F6, "재고 보유", IF(품목정보!$H6<품목정보!$G6, "재주문 필요", "적정 재고 미달"))) -> 재주문 필요 | L6: =IFERROR(품목정보!$H6/품목정보!$F6,"") -> 0.625
B7: a_003 | C7: 흰색 셔츠 | D7: 의류 | E7: 33000 | F7: 30 | G7: 25 | H7: =SUMIF(매입내역!$D$5:$D$74, 품목정보!$B7, 매입내역!$H$5:$H$74)-SUMIF(매출내역!$D$5:$D$74, 품목정보!$B7, 매출내역!$H$5:$H$74) -> 10 | I7: =품목정보!$E7*품목정보!$H7 -> 330000 | J7: =IF(품목정보!$H7<품목정보!$F7, 품목정보!$F7-품목정보!$H7,0) -> 20 | K7: =IF(표1[[#This Row],[적정 수량]]="","",IF(품목정보!$H7>=품목정보!$F7, "재고 보유", IF(품목정보!$H7<품목정보!$G7, "재주문 필요", "적정 재고 미달"))) -> 재주문 필요 | L7: =IFERROR(품목정보!$H7/품목정보!$F7,"") -> 0.33333333
B8: a_004 | C8: 검정 선글라스 | D8: 악세사리 | E8: 20000 | F8: 40 | G8: 30 | H8: =SUMIF(매입내역!$D$5:$D$74, 품목정보!$B8, 매입내역!$H$5:$H$74)-SUMIF(매출내역!$D$5:$D$74, 품목정보!$B8, 매출내역!$H$5:$H$74) -> 35 | I8: =품목정보!$E8*품목정보!$H8 -> 700000 | J8: =IF(품목정보!$H8<품목정보!$F8, 품목정보!$F8-품목정보!$H8,0) -> 5 | K8: =IF(표1[[#This Row],[적정 수량]]="","",IF(품목정보!$H8>=품목정보!$F8, "재고 보유", IF(품목정보!$H8<품목정보!$G8, "재주문 필요", "적정 재고 미달"))) -> 적정 재고 미달 | L8: =IFERROR(품목정보!$H8/품목정보!$F8,"") -> 0.875
B9: a_005 | C9: 분홍 티셔츠 | D9: 의류 | E9: 11000 | F9: 35 | G9: 30 | H9: =SUMIF(매입내역!$D$5:$D$74, 품목정보!$B9, 매입내역!$H$5:$H$74)-SUMIF(매출내역!$D$5:$D$74, 품목정보!$B9, 매출내역!$H$5:$H$74) -> 33 | I9: =품목정보!$E9*품목정보!$H9 -> 363000 | J9: =IF(품목정보!$H9<품목정보!$F9, 품목정보!$F9-품목정보!$H9,0) -> 2 | K9: =IF(표1[[#This Row],[적정 수량]]="","",IF(품목정보!$H9>=품목정보!$F9, "재고 보유", IF(품목정보!$H9<품목정보!$G9, "재주문 필요", "적정 재고 미달"))) -> 적정 재고 미달 | L9: =IFERROR(품목정보!$H9/품목정보!$F9,"") -> 0.94285714
B10: a_006 | C10: 회색 운동화 | D10: 신발 | E10: 55000 | F10: 15 | G10: 15 | H10: =SUMIF(매입내역!$D$5:$D$74, 품목정보!$B10, 매입내역!$H$5:$H$74)-SUMIF(매출내역!$D$5:$D$74, 품목정보!$B10, 매출내역!$H$5:$H$74) -> 33 | I10: =품목정보!$E10*품목정보!$H10 -> 1815000 | J10: =IF(품목정보!$H10<품목정보!$F10, 품목정보!$F10-품목정보!$H10,0) -> 0 | K10: =IF(표1[[#This Row],[적정 수량]]="","",IF(품목정보!$H10>=품목정보!$F10, "재고 보유", IF(품목정보!$H10<품목정보!$G10, "재주문 필요", "적정 재고 미달"))) -> 재고 보유 | L10: =IFERROR(품목정보!$H10/품목정보!$F10,"") -> 2.2
B11: a_007 | C11: 순은 귀걸이 | D11: 악세사리 | E11: 23000 | F11: 15 | G11: 15 | H11: =SUMIF(매입내역!$D$5:$D$74, 품목정보!$B11, 매입내역!$H$5:$H$74)-SUMIF(매출내역!$D$5:$D$74, 품목정보!$B11, 매출내역!$H$5:$H$74) -> 10 | I11: =품목정보!$E11*품목정보!$H11 -> 230000 | J11: =IF(품목정보!$H11<품목정보!$F11, 품목정보!$F11-품목정보!$H11,0) -> 5 | K11: =IF(표1[[#This Row],[적정 수량]]="","",IF(품목정보!$H11>=품목정보!$F11, "재고 보유", IF(품목정보!$H11<품목정보!$G11, "재주문 필요", "적정 재고 미달"))) -> 재주문 필요 | L11: =IFERROR(품목정보!$H11/품목정보!$F11,"") -> 0.66666667
B12: a_008 | C12: 패션 반지 | D12: 악세사리 | E12: 15000 | F12: 20 | G12: 25 | H12: =SUMIF(매입내역!$D$5:$D$74, 품목정보!$B12, 매입내역!$H$5:$H$74)-SUMIF(매출내역!$D$5:$D$74, 품목정보!$B12, 매출내역!$H$5:$H$74) -> 25 | I12: =품목정보!$E12*품목정보!$H12 -> 375000 | J12: =IF(품목정보!$H12<품목정보!$F12, 품목정보!$F12-품목정보!$H12,0) -> 0 | K12: =IF(표1[[#This Row],[적정 수량]]="","",IF(품목정보!$H12>=품목정보!$F12, "재고 보유", IF(품목정보!$H12<품목정보!$G12, "재주문 필요", "적정 재고 미달"))) -> 재고 보유 | L12: =IFERROR(품목정보!$H12/품목정보!$F12,"") -> 1.25
H13: =SUMIF(매입내역!$D$5:$D$74, 품목정보!$B13, 매입내역!$H$5:$H$74)-SUMIF(매출내역!$D$5:$D$74, 품목정보!$B13, 매출내역!$H$5:$H$74) -> 0 | I13: =품목정보!$E13*품목정보!$H13 -> 0 | J13: =IF(품목정보!$H13<품목정보!$F13, 품목정보!$F13-품목정보!$H13,0) -> 0 | K13: =IF(표1[[#This Row],[적정 수량]]="","",IF(품목정보!$H13>=품목정보!$F13, "재고 보유", IF(품목정보!$H13<품목정보!$G13, "재주문 필요", "적정 재고 미달"))) | L13: =IFERROR(품목정보!$H13/품목정보!$F13,"")
H14: =SUMIF(매입내역!$D$5:$D$74, 품목정보!$B14, 매입내역!$H$5:$H$74)-SUMIF(매출내역!$D$5:$D$74, 품목정보!$B14, 매출내역!$H$5:$H$74) -> 0 | I14: =품목정보!$E14*품목정보!$H14 -> 0 | J14: =IF(품목정보!$H14<품목정보!$F14, 품목정보!$F14-품목정보!$H14,0) -> 0 | K14: =IF(표1[[#This Row],[적정 수량]]="","",IF(품목정보!$H14>=품목정보!$F14, "재고 보유", IF(품목정보!$H14<품목정보!$G14, "재주문 필요", "적정 재고 미달"))) | L14: =IFERROR(품목정보!$H14/품목정보!$F14,"")
H15: =SUMIF(매입내역!$D$5:$D$74, 품목정보!$B15, 매입내역!$H$5:$H$74)-SUMIF(매출내역!$D$5:$D$74, 품목정보!$B15, 매출내역!$H$5:$H$74) -> 0 | I15: =품목정보!$E15*품목정보!$H15 -> 0 | J15: =IF(품목정보!$H15<품목정보!$F15, 품목정보!$F15-품목정보!$H15,0) -> 0 | K15: =IF(표1[[#This Row],[적정 수량]]="","",IF(품목정보!$H15>=품목정보!$F15, "재고 보유", IF(품목정보!$H15<품목정보!$G15, "재주문 필요", "적정 재고 미달"))) | L15: =IFERROR(품목정보!$H15/품목정보!$F15,"")
H16: =SUMIF(매입내역!$D$5:$D$74, 품목정보!$B16, 매입내역!$H$5:$H$74)-SUMIF(매출내역!$D$5:$D$74, 품목정보!$B16, 매출내역!$H$5:$H$74) -> 0 | I16: =품목정보!$E16*품목정보!$H16 -> 0 | J16: =IF(품목정보!$H16<품목정보!$F16, 품목정보!$F16-품목정보!$H16,0) -> 0 | K16: =IF(표1[[#This Row],[적정 수량]]="","",IF(품목정보!$H16>=품목정보!$F16, "재고 보유", IF(품목정보!$H16<품목정보!$G16, "재주문 필요", "적정 재고 미달"))) | L16: =IFERROR(품목정보!$H16/품목정보!$F16,"")
H17: =SUMIF(매입내역!$D$5:$D$74, 품목정보!$B17, 매입내역!$H$5:$H$74)-SUMIF(매출내역!$D$5:$D$74, 품목정보!$B17, 매출내역!$H$5:$H$74) -> 0 | I17: =품목정보!$E17*품목정보!$H17 -> 0 | J17: =IF(품목정보!$H17<품목정보!$F17, 품목정보!$F17-품목정보!$H17,0) -> 0 | K17: =IF(표1[[#This Row],[적정 수량]]="","",IF(품목정보!$H17>=품목정보!$F17, "재고 보유", IF(품목정보!$H17<품목정보!$G17, "재주문 필요", "적정 재고 미달"))) | L17: =IFERROR(품목정보!$H17/품목정보!$F17,"")
H18: =SUMIF(매입내역!$D$5:$D$74, 품목정보!$B18, 매입내역!$H$5:$H$74)-SUMIF(매출내역!$D$5:$D$74, 품목정보!$B18, 매출내역!$H$5:$H$74) -> 0 | I18: =품목정보!$E18*품목정보!$H18 -> 0 | J18: =IF(품목정보!$H18<품목정보!$F18, 품목정보!$F18-품목정보!$H18,0) -> 0 | K18: =IF(표1[[#This Row],[적정 수량]]="","",IF(품목정보!$H18>=품목정보!$F18, "재고 보유", IF(품목정보!$H18<품목정보!$G18, "재주문 필요", "적정 재고 미달"))) | L18: =IFERROR(품목정보!$H18/품목정보!$F18,"")
H19: =SUMIF(매입내역!$D$5:$D$74, 품목정보!$B19, 매입내역!$H$5:$H$74)-SUMIF(매출내역!$D$5:$D$74, 품목정보!$B19, 매출내역!$H$5:$H$74) -> 0 | I19: =품목정보!$E19*품목정보!$H19 -> 0 | J19: =IF(품목정보!$H19<품목정보!$F19, 품목정보!$F19-품목정보!$H19,0) -> 0 | K19: =IF(표1[[#This Row],[적정 수량]]="","",IF(품목정보!$H19>=품목정보!$F19, "재고 보유", IF(품목정보!$H19<품목정보!$G19, "재주문 필요", "적정 재고 미달"))) | L19: =IFERROR(품목정보!$H19/품목정보!$F19,"")
H20: =SUMIF(매입내역!$D$5:$D$74, 품목정보!$B20, 매입내역!$H$5:$H$74)-SUMIF(매출내역!$D$5:$D$74, 품목정보!$B20, 매출내역!$H$5:$H$74) -> 0 | I20: =품목정보!$E20*품목정보!$H20 -> 0 | J20: =IF(품목정보!$H20<품목정보!$F20, 품목정보!$F20-품목정보!$H20,0) -> 0 | K20: =IF(표1[[#This Row],[적정 수량]]="","",IF(품목정보!$H20>=품목정보!$F20, "재고 보유", IF(품목정보!$H20<품목정보!$G20, "재주문 필요", "적정 재고 미달"))) | L20: =IFERROR(품목정보!$H20/품목정보!$F20,"")
H21: =SUMIF(매입내역!$D$5:$D$74, 품목정보!$B21, 매입내역!$H$5:$H$74)-SUMIF(매출내역!$D$5:$D$74, 품목정보!$B21, 매출내역!$H$5:$H$74) -> 0 | I21: =품목정보!$E21*품목정보!$H21 -> 0 | J21: =IF(품목정보!$H21<품목정보!$F21, 품목정보!$F21-품목정보!$H21,0) -> 0 | K21: =IF(표1[[#This Row],[적정 수량]]="","",IF(품목정보!$H21>=품목정보!$F21, "재고 보유", IF(품목정보!$H21<품목정보!$G21, "재주문 필요", "적정 재고 미달"))) | L21: =IFERROR(품목정보!$H21/품목정보!$F21,"")
H22: =SUMIF(매입내역!$D$5:$D$74, 품목정보!$B22, 매입내역!$H$5:$H$74)-SUMIF(매출내역!$D$5:$D$74, 품목정보!$B22, 매출내역!$H$5:$H$74) -> 0 | I22: =품목정보!$E22*품목정보!$H22 -> 0 | J22: =IF(품목정보!$H22<품목정보!$F22, 품목정보!$F22-품목정보!$H22,0) -> 0 | K22: =IF(표1[[#This Row],[적정 수량]]="","",IF(품목정보!$H22>=품목정보!$F22, "재고 보유", IF(품목정보!$H22<품목정보!$G22, "재주문 필요", "적정 재고 미달"))) | L22: =IFERROR(품목정보!$H22/품목정보!$F22,"")
H23: =SUMIF(매입내역!$D$5:$D$74, 품목정보!$B23, 매입내역!$H$5:$H$74)-SUMIF(매출내역!$D$5:$D$74, 품목정보!$B23, 매출내역!$H$5:$H$74) -> 0 | I23: =품목정보!$E23*품목정보!$H23 -> 0 | J23: =IF(품목정보!$H23<품목정보!$F23, 품목정보!$F23-품목정보!$H23,0) -> 0 | K23: =IF(표1[[#This Row],[적정 수량]]="","",IF(품목정보!$H23>=품목정보!$F23, "재고 보유", IF(품목정보!$H23<품목정보!$G23, "재주문 필요", "적정 재고 미달"))) | L23: =IFERROR(품목정보!$H23/품목정보!$F23,"")
H24: =SUMIF(매입내역!$D$5:$D$74, 품목정보!$B24, 매입내역!$H$5:$H$74)-SUMIF(매출내역!$D$5:$D$74, 품목정보!$B24, 매출내역!$H$5:$H$74) -> 0 | I24: =품목정보!$E24*품목정보!$H24 -> 0 | J24: =IF(품목정보!$H24<품목정보!$F24, 품목정보!$F24-품목정보!$H24,0) -> 0 | K24: =IF(표1[[#This Row],[적정 수량]]="","",IF(품목정보!$H24>=품목정보!$F24, "재고 보유", IF(품목정보!$H24<품목정보!$G24, "재주문 필요", "적정 재고 미달"))) | L24: =IFERROR(품목정보!$H24/품목정보!$F24,"")

Sheet 매입내역
B2: 매입내역 입력
B4: 번호 | C4: 일자 | D4: 품목 코드 | E4: 품목명 | F4: 구분 | G4: 단가 | H4: 매입 수량 | I4: 총 금액
B5: 1 | C5: 45292 | D5: a_001 | E5: 흰색 자켓 | F5: 의류 | G5: 40000 | H5: 70 | I5: =G5*H5 -> 2800000
B6: 2 | C6: 45293 | D6: a_002 | E6: 남색 면바지 | F6: 의류 | G6: 20000 | H6: 50 | I6: =G6*H6 -> 1000000
B7: 3 | C7: 45294 | D7: a_003 | E7: 흰색 셔츠 | F7: 의류 | G7: 25000 | H7: 40 | I7: =G7*H7 -> 1000000
B8: 4 | C8: 45295 | D8: a_004 | E8: 검정 선글라스 | F8: 악세사리 | G8: 18000 | H8: 50 | I8: =G8*H8 -> 900000
B9: 5 | C9: 45296 | D9: a_005 | E9: 분홍 티셔츠 | F9: 의류 | G9: 9900 | H9: 40 | I9: =G9*H9 -> 396000
B10: 6 | C10: 45297 | D10: a_006 | E10: 회색 운동화 | F10: 신발 | G10: 45000 | H10: 40 | I10: =G10*H10 -> 1800000
B11: 7 | C11: 45298 | D11: a_007 | E11: 순은 귀걸이 | F11: 악세사리 | G11: 18000 | H11: 20 | I11: =G11*H11 -> 360000
B12: 8 | C12: 45299 | D12: a_008 | E12: 패션 반지 | F12: 악세사리 | G12: 10000 | H12: 30 | I12: =G12*H12 -> 300000
I13: =G13*H13 -> 0
I14: =G14*H14 -> 0
I15: =G15*H15 -> 0
I16: =G16*H16 -> 0
I17: =G17*H17 -> 0
I18: =G18*H18 -> 0
I19: =G19*H19 -> 0
I20: =G20*H20 -> 0
I21: =G21*H21 -> 0
I22: =G22*H22 -> 0
I23: =G23*H23 -> 0
I24: =G24*H24 -> 0
... I28: =G28*H28 -> 0

Sheet 매출내역
B2: 매출내역 입력
B4: 번호 | C4: 일자 | D4: 품목 코드 | E4: 품목명 | F4: 구분 | G4: 단가 | H4: 매출 수량 | I4: 총 금액
B5: 1 | C5: 45292 | D5: a_001 | E5: 흰색 자켓 | F5: 의류 | G5: 50000 | H5: 20 | I5: =G5*H5 -> 1000000
B6: 2 | C6: 45293 | D6: a_002 | E6: 남색 면바지 | F6: 의류 | G6: 25000 | H6: 25 | I6: =G6*H6 -> 625000
B7: 3 | C7: 45294 | D7: a_003 | E7: 흰색 셔츠 | F7: 의류 | G7: 33000 | H7: 30 | I7: =G7*H7 -> 990000
B8: 4 | C8: 45295 | D8: a_004 | E8: 검정 선글라스 | F8: 악세사리 | G8: 20000 | H8: 15 | I8: =G8*H8 -> 300000
B9: 5 | C9: 45296 | D9: a_005 | E9: 분홍 티셔츠 | F9: 의류 | G9: 11000 | H9: 7 | I9: =G9*H9 -> 77000
B10: 6 | C10: 45297 | D10: a_006 | E10: 회색 운동화 | F10: 신발 | G10: 55000 | H10: 7 | I10: =G10*H10 -> 385000
B11: 7 | C11: 45298 | D11: a_007 | E11: 순은 귀걸이 | F11: 악세사리 | G11: 23000 | H11: 10 | I11: =G11*H11 -> 230000
B12: 8 | C12: 45299 | D12: a_008 | E12: 패션 반지 | F12: 악세사리 | G12: 15000 | H12: 5 | I12: =G12*H12 -> 75000
I13: =G13*H13 -> 0
I14: =G14*H14 -> 0
I15: =G15*H15 -> 0
I16: =G16*H16 -> 0
I17: =G17*H17 -> 0
I18: =G18*H18 -> 0
I19: =G19*H19 -> 0
I20: =G20*H20 -> 0
I21: =G21*H21 -> 0
I22: =G22*H22 -> 0
I23: =G23*H23 -> 0
I24: =G24*H24 -> 0
... I28: =G28*H28 -> 0

Sheet 데이터 통계
B2: 데이터 통계
E3: =IF(MONTH($C$4)=1,31,IF(AND(MONTH($C$4)=2,YEAR($C$4)=2024),29,IF(MONTH($C$4)=2,28,IF(MONTH($C$4)=3,31,IF(MONTH($C$4)=4,30,IF(MONTH($C$4)=5,31,IF(MONTH($C$4)=6,30,IF(MONTH($C$4)=7,31,IF(MONTH($C$4)=8,31,IF(MONTH($C$4)=9,30,IF(MONTH($C$4)=10,31,IF(MONTH($C$4)=11,30,IF(MONTH($C$4)=12,31,""))))))))))) )) -> 31
B4: 선택 월 : | C4: =대시보드!C3 -> 45292 | E4: 시작일 : | F4: =C4 -> 45292 | H4: 종료일 : | I4: =F4+E3-1 -> 45322
B6: 재고 금액 | C6: 현 재고 | E6: 선택 품목 | G6: 비율 | I6: 상태 | J6: 사용 가능 재고 수량
B7: =SUM(품목정보!$I$5:$I$24) -> 6938000 | C7: =INDEX(품목정보!$B$5:$L$24, MATCH('데이터 통계'!$E$7,품목정보!$C$5:$C$24,0),7) -> 25 | E7: =대시보드!C9 -> 남색 면바지 | G7: =INDEX(품목정보!$B$5:$L$24, MATCH('데이터 통계'!$E$7,품목정보!$C$5:$C$24,0),11) -> 0.625 | I7: =INDEX(품목정보!$B$5:$L$24, MATCH('데이터 통계'!$E$7,품목정보!$C$5:$C$24,0),10) -> 재주문 필요 | J7: =SUM(품목정보!$H$5:$H$24) -> 221
B10: 현 재고 - 적정 수량 | C10: 재주문 | E10: 재고 보유 기간 | G10: 적정 수량 | I10: 일일 판매량
B11: =IF((C7-G11)>0, 0, C7-G11) -> -15 | C11: =INDEX(표1[#Data], MATCH('데이터 통계'!$E$7,표1[품목명],0),9) -> 15 | E11: =C7/I11 -> 7 | G11: =INDEX(품목정보!$B$5:$L$24, MATCH('데이터 통계'!$E$7,품목정보!$C$5:$C$24,0),5) -> 40 | I11: =SUMIF(매출내역!$E$5:$E$74, '데이터 통계'!$E$7, 매출내역!$H$5:$H$74)/(MAX(매출내역!$C$5:$C$74)-MIN(매출내역!$C$5:$C$74)) -> 3.5714286
B13: 구분 | C13: 재고 금액 | F13: 재고 상태 | G13: 현재 수량 | I13: 잔여 수량 | K13: 선택 월
B14: 의류 | C14: =SUMIF(품목정보!$D$5:$D$24, '데이터 통계'!$B14,품목정보!$I$5:$I$24) -> 3818000 | F14: 재고 보유 | G14: =COUNTIF(품목정보!$K$5:$K$24,'데이터 통계'!$F14) -> 3 | I14: =$G$18-G14 -> 5 | K14: 45292
B15: 악세사리 | C15: =SUMIF(품목정보!$D$5:$D$24, '데이터 통계'!$B15,품목정보!$I$5:$I$24) -> 1305000 | F15: 적정 재고 미달 | G15: =COUNTIF(품목정보!$K$5:$K$24,'데이터 통계'!$F15) -> 2 | I15: =$G$18-G15 -> 6 | K15: 45323
B16: 신발 | C16: =SUMIF(품목정보!$D$5:$D$24, '데이터 통계'!$B16,품목정보!$I$5:$I$24) -> 1815000 | F16: 재주문 필요 | G16: =COUNTIF(품목정보!$K$5:$K$24,'데이터 통계'!$F16) -> 3 | I16: =$G$18-G16 -> 5 | K16: 45352
C17: =SUMIF(품목정보!$D$5:$D$24, '데이터 통계'!$B17,품목정보!$I$5:$I$24) -> 0 | K17: 45383
B18: 합계 : | C18: =SUM(C14:C17) -> 6938000 | F18: 합계 : | G18: =SUM(G14:G16) -> 8 | K18: 45413
K19: 45444
B20: 구분 | C20: 월간 매입 수량 | F20: 구분 | G20: 월간 매출 수량 | K20: 45474
B21: 의류 | C21: =SUMIFS(매입내역!$H$5:$H$74, 매입내역!$C$5:$C$74, ">="&'데이터 통계'!$F$4, 매입내역!$C$5:$C$74, "<="&'데이터 통계'!$I$4, 매입내역!$F$5:$F$74, '데이터 통계'!$B$21) -> 200 | F21: 의류 | G21: =SUMIFS(매출내역!$H$5:$H$74, 매입내역!$C$5:$C$74, ">="&'데이터 통계'!$F$4, 매출내역!$C$5:$C$74, "<="&'데이터 통계'!$I$4, 매출내역!$F$5:$F$74, '데이터 통계'!$F$21) -> 82 | K21: 45505
B22: 악세사리 | C22: =SUMIFS(매입내역!$H$5:$H$74, 매입내역!$C$5:$C$74, ">="&'데이터 통계'!$F$4, 매입내역!$C$5:$C$74, "<="&'데이터 통계'!$I$4, 매입내역!$F$5:$F$74, '데이터 통계'!$B$22) -> 100 | F22: 악세사리 | G22: =SUMIFS(매출내역!$H$5:$H$74, 매입내역!$C$5:$C$74, ">="&'데이터 통계'!$F$4, 매출내역!$C$5:$C$74, "<="&'데이터 통계'!$I$4, 매출내역!$F$5:$F$74, '데이터 통계'!$F$22) -> 30 | K22: 45536
B23: 신발 | C23: =SUMIFS(매입내역!$H$5:$H$74, 매입내역!$C$5:$C$74, ">="&'데이터 통계'!$F$4, 매입내역!$C$5:$C$74, "<="&'데이터 통계'!$I$4, 매입내역!$F$5:$F$74, '데이터 통계'!$B$23) -> 40 | F23: 신발 | G23: =SUMIFS(매출내역!$H$5:$H$74, 매입내역!$C$5:$C$74, ">="&'데이터 통계'!$F$4, 매출내역!$C$5:$C$74, "<="&'데이터 통계'!$I$4, 매출내역!$F$5:$F$74, '데이터 통계'!$F$23) -> 7 | K23: 45566
C24: =SUMIFS(매입내역!$H$5:$H$74, 매입내역!$C$5:$C$74, ">="&'데이터 통계'!$F$4, 매입내역!$C$5:$C$74, "<="&'데이터 통계'!$I$4, 매입내역!$F$5:$F$74, '데이터 통계'!$B$24) -> 0 | G24: =SUMIFS(매출내역!$H$5:$H$74, 매입내역!$C$5:$C$74, ">="&'데이터 통계'!$F$4, 매출내역!$C$5:$C$74, "<="&'데이터 통계'!$I$4, 매출내역!$F$5:$F$74, '데이터 통계'!$F$24) -> 0 | K24: 45597
K25: 45627
