Workbook

Sheet 여행 일정 관리표
B2: 여행 일정 관리표
B4: 항공편
B5: 일자 | C5: 항공편 번호 | D5: 구분 | E5: 항공사 | F5: 출발 시간 | G5: 도착 시간 | H5: 게이트 | I5: 좌석 | J5: 예약 번호 | K5: 도착지 | L5: 주요 사항 | M5: 비용
B6: 45292 | C6: BA001 | D6: 가는편 | E6: 아시아나 항공 | F6: 0.42361111 | G6: 0.84722222 | H6: 3 | I6: a13 | J6: ABC123 | K6: 런던 히드로 공항 | L6: 탑승권 지참 | M6: 600000
B7: 45301 | C7: BA002 | D7: 오는편 | E7: 아시아나 항공 | F7: 0.45833333 | G7: 0.89583333 | H7: 5 | I7: B15 | J7: DEF456 | K7: 인천 국제공항 | L7: 탑승권 지참 | M7: 550000
B10: 교통수단
B11: 일자 | C11: 구분 | D11: FROM | F11: TO | I11: 내용 | L11: 메모 | M11: 비용
B12: 45293 | C12: 지하철 | D12: 런던 히드로 공항 | F12: Royal Crown Hotel | I12: 히드로 익스프레스로 이동 | L12: 25 파운드 | M12: 40900
B16: 숙박
B17: 숙박업소 | D17: 위치 | F17: 주요 사항 | G17: 예약 번호 | H17: 식사 포함 | I17: 추가 혜택 | J17: 체크인 / 체크아웃 | K17: 일자 | L17: 시간 | M17: 비용
B18: Royal Crown Hotel | D18: 123 Main Street, London, UK | F18: 숙박권 10% 할인 | G18: abc123 | H18: 석식 | J18: 체크인 | K18: 45293 | L18: 0.625 | M18: 70000
B19: Royal Crown Hotel | D19: 123 Main Street, London, UK | F19: 1박 기준 가격 | H19: 조식 | J19: 체크아웃 | K19: 45295 | L19: 0.45833333
B21: 여행지
B22: 장소 | D22: 위치 | F22: 길 안내 | I22: 오픈 시간 | J22: 내용 | K22: 메모 | M22: 비용
B23: 버킹엄 궁전 | D23: Spur Road, London SW1A 1AA England | F23: 피카딜리 라인의 그린 파크 역에서 하차 | I23: 0.375 | J23: 입장권 | K23: 입장료 : 28 파운드 | M23: 45920
B27: 음식
B28: 음식명 | E28: 내용 | J28: 메모 | M28: 비용
B29: 피시 앤 칩스 | E29: 영국의 대표적인 패스트푸드. | J29: 유명 식당 : The Golden Hind - 메리바운 근처에 위치 | M29: 15000
B30: Full English Breakfast | E30: 영국에서 흔히 즐겨먹는 전통적인 아침 식사. | J30: 유명 식당 : The Ivy Café - 코벤트 가든에 위치 | M30: 20000
B33: 기념품 구매
B34: 품목명 | E34: 내용 | J34: 메모 | M34: 비용
B35: 영국 차 선물 세트 | E35: 영국의 다양한 차 종류가 포함된 선물 세트. 온라인 매장 구매 가능. | J35: 브랜드 : Whittard of Chelsea - 영국 전역에 매장 운영 | M35: 20000

Sheet 여행 예산
B2: 여행 예산
E3: 목표 예산 | G3: 4000000
E4: 예산 사용률 | G4: =IFERROR(표8[[#Totals],[금액]]/$G$3,0) -> 0.385455
B5: 예산 세부내역
B6: 구분 | C6: 구매 | D6: 내용 | E6: 단가 | F6: 수량 | G6: 금액
B7: ='여행 일정 관리표'!B4:L4 -> 항공편 | C7: 항공권 | D7: ='여행 일정 관리표'!D6&" 비행권" -> 가는편 비행권 | E7: ='여행 일정 관리표'!M6 -> 600000 | F7: 1 | G7: =표8[[#This Row],[단가]]*표8[[#This Row],[수량]] -> 600000
C8: 항공권 | D8: ='여행 일정 관리표'!D7&" 비행권" -> 오는편 비행권 | E8: ='여행 일정 관리표'!M7 -> 550000 | F8: 1 | G8: =표8[[#This Row],[단가]]*표8[[#This Row],[수량]] -> 550000
D9: ='여행 일정 관리표'!D8&" 비행권" -> 비행권 | E9: ='여행 일정 관리표'!M8 -> 0 | G9: =표8[[#This Row],[단가]]*표8[[#This Row],[수량]] -> 0
B10: ='여행 일정 관리표'!B10:L10 -> 교통수단 | C10: 지하철 탑승권 | D10: ='여행 일정 관리표'!I12 -> 히드로 익스프레스로 이동 | E10: ='여행 일정 관리표'!M12 -> 40900 | F10: 1 | G10: =표8[[#This Row],[단가]]*표8[[#This Row],[수량]] -> 40900
D11: ='여행 일정 관리표'!I13 -> 0 | E11: ='여행 일정 관리표'!M13 -> 0 | G11: =표8[[#This Row],[단가]]*표8[[#This Row],[수량]] -> 0
D12: ='여행 일정 관리표'!I14 -> 0 | E12: ='여행 일정 관리표'!M14 -> 0 | G12: =표8[[#This Row],[단가]]*표8[[#This Row],[수량]] -> 0
B13: ='여행 일정 관리표'!B16:L16 -> 숙박 | C13: 숙박권 | D13: ='여행 일정 관리표'!B18 -> Royal Crown Hotel | E13: ='여행 일정 관리표'!M18 -> 70000 | F13: 3 | G13: =표8[[#This Row],[단가]]*표8[[#This Row],[수량]] -> 210000
E14: ='여행 일정 관리표'!M19 -> 0 | G14: =표8[[#This Row],[단가]]*표8[[#This Row],[수량]] -> 0
B15: ='여행 일정 관리표'!B21:L21 -> 여행지 | C15: ='여행 일정 관리표'!J23 -> 입장권 | D15: 버킹엄 궁전 입장료 | E15: ='여행 일정 관리표'!M23 -> 45920 | F15: 1 | G15: =표8[[#This Row],[단가]]*표8[[#This Row],[수량]] -> 45920
C16: ='여행 일정 관리표'!J24 -> 0 | E16: ='여행 일정 관리표'!M24 -> 0 | G16: =표8[[#This Row],[단가]]*표8[[#This Row],[수량]] -> 0
C17: ='여행 일정 관리표'!J25 -> 0 | E17: ='여행 일정 관리표'!M25 -> 0 | G17: =표8[[#This Row],[단가]]*표8[[#This Row],[수량]] -> 0
B18: ='여행 일정 관리표'!B27:L27 -> 음식 | C18: ='여행 일정 관리표'!B29 -> 피시 앤 칩스 | D18: The Golden Hind | E18: ='여행 일정 관리표'!M29 -> 15000 | F18: 1 | G18: =표8[[#This Row],[단가]]*표8[[#This Row],[수량]] -> 15000
C19: ='여행 일정 관리표'!B30 -> Full English Breakfast | D19: The Ivy Café | E19: ='여행 일정 관리표'!M30 -> 20000 | F19: 1 | G19: =표8[[#This Row],[단가]]*표8[[#This Row],[수량]] -> 20000
C20: ='여행 일정 관리표'!B31 -> 0 | E20: ='여행 일정 관리표'!M31 -> 0 | G20: =표8[[#This Row],[단가]]*표8[[#This Row],[수량]] -> 0
B21: ='여행 일정 관리표'!B33:L33 -> 기념품 구매 | C21: ='여행 일정 관리표'!B35 -> 영국 차 선물 세트 | D21: Whittard of Chelsea에서 구매 | E21: ='여행 일정 관리표'!M35 -> 20000 | F21: 3 | G21: =표8[[#This Row],[단가]]*표8[[#This Row],[수량]] -> 60000
C22: ='여행 일정 관리표'!B36 -> 0 | E22: ='여행 일정 관리표'!M36 -> 0 | G22: =표8[[#This Row],[단가]]*표8[[#This Row],[수량]] -> 0
C23: ='여행 일정 관리표'!B37 -> 0 | E23: ='여행 일정 관리표'!M37 -> 0 | G23: =표8[[#This Row],[단가]]*표8[[#This Row],[수량]] -> 0
B24: 기타 내역 | G24: =표8[[#This Row],[단가]]*표8[[#This Row],[수량]] -> 0
G25: =표8[[#This Row],[단가]]*표8[[#This Row],[수량]] -> 0
G26: =표8[[#This Row],[단가]]*표8[[#This Row],[수량]] -> 0
G27: =표8[[#This Row],[단가]]*표8[[#This Row],[수량]] -> 0
G28: =표8[[#This Row],[단가]]*표8[[#This Row],[수량]] -> 0
F29: 합계 | G29: =SUBTOTAL(109,표8[금액]) -> 1541820
