Workbook
Name 공휴일: 기본설정!$I$9:$I$23

Sheet 여행일정 달력
B2: 여행일정 달력 | K2: 시작일 | L2: 45170 | O2: 종료일 | P2: 45176
B3: =기본설정!C5 -> 분 단위 표시
K5: 날짜 | M5: =M6 -> 45170 | Q5: =Q6 -> 45171 | U5: =U6 -> 45172 | Y5: =Y6 -> 45173 | AC5: =AC6 -> 45174 | AG5: =AG6 -> 45175 | AK5: =AK6 -> 45176
B6: =TEXT(L2,"yyyy")&TEXT(L2," mmmm") -> 2023 September | M6: =IF(L2<>"",L2,"") -> 45170 | O6: =TEXT(M6,"aaaa") -> 금요일 | Q6: =IF(M6<>"",IF(M6<>$P$2,M6+1,""),"") -> 45171 | S6: =TEXT(Q6,"aaaa") -> 토요일 | U6: =IF(Q6<>"",IF(Q6<>$P$2,Q6+1,""),"") -> 45172 | W6: =TEXT(U6,"aaaa") -> 일요일 | Y6: =IF(U6<>"",IF(U6<>$P$2,U6+1,""),"") -> 45173 | AA6: =TEXT(Y6,"aaaa") -> 월요일 | AC6: =IF(Y6<>"",IF(Y6<>$P$2,Y6+1,""),"") -> 45174 | AE6: =TEXT(AC6,"aaaa") -> 화요일 | AG6: =IF(AC6<>"",IF(AC6<>$P$2,AC6+1,""),"") -> 45175 | AI6: =TEXT(AG6,"aaaa") -> 수요일 | AK6: =IF(AG6<>"",IF(AG6<>$P$2,AG6+1,""),"") -> 45176 | AM6: =TEXT(AK6,"aaaa") -> 목요일
B8: S | C8: M | D8: T | E8: W | F8: T | G8: F | H8: S | K8: 교통 / 숙소 | N8: 아시아나 항공 / 11:30 AM | Z8: Galaxy Hotel - 체크아웃
B9: =IF(WEEKDAY(DATE(YEAR($L$2),MONTH($L$2),1))=1,1,"") | C9: =IF(B9<>"",B9+1,IF(WEEKDAY(DATE(YEAR($L$2),MONTH($L$2),1))=2,1,"")) | D9: =IF(C9<>"",C9+1,IF(WEEKDAY(DATE(YEAR($L$2),MONTH($L$2),1))=3,1,"")) | E9: =IF(D9<>"",D9+1,IF(WEEKDAY(DATE(YEAR($L$2),MONTH($L$2),1))=4,1,"")) | F9: =IF(E9<>"",E9+1,IF(WEEKDAY(DATE(YEAR($L$2),MONTH($L$2),1))=5,1,"")) | G9: =IF(F9<>"",F9+1,IF(WEEKDAY(DATE(YEAR($L$2),MONTH($L$2),1))=6,1,"")) -> 1 | H9: =IF(G9<>"",G9+1,IF(WEEKDAY(DATE(YEAR($L$2),MONTH($L$2),1))=7,1,"")) -> 2 | N9: 인천 국제공항 / ABC123 | Z9: 0.45833333
B10: =H9+1 -> 3 | C10: =B10+1 -> 4 | D10: =C10+1 -> 5 | E10: =D10+1 -> 6 | F10: =E10+1 -> 7 | G10: =F10+1 -> 8 | H10: =G10+1 -> 9
B11: =H10+1 -> 10 | C11: =B11+1 -> 11 | D11: =C11+1 -> 12 | E11: =D11+1 -> 13 | F11: =E11+1 -> 14 | G11: =F11+1 -> 15 | H11: =G11+1 -> 16 | N11: 도착지
B12: =H11+1 -> 17 | C12: =B12+1 -> 18 | D12: =C12+1 -> 19 | E12: =D12+1 -> 20 | F12: =E12+1 -> 21 | G12: =F12+1 -> 22 | H12: =G12+1 -> 23 | N12: 홍콩 국제공항 / 2:40 PM
B13: =IF(H12<>"",IF(DAY(EOMONTH(DATE(YEAR($L$2),MONTH($L$2),1),0))=H12,"",H12+1),"") -> 24 | C13: =IF(B13<>"",IF(DAY(EOMONTH(DATE(YEAR($L$2),MONTH($L$2),1),0))=B13,"",B13+1),"") -> 25 | D13: =IF(C13<>"",IF(DAY(EOMONTH(DATE(YEAR($L$2),MONTH($L$2),1),0))=C13,"",C13+1),"") -> 26 | E13: =IF(D13<>"",IF(DAY(EOMONTH(DATE(YEAR($L$2),MONTH($L$2),1),0))=D13,"",D13+1),"") -> 27 | F13: =IF(E13<>"",IF(DAY(EOMONTH(DATE(YEAR($L$2),MONTH($L$2),1),0))=E13,"",E13+1),"") -> 28 | G13: =IF(F13<>"",IF(DAY(EOMONTH(DATE(YEAR($L$2),MONTH($L$2),1),0))=F13,"",F13+1),"") -> 29 | H13: =IF(G13<>"",IF(DAY(EOMONTH(DATE(YEAR($L$2),MONTH($L$2),1),0))=G13,"",G13+1),"") -> 30 | N13: Galaxy Hotel - 홍콩
B14: =IF(H13<>"",IF(DAY(EOMONTH(DATE(YEAR($L$2),MONTH($L$2),1),0))=H13,"",H13+1),"") | C14: =IF(B14<>"",IF(DAY(EOMONTH(DATE(YEAR($L$2),MONTH($L$2),1),0))=B14,"",B14+1),"")
B16: 체크리스트 | K16: 일정 | M16: =기본설정!C8 -> 7 | N16: =기본설정!D8 -> 0 | Q16: =기본설정!C8 -> 7 | R16: =기본설정!D8 -> 0 | U16: =기본설정!C8 -> 7 | V16: =기본설정!D8 -> 0 | Y16: =기본설정!C8 -> 7 | Z16: =기본설정!D8 -> 0 | AC16: =기본설정!C8 -> 7 | AD16: =기본설정!D8 -> 0 | AG16: =기본설정!C8 -> 7 | AH16: =기본설정!D8 -> 0 | AK16: =기본설정!C8 -> 7 | AL16: =기본설정!D8 -> 0
B17: v | C17: 여권 | M17: =기본설정!C9 -> 0 | N17: =기본설정!D9 -> 30 | Q17: =기본설정!C9 -> 0 | R17: =기본설정!D9 -> 30 | U17: =기본설정!C9 -> 0 | V17: =기본설정!D9 -> 30 | Y17: =기본설정!C9 -> 0 | Z17: =기본설정!D9 -> 30 | AD17: =기본설정!D9 -> 30 | AG17: =기본설정!C9 -> 0 | AH17: =기본설정!D9 -> 30 | AK17: =기본설정!C9 -> 0 | AL17: =기본설정!D9 -> 30
B18: v | C18: 카메라 | M18: =기본설정!C10 -> 8 | N18: =기본설정!D10 -> 00 | Q18: =기본설정!C10 -> 8 | R18: =기본설정!D10 -> 00 | S18: 아침 식사 | U18: =기본설정!C10 -> 8 | V18: =기본설정!D10 -> 00 | Y18: =기본설정!C10 -> 8 | Z18: =기본설정!D10 -> 00 | AC18: =기본설정!C10 -> 8 | AD18: =기본설정!D10 -> 00 | AG18: =기본설정!C10 -> 8 | AH18: =기본설정!D10 -> 00 | AK18: =기본설정!C10 -> 8 | AL18: =기본설정!D10 -> 00
C19: 노트북 | M19: =기본설정!C11 -> 0 | N19: =기본설정!D11 -> 30 | Q19: =기본설정!C11 -> 0 | R19: =기본설정!D11 -> 30 | U19: =기본설정!C11 -> 0 | V19: =기본설정!D11 -> 30 | Y19: =기본설정!C11 -> 0 | Z19: =기본설정!D11 -> 30 | AC19: =기본설정!C11 -> 0 | AD19: =기본설정!D11 -> 30 | AG19: =기본설정!C11 -> 0 | AH19: =기본설정!D11 -> 30 | AK19: =기본설정!C11 -> 0 | AL19: =기본설정!D11 -> 30
M20: =기본설정!C12 -> 9 | N20: =기본설정!D12 -> 00 | Q20: =기본설정!C12 -> 9 | R20: =기본설정!D12 -> 00 | U20: =기본설정!C12 -> 9 | V20: =기본설정!D12 -> 00 | Y20: =기본설정!C12 -> 9 | Z20: =기본설정!D12 -> 00 | AC20: =기본설정!C12 -> 9 | AD20: =기본설정!D12 -> 00 | AG20: =기본설정!C12 -> 9 | AH20: =기본설정!D12 -> 00 | AK20: =기본설정!C12 -> 9 | AL20: =기본설정!D12 -> 00
M21: =기본설정!C13 -> 0 | N21: =기본설정!D13 -> 30 | Q21: =기본설정!C13 -> 0 | R21: =기본설정!D13 -> 30 | U21: =기본설정!C13 -> 0 | V21: =기본설정!D13 -> 30 | Y21: =기본설정!C13 -> 0 | Z21: =기본설정!D13 -> 30 | AC21: =기본설정!C13 -> 0 | AD21: =기본설정!D13 -> 30 | AG21: =기본설정!C13 -> 0 | AH21: =기본설정!D13 -> 30 | AK21: =기본설정!C13 -> 0 | AL21: =기본설정!D13 -> 30
M22: =기본설정!C14 -> 10 | N22: =기본설정!D14 -> 00 | Q22: =기본설정!C14 -> 10 | R22: =기본설정!D14 -> 00 | U22: =기본설정!C14 -> 10 | V22: =기본설정!D14 -> 00 | Y22: =기본설정!C14 -> 10 | Z22: =기본설정!D14 -> 00 | AC22: =기본설정!C14 -> 10 | AD22: =기본설정!D14 -> 00 | AG22: =기본설정!C14 -> 10 | AH22: =기본설정!D14 -> 00 | AK22: =기본설정!C14 -> 10 | AL22: =기본설정!D14 -> 00
M23: =기본설정!C15 -> 0 | N23: =기본설정!D15 -> 30 | Q23: =기본설정!C15 -> 0 | R23: =기본설정!D15 -> 30 | U23: =기본설정!C15 -> 0 | V23: =기본설정!D15 -> 30 | Y23: =기본설정!C15 -> 0 | Z23: =기본설정!D15 -> 30 | AC23: =기본설정!C15 -> 0 | AD23: =기본설정!D15 -> 30 | AG23: =기본설정!C15 -> 0 | AH23: =기본설정!D15 -> 30 | AK23: =기본설정!C15 -> 0 | AL23: =기본설정!D15 -> 30
M24: =기본설정!C16 -> 11 | N24: =기본설정!D16 -> 00 | Q24: =기본설정!C16 -> 11 | R24: =기본설정!D16 -> 00 | U24: =기본설정!C16 -> 11 | V24: =기본설정!D16 -> 00 | Y24: =기본설정!C16 -> 11 | Z24: =기본설정!D16 -> 00 | AA24: 호텔 체크아웃 | AC24: =기본설정!C16 -> 11 | AD24: =기본설정!D16 -> 00 | AG24: =기본설정!C16 -> 11 | AH24: =기본설정!D16 -> 00 | AK24: =기본설정!C16 -> 11 | AL24: =기본설정!D16 -> 00
M25: =기본설정!C17 -> 0 | N25: =기본설정!D17 -> 30 | O25: 인천 국제공항 | Q25: =기본설정!C17 -> 0 | R25: =기본설정!D17 -> 30 | U25: =기본설정!C17 -> 0 | V25: =기본설정!D17 -> 30 | Y25: =기본설정!C17 -> 0 | Z25: =기본설정!D17 -> 30 | AC25: =기본설정!C17 -> 0 | AD25: =기본설정!D17 -> 30 | AG25: =기본설정!C17 -> 0 | AH25: =기본설정!D17 -> 30 | AK25: =기본설정!C17 -> 0 | AL25: =기본설정!D17 -> 30
M26: =기본설정!C18 -> 12 | N26: =기본설정!D18 -> 00 | Q26: =기본설정!C18 -> 12 | R26: =기본설정!D18 -> 00 | S26: 점심 식사 | U26: =기본설정!C18 -> 12 | V26: =기본설정!D18 -> 00 | Y26: =기본설정!C18 -> 12 | Z26: =기본설정!D18 -> 00 | AC26: =기본설정!C18 -> 12 | AD26: =기본설정!D18 -> 00 | AG26: =기본설정!C18 -> 12 | AH26: =기본설정!D18 -> 00 | AK26: =기본설정!C18 -> 12 | AL26: =기본설정!D18 -> 00
M27: =기본설정!C19 -> 0 | N27: =기본설정!D19 -> 30 | Q27: =기본설정!C19 -> 0 | R27: =기본설정!D19 -> 30 | U27: =기본설정!C19 -> 0 | V27: =기본설정!D19 -> 30 | Y27: =기본설정!C19 -> 0 | Z27: =기본설정!D19 -> 30 | AC27: =기본설정!C19 -> 0 | AD27: =기본설정!D19 -> 30 | AG27: =기본설정!C19 -> 0 | AH27: =기본설정!D19 -> 30 | AK27: =기본설정!C19 -> 0 | AL27: =기본설정!D19 -> 30
M28: =기본설정!C20 -> 13 | N28: =기본설정!D20 -> 00 | Q28: =기본설정!C20 -> 13 | R28: =기본설정!D20 -> 00 | U28: =기본설정!C20 -> 13 | V28: =기본설정!D20 -> 00 | Y28: =기본설정!C20 -> 13 | Z28: =기본설정!D20 -> 00 | AC28: =기본설정!C20 -> 13 | AD28: =기본설정!D20 -> 00 | AG28: =기본설정!C20 -> 13 | AH28: =기본설정!D20 -> 00 | AK28: =기본설정!C20 -> 13 | AL28: =기본설정!D20 -> 00
M29: =기본설정!C21 -> 0 | N29: =기본설정!D21 -> 30 | Q29: =기본설정!C21 -> 0 | R29: =기본설정!D21 -> 30 | U29: =기본설정!C21 -> 0 | V29: =기본설정!D21 -> 30 | Y29: =기본설정!C21 -> 0 | Z29: =기본설정!D21 -> 30 | AC29: =기본설정!C21 -> 0 | AD29: =기본설정!D21 -> 30 | AG29: =기본설정!C21 -> 0 | AH29: =기본설정!D21 -> 30 | AK29: =기본설정!C21 -> 0 | AL29: =기본설정!D21 -> 30
M30: =기본설정!C22 -> 14 | N30: =기본설정!D22 -> 00 | Q30: =기본설정!C22 -> 14 | R30: =기본설정!D22 -> 00 | U30: =기본설정!C22 -> 14 | V30: =기본설정!D22 -> 00 | Y30: =기본설정!C22 -> 14 | Z30: =기본설정!D22 -> 00 | AC30: =기본설정!C22 -> 14 | AD30: =기본설정!D22 -> 00 | AG30: =기본설정!C22 -> 14 | AH30: =기본설정!D22 -> 00 | AK30: =기본설정!C22 -> 14 | AL30: =기본설정!D22 -> 00
M31: =기본설정!C23 -> 0 | N31: =기본설정!D23 -> 30 | O31: 홍콩 국제공항 | Q31: =기본설정!C23 -> 0 | R31: =기본설정!D23 -> 30 | U31: =기본설정!C23 -> 0 | V31: =기본설정!D23 -> 30 | Y31: =기본설정!C23 -> 0 | Z31: =기본설정!D23 -> 30 | AC31: =기본설정!C23 -> 0 | AD31: =기본설정!D23 -> 30 | AG31: =기본설정!C23 -> 0 | AH31: =기본설정!D23 -> 30 | AK31: =기본설정!C23 -> 0 | AL31: =기본설정!D23 -> 30
M32: =기본설정!C24 -> 15 | N32: =기본설정!D24 -> 00 | Q32: =기본설정!C24 -> 15 | R32: =기본설정!D24 -> 00 | U32: =기본설정!C24 -> 15 | V32: =기본설정!D24 -> 00 | Y32: =기본설정!C24 -> 15 | Z32: =기본설정!D24 -> 00 | AC32: =기본설정!C24 -> 15 | AD32: =기본설정!D24 -> 00 | AG32: =기본설정!C24 -> 15 | AH32: =기본설정!D24 -> 00 | AK32: =기본설정!C24 -> 15 | AL32: =기본설정!D24 -> 00
M33: =기본설정!C25 -> 0 | N33: =기본설정!D25 -> 30 | Q33: =기본설정!C25 -> 0 | R33: =기본설정!D25 -> 30 | U33: =기본설정!C25 -> 0 | V33: =기본설정!D25 -> 30 | Y33: =기본설정!C25 -> 0 | Z33: =기본설정!D25 -> 30 | AC33: =기본설정!C25 -> 0 | AD33: =기본설정!D25 -> 30 | AG33: =기본설정!C25 -> 0 | AH33: =기본설정!D25 -> 30 | AK33: =기본설정!C25 -> 0 | AL33: =기본설정!D25 -> 30
M34: =기본설정!C26 -> 16 | N34: =기본설정!D26 -> 00 | Q34: =기본설정!C26 -> 16 | R34: =기본설정!D26 -> 00 | U34: =기본설정!C26 -> 16 | V34: =기본설정!D26 -> 00 | Y34: =기본설정!C26 -> 16 | Z34: =기본설정!D26 -> 00 | AC34: =기본설정!C26 -> 16 | AD34: =기본설정!D26 -> 00 | AG34: =기본설정!C26 -> 16 | AH34: =기본설정!D26 -> 00 | AK34: =기본설정!C26 -> 16 | AL34: =기본설정!D26 -> 00
M35: =기본설정!C27 -> 0 | N35: =기본설정!D27 -> 30 | Q35: =기본설정!C27 -> 0 | R35: =기본설정!D27 -> 30 | U35: =기본설정!C27 -> 0 | V35: =기본설정!D27 -> 30 | Y35: =기본설정!C27 -> 0 | Z35: =기본설정!D27 -> 30 | AC35: =기본설정!C27 -> 0 | AD35: =기본설정!D27 -> 30 | AG35: =기본설정!C27 -> 0 | AH35: =기본설정!D27 -> 30 | AK35: =기본설정!C27 -> 0 | AL35: =기본설정!D27 -> 30
M36: =기본설정!C28 -> 17 | N36: =기본설정!D28 -> 00 | Q36: =기본설정!C28 -> 17 | R36: =기본설정!D28 -> 00 | U36: =기본설정!C28 -> 17 | V36: =기본설정!D28 -> 00 | Y36: =기본설정!C28 -> 17 | Z36: =기본설정!D28 -> 00 | AC36: =기본설정!C28 -> 17 | AD36: =기본설정!D28 -> 00 | AG36: =기본설정!C28 -> 17 | AH36: =기본설정!D28 -> 00 | AK36: =기본설정!C28 -> 17 | AL36: =기본설정!D28 -> 00
M37: =기본설정!C29 -> 0 | N37: =기본설정!D29 -> 30 | Q37: =기본설정!C29 -> 0 | R37: =기본설정!D29 -> 30 | U37: =기본설정!C29 -> 0 | V37: =기본설정!D29 -> 30 | Y37: =기본설정!C29 -> 0 | Z37: =기본설정!D29 -> 30 | AC37: =기본설정!C29 -> 0 | AD37: =기본설정!D29 -> 30 | AG37: =기본설정!C29 -> 0 | AH37: =기본설정!D29 -> 30 | AK37: =기본설정!C29 -> 0 | AL37: =기본설정!D29 -> 30
M38: =기본설정!C30 -> 18 | N38: =기본설정!D30 -> 00 | Q38: =기본설정!C30 -> 18 | R38: =기본설정!D30 -> 00 | U38: =기본설정!C30 -> 18 | V38: =기본설정!D30 -> 00 | Y38: =기본설정!C30 -> 18 | Z38: =기본설정!D30 -> 00 | AC38: =기본설정!C30 -> 18 | AD38: =기본설정!D30 -> 00 | AG38: =기본설정!C30 -> 18 | AH38: =기본설정!D30 -> 00 | AK38: =기본설정!C30 -> 18 | AL38: =기본설정!D30 -> 00
M39: =기본설정!C31 -> 0 | N39: =기본설정!D31 -> 30 | Q39: =기본설정!C31 -> 0 | R39: =기본설정!D31 -> 30 | U39: =기본설정!C31 -> 0 | V39: =기본설정!D31 -> 30 | Y39: =기본설정!C31 -> 0 | Z39: =기본설정!D31 -> 30 | AC39: =기본설정!C31 -> 0 | AD39: =기본설정!D31 -> 30 | AG39: =기본설정!C31 -> 0 | AH39: =기본설정!D31 -> 30 | AK39: =기본설정!C31 -> 0 | AL39: =기본설정!D31 -> 30
M40: =기본설정!C32 -> 19 | N40: =기본설정!D32 -> 00 | Q40: =기본설정!C32 -> 19 | R40: =기본설정!D32 -> 00 | U40: =기본설정!C32 -> 19 | V40: =기본설정!D32 -> 00 | Y40: =기본설정!C32 -> 19 | Z40: =기본설정!D32 -> 00 | AC40: =기본설정!C32 -> 19 | AD40: =기본설정!D32 -> 00 | AG40: =기본설정!C32 -> 19 | AH40: =기본설정!D32 -> 00 | AK40: =기본설정!C32 -> 19 | AL40: =기본설정!D32 -> 00
M41: =기본설정!C33 -> 0 | N41: =기본설정!D33 -> 30 | Q41: =기본설정!C33 -> 0 | R41: =기본설정!D33 -> 30 | U41: =기본설정!C33 -> 0 | V41: =기본설정!D33 -> 30 | Y41: =기본설정!C33 -> 0 | Z41: =기본설정!D33 -> 30 | AC41: =기본설정!C33 -> 0 | AD41: =기본설정!D33 -> 30 | AG41: =기본설정!C33 -> 0 | AH41: =기본설정!D33 -> 30 | AK41: =기본설정!C33 -> 0 | AL41: =기본설정!D33 -> 30
M42: =기본설정!C34 -> 20 | N42: =기본설정!D34 -> 00 | Q42: =기본설정!C34 -> 20 | R42: =기본설정!D34 -> 00 | U42: =기본설정!C34 -> 20 | V42: =기본설정!D34 -> 00 | Y42: =기본설정!C34 -> 20 | Z42: =기본설정!D34 -> 00 | AC42: =기본설정!C34 -> 20 | AD42: =기본설정!D34 -> 00 | AG42: =기본설정!C34 -> 20 | AH42: =기본설정!D34 -> 00 | AK42: =기본설정!C34 -> 20 | AL42: =기본설정!D34 -> 00
M43: =기본설정!C35 -> 0 | N43: =기본설정!D35 -> 30 | Q43: =기본설정!C35 -> 0 | R43: =기본설정!D35 -> 30 | U43: =기본설정!C35 -> 0 | V43: =기본설정!D35 -> 30 | Y43: =기본설정!C35 -> 0 | Z43: =기본설정!D35 -> 30 | AC43: =기본설정!C35 -> 0 | AD43: =기본설정!D35 -> 30 | AG43: =기본설정!C35 -> 0 | AH43: =기본설정!D35 -> 30 | AK43: =기본설정!C35 -> 0 | AL43: =기본설정!D35 -> 30
M44: =기본설정!C36 -> 21 | N44: =기본설정!D36 -> 00 | O44: 호텔 체크인 | Q44: =기본설정!C36 -> 21 | R44: =기본설정!D36 -> 00 | U44: =기본설정!C36 -> 21 | V44: =기본설정!D36 -> 00 | Y44: =기본설정!C36 -> 21 | Z44: =기본설정!D36 -> 00 | AC44: =기본설정!C36 -> 21 | AD44: =기본설정!D36 -> 00 | AG44: =기본설정!C36 -> 21 | AH44: =기본설정!D36 -> 00 | AK44: =기본설정!C36 -> 21 | AL44: =기본설정!D36 -> 00
...

Sheet 여행예산
B2: 여행 예산
D3: 목표 예산 | F3: 1300000
D5: 예산 사용률 | E5: % of budget spent | F5: =IFERROR(표8[[#Totals],[금액]]/$F$3,0) -> 0.75076923
B6: 예산 세부내역
B7: 구매 | C7: 내용 | D7: 단가 | E7: 수량 | F7: 금액
B8: 항공권 | C8: 왕복 비행권 | D8: 250000 | E8: 2 | F8: =표8[[#This Row],[단가]]*표8[[#This Row],[수량]] -> 500000
B9: 숙박 | C9: Galaxy Hotel | D9: 100000 | E9: 4 | F9: =표8[[#This Row],[단가]]*표8[[#This Row],[수량]] -> 400000
B10: 선물용 팔찌 | C10: 스탠리 마켓에서 구매 | D10: 10000 | E10: 5 | F10: =표8[[#This Row],[단가]]*표8[[#This Row],[수량]] -> 50000
B11: 타로밀크티 스틱 | C11: 허니미에서 구매 | D11: 13000 | E11: 2 | F11: =표8[[#This Row],[단가]]*표8[[#This Row],[수량]] -> 26000
F12: =표8[[#This Row],[단가]]*표8[[#This Row],[수량]] -> 0
F13: =표8[[#This Row],[단가]]*표8[[#This Row],[수량]] -> 0
F14: =표8[[#This Row],[단가]]*표8[[#This Row],[수량]] -> 0
F15: =표8[[#This Row],[단가]]*표8[[#This Row],[수량]] -> 0
F16: =표8[[#This Row],[단가]]*표8[[#This Row],[수량]] -> 0
F17: =표8[[#This Row],[단가]]*표8[[#This Row],[수량]] -> 0
F18: =표8[[#This Row],[단가]]*표8[[#This Row],[수량]] -> 0
F19: =표8[[#This Row],[단가]]*표8[[#This Row],[수량]] -> 0
F20: =표8[[#This Row],[단가]]*표8[[#This Row],[수량]] -> 0
F21: =표8[[#This Row],[단가]]*표8[[#This Row],[수량]] -> 0
F22: =표8[[#This Row],[단가]]*표8[[#This Row],[수량]] -> 0
F23: =표8[[#This Row],[단가]]*표8[[#This Row],[수량]] -> 0
... F29: =표8[[#This Row],[단가]]*표8[[#This Row],[수량]] -> 0
E30: 합계 | F30: =SUBTOTAL(109,표8[금액]) -> 976000

Sheet 기본설정
B2: 기본 설정
B5: 시간 설정 | C5: 분 단위 표시
B7: 시간표 | C7: 시간 | D7: 분
C8: 7 | D8: 0 | H8: 번호 | I8: 일자 | J8: 공휴일명
D9: 30 | H9: 1 | I9: 44927 | J9: 신정
C10: 8 | D10: 00 | H10: 2 | I10: 44947 | J10: 설날
D11: 30 | H11: 3 | I11: 44948 | J11: 설날
C12: 9 | D12: 00 | H12: 4 | I12: 44949 | J12: 설날
D13: 30 | H13: 5 | I13: 44986 | J13: 삼일절
C14: 10 | D14: 00 | H14: 6 | I14: 45051 | J14: 어린이날
D15: 30 | H15: 7 | I15: 45073 | J15: 석가탄신일
C16: 11 | D16: 00 | H16: 8 | I16: 45083 | J16: 현충일
D17: 30 | H17: 9 | I17: 45153 | J17: 광복절
C18: 12 | D18: 00 | H18: 10 | I18: 45197 | J18: 추석
D19: 30 | H19: 11 | I19: 45198 | J19: 추석
C20: 13 | D20: 00 | H20: 12 | I20: 45199 | J20: 추석
D21: 30 | H21: 13 | I21: 45202 | J21: 개천절
C22: 14 | D22: 00 | H22: 14 | I22: 45208 | J22: 한글날
D23: 30 | H23: 15 | I23: 45285 | J23: 성탄절
C24: 15 | D24: 00
D25: 30
C26: 16 | D26: 00
D27: 30
C28: 17 | D28: 00
D29: 30
C30: 18 | D30: 00
D31: 30
C32: 19 | D32: 00
D33: 30
C34: 20 | D34: 00
D35: 30
C36: 21 | D36: 00
D37: 30
C38: 22 | D38: 00
D39: 30
