Workbook
Name ColumnTitle1: '결제수단 정보'!$B$4
Name ColumnTitle1: '경비 지출현황표'!$B$9
Name 결제수단: OFFSET(결제수단정보[[#Headers],[결제수단]],1,0,COUNTA(결제수단정보[결제수단]))

Sheet 결제수단 정보
B1: 경비 지출현황표 I 결제수단 정보
B4: 결제수단 | C4: 구분 | D4: 금융기관 | E4: 계좌번호(카드번호) | F4: 비고
B5: 현금 | C5: 현금
B6: 대표카드 | C6: 카드 | D6: 우성카드 | E6: 0000-1000-1234-5678
B7: 한국 1234 | C7: 체크카드 | D7: 한국카드 | E7: 0000-1000-1234-5678
B8: 좋은 0012 | C8: 계좌 | D8: 좋은은행 | E8: 001-01-012345-66
B9: 한국 0011 | C9: 카드 | D9: 한국카드 | E9: 1010-1234-0202-0101
B10: 제일 7891 | C10: 체크카드 | D10: 제일은행 | E10: 78942-43987-02

Sheet 경비 지출현황표
B1: 경비 지출현황표 I 지출현황표 작성
B4: 📃 기본정보 | F4: 👨‍💼 사원정보
B5: 제목 | C5: 2월 월간 지출비용 결산 | F5: 사원명 | G5: 장수진 | I5: 입사일자 | J5: 42865
B6: 작성일자 | C6: 45352 | F6: 부서명 | G6: 인사팀 | I6: 연락처 | J6: 000 - 000 - 0000
F7: 직위 | G7: 과장 | I7: 이메일 | J7: sujin@email.com
B9: 일자 | C9: 결제수단 | D9: 내용 | F9: 식대 | G9: 교통비 | H9: 출장비 | I9: 사무용품비 | J9: 교육비 | K9: 회의비 | L9: 기타 | M9: 합계
B10: 45327 | C10: 대표카드 | D10: 해외 바이어와의 비즈니스 미팅 | F10: 0 | G10: 200000 | H10: 3000000 | L10: 100000 | M10: =SUM('경비 지출현황표'!$F10:$L10) -> 3300000
B11: 45329 | C11: 현금 | D11: 업무서적 및 강의 결제 | J11: 300000 | M11: =SUM('경비 지출현황표'!$F11:$L11) -> 300000
B12: 45337 | C12: 한국 1234 | D12: 노트북, 프린터 구매 | I12: 1800000 | M12: =SUM('경비 지출현황표'!$F12:$L12) -> 1800000
B13: 45341 | C13: 좋은 0012 | D13: 회의에 필요한 물품 구매 | F13: 200000 | K13: 500000 | M13: =SUM('경비 지출현황표'!$F13:$L13) -> 700000
B14: 45347 | C14: 제일 7891 | D14: 주말근무 출퇴근 교통비 | G14: 100000 | M14: =SUM('경비 지출현황표'!$F14:$L14) -> 100000
M15: =SUM('경비 지출현황표'!$F15:$L15) -> 0
M16: =SUM('경비 지출현황표'!$F16:$L16) -> 0
M17: =SUM('경비 지출현황표'!$F17:$L17) -> 0
M18: =SUM('경비 지출현황표'!$F18:$L18) -> 0
M19: =SUM('경비 지출현황표'!$F19:$L19) -> 0
M20: =SUM('경비 지출현황표'!$F20:$L20) -> 0
M21: =SUM('경비 지출현황표'!$F21:$L21) -> 0
M22: =SUM('경비 지출현황표'!$F22:$L22) -> 0
M23: =SUM('경비 지출현황표'!$F23:$L23) -> 0
M24: =SUM('경비 지출현황표'!$F24:$L24) -> 0
M25: =SUM('경비 지출현황표'!$F25:$L25) -> 0
M26: =SUM('경비 지출현황표'!$F26:$L26) -> 0
B27: 총 합계 | F27: =SUBTOTAL(109,'경비 지출현황표'!$F$10:$F$26) -> 200000 | G27: =SUBTOTAL(109,'경비 지출현황표'!$G$10:$G$26) -> 300000 | H27: =SUBTOTAL(109,'경비 지출현황표'!$H$10:$H$26) -> 3000000 | I27: =SUBTOTAL(109,'경비 지출현황표'!$I$10:$I$26) -> 1800000 | J27: =SUBTOTAL(109,'경비 지출현황표'!$J$10:$J$26) -> 300000 | K27: =SUBTOTAL(109,'경비 지출현황표'!$K$10:$K$26) -> 500000 | L27: =SUBTOTAL(109,'경비 지출현황표'!$L$10:$L$26) -> 100000 | M27: =SUBTOTAL(109,'경비 지출현황표'!$M$10:$M$26) -> 6200000
B29: 기타 메모 | H29: 세율 | I29: 0.03 | J29: 부가세액 | K29: =M27*I29 -> 186000 | L29: 총 비용합계 | M29: =M27+K29 -> 6386000
K31: 담당자 서명
K32: 일자
