Workbook

Sheet KOTRA(국문)신청서
BC2: 키값 | BD2: HS CODE 검색 | BF2: 품목카테고리 | BG2: 제품명 | BH2: HS CODE
K3: 2023 내수기업 수출기업화 사업 신청서 | BB3: 1 | BC3: =$BD$3&BB3 -> 1 | BF3: =IFERROR(VLOOKUP(BC3,'(참고)품목카테고리'!$A$2:$F$3662,3,0),"") | BG3: =IFERROR(VLOOKUP(BC3,'(참고)품목카테고리'!$A$2:$F$3662,4,0),"") | BH3: =IFERROR(VLOOKUP(BC3,'(참고)품목카테고리'!$A$2:$F$3662,5,0),"")
BB4: 2 | BC4: =$BD$3&BB4 -> 2 | BF4: =IFERROR(VLOOKUP(BC4,'(참고)품목카테고리'!$A$2:$F$3662,3,0),"") | BG4: =IFERROR(VLOOKUP(BC4,'(참고)품목카테고리'!$A$2:$F$3662,4,0),"") | BH4: =IFERROR(VLOOKUP(BC4,'(참고)품목카테고리'!$A$2:$F$3662,5,0),"")
BB5: 3 | BC5: =$BD$3&BB5 -> 3 | BF5: =IFERROR(VLOOKUP(BC5,'(참고)품목카테고리'!$A$2:$F$3662,3,0),"") | BG5: =IFERROR(VLOOKUP(BC5,'(참고)품목카테고리'!$A$2:$F$3662,4,0),"") | BH5: =IFERROR(VLOOKUP(BC5,'(참고)품목카테고리'!$A$2:$F$3662,5,0),"")
BB6: 4 | BC6: =$BD$3&BB6 -> 4 | BF6: =IFERROR(VLOOKUP(BC6,'(참고)품목카테고리'!$A$2:$F$3662,3,0),"") | BG6: =IFERROR(VLOOKUP(BC6,'(참고)품목카테고리'!$A$2:$F$3662,4,0),"") | BH6: =IFERROR(VLOOKUP(BC6,'(참고)품목카테고리'!$A$2:$F$3662,5,0),"")
BB7: 5 | BC7: =$BD$3&BB7 -> 5 | BF7: =IFERROR(VLOOKUP(BC7,'(참고)품목카테고리'!$A$2:$F$3662,3,0),"") | BG7: =IFERROR(VLOOKUP(BC7,'(참고)품목카테고리'!$A$2:$F$3662,4,0),"") | BH7: =IFERROR(VLOOKUP(BC7,'(참고)품목카테고리'!$A$2:$F$3662,5,0),"")
C8: 회사 정보 | E8: 회사명 (국문) | Z8: 회사명 (영문) | BB8: 6 | BC8: =$BD$3&BB8 -> 6 | BF8: =IFERROR(VLOOKUP(BC8,'(참고)품목카테고리'!$A$2:$F$3662,3,0),"") | BG8: =IFERROR(VLOOKUP(BC8,'(참고)품목카테고리'!$A$2:$F$3662,4,0),"") | BH8: =IFERROR(VLOOKUP(BC8,'(참고)품목카테고리'!$A$2:$F$3662,5,0),"")
BB9: 7 | BC9: =$BD$3&BB9 -> 7 | BF9: =IFERROR(VLOOKUP(BC9,'(참고)품목카테고리'!$A$2:$F$3662,3,0),"") | BG9: =IFERROR(VLOOKUP(BC9,'(참고)품목카테고리'!$A$2:$F$3662,4,0),"") | BH9: =IFERROR(VLOOKUP(BC9,'(참고)품목카테고리'!$A$2:$F$3662,5,0),"")
BB10: 8 | BC10: =$BD$3&BB10 -> 8 | BF10: =IFERROR(VLOOKUP(BC10,'(참고)품목카테고리'!$A$2:$F$3662,3,0),"") | BG10: =IFERROR(VLOOKUP(BC10,'(참고)품목카테고리'!$A$2:$F$3662,4,0),"") | BH10: =IFERROR(VLOOKUP(BC10,'(참고)품목카테고리'!$A$2:$F$3662,5,0),"")
E11: 사업자 등록번호 | Z11: 법인 등록번호 | BB11: 9 | BC11: =$BD$3&BB11 -> 9 | BF11: =IFERROR(VLOOKUP(BC11,'(참고)품목카테고리'!$A$2:$F$3662,3,0),"") | BG11: =IFERROR(VLOOKUP(BC11,'(참고)품목카테고리'!$A$2:$F$3662,4,0),"") | BH11: =IFERROR(VLOOKUP(BC11,'(참고)품목카테고리'!$A$2:$F$3662,5,0),"")
BB12: 10 | BC12: =$BD$3&BB12 -> 10 | BF12: =IFERROR(VLOOKUP(BC12,'(참고)품목카테고리'!$A$2:$F$3662,3,0),"") | BG12: =IFERROR(VLOOKUP(BC12,'(참고)품목카테고리'!$A$2:$F$3662,4,0),"") | BH12: =IFERROR(VLOOKUP(BC12,'(참고)품목카테고리'!$A$2:$F$3662,5,0),"")
BB13: 11 | BC13: =$BD$3&BB13 -> 11 | BF13: =IFERROR(VLOOKUP(BC13,'(참고)품목카테고리'!$A$2:$F$3662,3,0),"") | BG13: =IFERROR(VLOOKUP(BC13,'(참고)품목카테고리'!$A$2:$F$3662,4,0),"") | BH13: =IFERROR(VLOOKUP(BC13,'(참고)품목카테고리'!$A$2:$F$3662,5,0),"")
E14: 대표자명 | Z14: 대표 연락처 | BB14: 12 | BC14: =$BD$3&BB14 -> 12 | BF14: =IFERROR(VLOOKUP(BC14,'(참고)품목카테고리'!$A$2:$F$3662,3,0),"") | BG14: =IFERROR(VLOOKUP(BC14,'(참고)품목카테고리'!$A$2:$F$3662,4,0),"") | BH14: =IFERROR(VLOOKUP(BC14,'(참고)품목카테고리'!$A$2:$F$3662,5,0),"")
BB15: 13 | BC15: =$BD$3&BB15 -> 13 | BF15: =IFERROR(VLOOKUP(BC15,'(참고)품목카테고리'!$A$2:$F$3662,3,0),"") | BG15: =IFERROR(VLOOKUP(BC15,'(참고)품목카테고리'!$A$2:$F$3662,4,0),"") | BH15: =IFERROR(VLOOKUP(BC15,'(참고)품목카테고리'!$A$2:$F$3662,5,0),"")
BB16: 14 | BC16: =$BD$3&BB16 -> 14 | BF16: =IFERROR(VLOOKUP(BC16,'(참고)품목카테고리'!$A$2:$F$3662,3,0),"") | BG16: =IFERROR(VLOOKUP(BC16,'(참고)품목카테고리'!$A$2:$F$3662,4,0),"") | BH16: =IFERROR(VLOOKUP(BC16,'(참고)품목카테고리'!$A$2:$F$3662,5,0),"")
E17: 주소 | BB17: 15 | BC17: =$BD$3&BB17 -> 15 | BF17: =IFERROR(VLOOKUP(BC17,'(참고)품목카테고리'!$A$2:$F$3662,3,0),"") | BG17: =IFERROR(VLOOKUP(BC17,'(참고)품목카테고리'!$A$2:$F$3662,4,0),"") | BH17: =IFERROR(VLOOKUP(BC17,'(참고)품목카테고리'!$A$2:$F$3662,5,0),"")
BB18: 16 | BC18: =$BD$3&BB18 -> 16 | BF18: =IFERROR(VLOOKUP(BC18,'(참고)품목카테고리'!$A$2:$F$3662,3,0),"") | BG18: =IFERROR(VLOOKUP(BC18,'(참고)품목카테고리'!$A$2:$F$3662,4,0),"") | BH18: =IFERROR(VLOOKUP(BC18,'(참고)품목카테고리'!$A$2:$F$3662,5,0),"")
BB19: 17 | BC19: =$BD$3&BB19 -> 17 | BF19: =IFERROR(VLOOKUP(BC19,'(참고)품목카테고리'!$A$2:$F$3662,3,0),"") | BG19: =IFERROR(VLOOKUP(BC19,'(참고)품목카테고리'!$A$2:$F$3662,4,0),"") | BH19: =IFERROR(VLOOKUP(BC19,'(참고)품목카테고리'!$A$2:$F$3662,5,0),"")
E20: 설립연도 (연도만 기입) | Z20: 종업원수 | BB20: 18 | BC20: =$BD$3&BB20 -> 18 | BF20: =IFERROR(VLOOKUP(BC20,'(참고)품목카테고리'!$A$2:$F$3662,3,0),"") | BG20: =IFERROR(VLOOKUP(BC20,'(참고)품목카테고리'!$A$2:$F$3662,4,0),"") | BH20: =IFERROR(VLOOKUP(BC20,'(참고)품목카테고리'!$A$2:$F$3662,5,0),"")
BB21: 19 | BC21: =$BD$3&BB21 -> 19 | BF21: =IFERROR(VLOOKUP(BC21,'(참고)품목카테고리'!$A$2:$F$3662,3,0),"") | BG21: =IFERROR(VLOOKUP(BC21,'(참고)품목카테고리'!$A$2:$F$3662,4,0),"") | BH21: =IFERROR(VLOOKUP(BC21,'(참고)품목카테고리'!$A$2:$F$3662,5,0),"")
BB22: 20 | BC22: =$BD$3&BB22 -> 20 | BF22: =IFERROR(VLOOKUP(BC22,'(참고)품목카테고리'!$A$2:$F$3662,3,0),"") | BG22: =IFERROR(VLOOKUP(BC22,'(참고)품목카테고리'!$A$2:$F$3662,4,0),"") | BH22: =IFERROR(VLOOKUP(BC22,'(참고)품목카테고리'!$A$2:$F$3662,5,0),"")
E23: 영문 홈페이지 | Z23: 국문 홈페이지
C26: 담당자정보 | K26: 성명 | Z26: 직위
C28: (실제 사업수행 담당자 기입) | K28: 연락처 (사무실) | Z28: 연락처 (휴대전화)
K30: e-mail
C32: 품목 정보 | E32: 품목 카테고리
M33: 미용 | Q33: 식음료/농업 | X33: 생활건강 | AD33: 스포츠·완구·취미 | AL33: 가구·홈데코
M34: 패션 | Q34: 가전·전기전자부품 | Z34: 건설기자재 | AG34: 기계중장비 | AM34: 자동차부품
M35: 조선기자재 | S35: 항공부품 | Y35: 기초소재 | AE35: 반도체·디스플레이
E36: (택1) | M36: 의료기기 | S36: 제약 | W36: ICT 전력플랜트 | AE36: 서비스
E38: 제품명
E40: HS CODE
C42: 한국/해외 수출 여부
T43: 국내에서 선적 | AE43: 해외국에서 선적
AY44: =IFERROR(VLOOKUP(BB44,'(참고)품목카테고리'!$A$2:$F$3662,5,0),"")
C45: 배정 희망 수출전문위원 | K45: (선택) | AY45: =IFERROR(VLOOKUP(BB45,'(참고)품목카테고리'!$A$2:$F$3662,5,0),"")
AY46: =IFERROR(VLOOKUP(BB46,'(참고)품목카테고리'!$A$2:$F$3662,5,0),"")
C47: 보유한 해외규격인증 | AY47: =IFERROR(VLOOKUP(BB47,'(참고)품목카테고리'!$A$2:$F$3662,5,0),"")
AY48: =IFERROR(VLOOKUP(BB48,'(참고)품목카테고리'!$A$2:$F$3662,5,0),"")
C49: 국내 납품 이력 | AY49: =IFERROR(VLOOKUP(BB49,'(참고)품목카테고리'!$A$2:$F$3662,5,0),"")
AY50: =IFERROR(VLOOKUP(BB50,'(참고)품목카테고리'!$A$2:$F$3662,5,0),"")
C51: 현재 입점된 온라인 플랫폼 | AY51: =IFERROR(VLOOKUP(BB51,'(참고)품목카테고리'!$A$2:$F$3662,5,0),"")
AY52: =IFERROR(VLOOKUP(BB52,'(참고)품목카테고리'!$A$2:$F$3662,5,0),"")
C53: 기타 | E53: 제조/무역기업
AA54: 제조기업 | AG54: 무역기업 | AM54: 제조&무역
AA55: R&D | AE55: 서비스 | AJ55: 기타( )
E57: 가입 경로
AA58: 수출전문위원추천 | AK58: KOTRA 뉴스레터
AA59: 온라인 광고(구글, 유튜브, 카카오톡 등)
AA60: 기타( )

Sheet (참고)품목카테고리
C1: 품목 카테고리 | D1: 제품명 | E1: HS 코드 | F1: 상세품목
A2: =E2&B2 -> 6911101 | B2: =COUNTIF($E$2:E2,E2) -> 1 | C2: 생활건강 | D2: 식기 | E2: 691110 | F2: 식기세트
A3: =E3&B3 -> 3924101 | B3: =COUNTIF($E$2:E3,E3) -> 1 | C3: 생활건강 | D3: 식기 | E3: 392410 | F3: 유아용 식기
A4: =E4&B4 -> 8215201 | B4: =COUNTIF($E$2:E4,E4) -> 1 | C4: 생활건강 | D4: 숟가락/젓가락/포크 | E4: 821520 | F4: 숟가락/젓가락 세트
A5: =E5&B5 -> 8215991 | B5: =COUNTIF($E$2:E5,E5) -> 1 | C5: 생활건강 | D5: 숟가락/젓가락/포크 | E5: 821599 | F5: 수저
A6: =E6&B6 -> 821599, 4419901 | B6: =COUNTIF($E$2:E6,E6) -> 1 | C6: 생활건강 | D6: 숟가락/젓가락/포크 | E6: 821599, 441990 | F6: 젓가락
A7: =E7&B7 -> 8215202 | B7: =COUNTIF($E$2:E7,E7) -> 2 | C7: 생활건강 | D7: 칼/커팅기구 | E7: 821520 | F7: 나이프 세트
A8: =E8&B8 -> 8211921 | B8: =COUNTIF($E$2:E8,E8) -> 1 | C8: 생활건강 | D8: 칼/커팅기구 | E8: 821192 | F8: 나이프
A9: =E9&B9 -> 8210001 | B9: =COUNTIF($E$2:E9,E9) -> 1 | C9: 생활건강 | D9: 칼/커팅기구 | E9: 821000 | F9: 나이프 그라인더
A10: =E10&B10 -> 4419901 | B10: =COUNTIF($E$2:E10,E10) -> 1 | C10: 생활건강 | D10: 칼/커팅기구 | E10: 441990 | F10: 칼집/거치대
A11: =E11&B11 -> 8213001 | B11: =COUNTIF($E$2:E11,E11) -> 1 | C11: 생활건강 | D11: 칼/커팅기구 | E11: 821300 | F11: 주방용 가위
A12: =E12&B12 -> 9617001 | B12: =COUNTIF($E$2:E12,E12) -> 1 | C12: 생활건강 | D12: 단열용기 | E12: 961700 | F12: 텀블러
A13: =E13&B13 -> 8418211 | B13: =COUNTIF($E$2:E13,E13) -> 1 | C13: 생활건강 | D13: 단열용기 | E13: 841821 | F13: 캠핑 쿨러
A14: =E14&B14 -> 3924102 | B14: =COUNTIF($E$2:E14,E14) -> 2 | C14: 생활건강 | D14: 단열용기 | E14: 392410 | F14: 아이스 트레이
A15: =E15&B15 -> 4202921 | B15: =COUNTIF($E$2:E15,E15) -> 1 | C15: 생활건강 | D15: 단열용기 | E15: 420292 | F15: 쿨러백/보냉가방
A16: =E16&B16 -> 3824991 | B16: =COUNTIF($E$2:E16,E16) -> 1 | C16: 생활건강 | D16: 단열용기 | E16: 382499 | F16: 아이스 팩
A17: =E17&B17 -> 4823691 | B17: =COUNTIF($E$2:E17,E17) -> 1 | C17: 생활건강 | D17: 일회용 식기 | E17: 482369 | F17: 일회용 식기 세트
A18: =E18&B18 -> 3924103 | B18: =COUNTIF($E$2:E18,E18) -> 3 | C18: 생활건강 | D18: 일회용 식기 | E18: 392410 | F18: 일회용 칼
A19: =E19&B19 -> 482390, 3924101 | B19: =COUNTIF($E$2:E19,E19) -> 1 | C19: 생활건강 | D19: 일회용 식기 | E19: 482390, 392410 | F19: 일회용 빨대
A20: =E20&B20 -> 6912001 | B20: =COUNTIF($E$2:E20,E20) -> 1 | C20: 생활건강 | D20: 잔/컵/물통 | E20: 691200 | F20: 머그
A21: =E21&B21 -> 7013101 | B21: =COUNTIF($E$2:E21,E21) -> 1 | C21: 생활건강 | D21: 잔/컵/물통 | E21: 701310 | F21: 유리잔
A22: =E22&B22 -> 7013281 | B22: =COUNTIF($E$2:E22,E22) -> 1 | C22: 생활건강 | D22: 잔/컵/물통 | E22: 701328 | F22: 와인잔
A23: =E23&B23 -> 7013371 | B23: =COUNTIF($E$2:E23,E23) -> 1 | C23: 생활건강 | D23: 잔/컵/물통 | E23: 701337 | F23: 술잔
A24: =E24&B24 -> 7323931 | B24: =COUNTIF($E$2:E24,E24) -> 1 | C24: 생활건강 | D24: 잔/컵/물통 | E24: 732393 | F24: 스테인리스 컵
A25: =E25&B25 -> 732393, 8210001 | B25: =COUNTIF($E$2:E25,E25) -> 1 | C25: 생활건강 | D25: 잔/컵/물통 | E25: 732393, 821000 | F25: 칵테일 용품
A26: =E26&B26 -> 7323991 | B26: =COUNTIF($E$2:E26,E26) -> 1 | C26: 생활건강 | D26: 프라이팬/구이용 팬 | E26: 732399 | F26: 프라이팬 세트
A27: =E27&B27 -> 7010201 | B27: =COUNTIF($E$2:E27,E27) -> 1 | C27: 생활건강 | D27: 프라이팬/구이용 팬 | E27: 701020 | F27: 뚜껑
A28: =E28&B28 -> 8210002 | B28: =COUNTIF($E$2:E28,E28) -> 2 | C28: 생활건강 | D28: 냄비/솥/찜기 | E28: 821000 | F28: 냄비 세트
A29: =E29&B29 -> 7323932 | B29: =COUNTIF($E$2:E29,E29) -> 2 | C29: 생활건강 | D29: 냄비/솥/찜기 | E29: 732393 | F29: 스테인리스 냄비
A30: =E30&B30 -> 7323992 | B30: =COUNTIF($E$2:E30,E30) -> 2 | C30: 생활건강 | D30: 냄비/솥/찜기 | E30: 732399 | F30: 인덕션/전자렌인지용 냄비
A31: =E31&B31 -> 681599, 6912001 | B31: =COUNTIF($E$2:E31,E31) -> 1 | C31: 생활건강 | D31: 냄비/솥/찜기 | E31: 681599, 691200 | F31: 돌솥/무쇠 냄비
A32: =E32&B32 -> 8516601 | B32: =COUNTIF($E$2:E32,E32) -> 1 | C32: 생활건강 | D32: 냄비/솥/찜기 | E32: 851660 | F32: 압력솥
A33: =E33&B33 -> 8516101 | B33: =COUNTIF($E$2:E33,E33) -> 1 | C33: 생활건강 | D33: 주전자/티포트 | E33: 851610 | F33: 티포트
A34: =E34&B34 -> 7323933 | B34: =COUNTIF($E$2:E34,E34) -> 3 | C34: 생활건강 | D34: 주전자/티포트 | E34: 732393 | F34: 스테인리스 주전자
A35: =E35&B35 -> 8516711 | B35: =COUNTIF($E$2:E35,E35) -> 1 | C35: 생활건강 | D35: 주전자/티포트 | E35: 851671 | F35: 세라믹 주전자
A36: =E36&B36 -> 7013102 | B36: =COUNTIF($E$2:E36,E36) -> 2 | C36: 생활건강 | D36: 주전자/티포트 | E36: 701310 | F36: 기타 주전자/티포트
A37: =E37&B37 -> 8421211 | B37: =COUNTIF($E$2:E37,E37) -> 1 | C37: 생활건강 | D37: 물 여과기 | E37: 842121 | F37: 수도꼭지 물 필터
A38: =E38&B38 -> 392310, 3924101 | B38: =COUNTIF($E$2:E38,E38) -> 1 | C38: 생활건강 | D38: 보관/밀폐용기 | E38: 392310, 392410 | F38: 플라스틱 용기
A39: =E39&B39 -> 691110, 6912001 | B39: =COUNTIF($E$2:E39,E39) -> 1 | C39: 생활건강 | D39: 보관/밀폐용기 | E39: 691110, 691200 | F39: 도자기/유리 용기
A40: =E40&B40 -> 7323934 | B40: =COUNTIF($E$2:E40,E40) -> 4 | C40: 생활건강 | D40: 보관/밀폐용기 | E40: 732393 | F40: 스테인리스 용기
A41: =E41&B41 -> 3924104 | B41: =COUNTIF($E$2:E41,E41) -> 4 | C41: 생활건강 | D41: 보관/밀폐용기 | E41: 392410 | F41: 밀폐용기
A42: =E42&B42 -> 3924901 | B42: =COUNTIF($E$2:E42,E42) -> 1 | C42: 생활건강 | D42: 보관/밀폐용기 | E42: 392490 | F42: 도시락 용기
A43: =E43&B43 -> 3923301 | B43: =COUNTIF($E$2:E43,E43) -> 1 | C43: 생활건강 | D43: 보관/밀폐용기 | E43: 392330 | F43: 물병/물통
A44: =E44&B44 -> 6912002 | B44: =COUNTIF($E$2:E44,E44) -> 2 | C44: 생활건강 | D44: 보관/밀폐용기 | E44: 691200 | F44: 장독
A45: =E45&B45 -> 4419902 | B45: =COUNTIF($E$2:E45,E45) -> 2 | C45: 생활건강 | D45: 트레이 | E45: 441990 | F45: 목재 트레이
A46: =E46&B46 -> 7323935 | B46: =COUNTIF($E$2:E46,E46) -> 5 | C46: 생활건강 | D46: 트레이 | E46: 732393 | F46: 오븐 트레이
A47: =E47&B47 -> 3923101 | B47: =COUNTIF($E$2:E47,E47) -> 1 | C47: 생활건강 | D47: 트레이 | E47: 392310 | F47: 플라스틱 트레이
A48: =E48&B48 -> 6914901 | B48: =COUNTIF($E$2:E48,E48) -> 1 | C48: 생활건강 | D48: 트레이 | E48: 691490 | F48: 세라믹 트레이
A49: =E49&B49 -> 6911102 | B49: =COUNTIF($E$2:E49,E49) -> 2 | C49: 생활건강 | D49: 트레이 | E49: 691110 | F49: 기타 트레이
A50: =E50&B50 -> 732393, 3924101 | B50: =COUNTIF($E$2:E50,E50) -> 1 | C50: 생활건강 | D50: 수납용품 | E50: 732393, 392410 | F50: 홀더
A51: =E51&B51 -> 7323936 | B51: =COUNTIF($E$2:E51,E51) -> 6 | C51: 생활건강 | D51: 수납용품 | E51: 732393 | F51: 식기건조대
A52: =E52&B52 -> 3924105 | B52: =COUNTIF($E$2:E52,E52) -> 5 | C52: 생활건강 | D52: 수납용품 | E52: 392410 | F52: 냉장고 정리 트레이
A53: =E53&B53 -> 6911103 | B53: =COUNTIF($E$2:E53,E53) -> 3 | C53: 생활건강 | D53: 커피용품 | E53: 691110 | F53: 커피용품 세트
A54: =E54&B54 -> 4823201 | B54: =COUNTIF($E$2:E54,E54) -> 1 | C54: 생활건강 | D54: 커피용품 | E54: 482320 | F54: 커피 필터
A55: =E55&B55 -> 8509801 | B55: =COUNTIF($E$2:E55,E55) -> 1 | C55: 생활건강 | D55: 커피용품 | E55: 850980 | F55: 커피 그라인더
A56: =E56&B56 -> 8516712 | B56: =COUNTIF($E$2:E56,E56) -> 2 | C56: 생활건강 | D56: 커피용품 | E56: 851671 | F56: 커피 메이커
A57: =E57&B57 -> 821000, 7323931 | B57: =COUNTIF($E$2:E57,E57) -> 1 | C57: 생활건강 | D57: 커피용품 | E57: 821000, 732393 | F57: 기타 커피 용품
A58: =E58&B58 -> 8210003 | B58: =COUNTIF($E$2:E58,E58) -> 3 | C58: 생활건강 | D58: 바 용품 | E58: 821000 | F58: 와인 용품
A59: =E59&B59 -> 732393, 8210002 | B59: =COUNTIF($E$2:E59,E59) -> 2 | C59: 생활건강 | D59: 바 용품 | E59: 732393, 821000 | F59: 맥주 용품
A60: =E60&B60 -> 732393, 7013491 | B60: =COUNTIF($E$2:E60,E60) -> 1 | C60: 생활건강 | D60: 바 용품 | E60: 732393, 701349 | F60: 음료 용기
A61: =E61&B61 -> 8418691 | B61: =COUNTIF($E$2:E61,E61) -> 1 | C61: 생활건강 | D61: 바 용품 | E61: 841869 | F61: 냉각기/홀더
A62: =E62&B62 -> 3924106 | B62: =COUNTIF($E$2:E62,E62) -> 6 | C62: 생활건강 | D62: 바 용품 | E62: 392410 | F62: 얼음 큐브
A63: =E63&B63 -> 7323937 | B63: =COUNTIF($E$2:E63,E63) -> 7 | C63: 생활건강 | D63: 바 용품 | E63: 732393 | F63: 병
A64: =E64&B64 -> 7323993 | B64: =COUNTIF($E$2:E64,E64) -> 3 | C64: 생활건강 | D64: 제과/제빵용품 | E64: 732399 | F64: 베이킹 기구 세트
A65: =E65&B65 -> 3924107 | B65: =COUNTIF($E$2:E65,E65) -> 7 | C65: 생활건강 | D65: 제과/제빵용품 | E65: 392410 | F65: 계량 도구
A66: =E66&B66 -> 4823202 | B66: =COUNTIF($E$2:E66,E66) -> 2 | C66: 생활건강 | D66: 제과/제빵용품 | E66: 482320 | F66: 유산지/기름종이
A67: =E67&B67 -> 4419903 | B67: =COUNTIF($E$2:E67,E67) -> 3 | C67: 생활건강 | D67: 제과/제빵용품 | E67: 441990 | F67: 베이킹 반죽매트/도마
A68: =E68&B68 -> 910690, 9025191 | B68: =COUNTIF($E$2:E68,E68) -> 1 | C68: 생활건강 | D68: 제과/제빵용품 | E68: 910690, 902519 | F68: 오븐 온도계/타이머
A69: =E69&B69 -> 7323938 | B69: =COUNTIF($E$2:E69,E69) -> 8 | C69: 생활건강 | D69: 제과/제빵용품 | E69: 732393 | F69: 베이킹 틀/팬
A70: =E70&B70 -> 392410, 7323991 | B70: =COUNTIF($E$2:E70,E70) -> 1 | C70: 생활건강 | D70: 제과/제빵용품 | E70: 392410, 732399 | F70: 그외 베이킹 기구
A71: =E71&B71 -> 630253, 6302401 | B71: =COUNTIF($E$2:E71,E71) -> 1 | C71: 생활건강 | D71: 테이블 장식/액세서리 | E71: 630253, 630240 | F71: 식탁매트
A72: =E72&B72 -> 4818201 | B72: =COUNTIF($E$2:E72,E72) -> 1 | C72: 생활건강 | D72: 테이블 장식/액세서리 | E72: 481820 | F72: 냅킨
A73: =E73&B73 -> 3924108 | B73: =COUNTIF($E$2:E73,E73) -> 8 | C73: 생활건강 | D73: 테이블 장식/액세서리 | E73: 392410 | F73: 홀더/거치대
A74: =E74&B74 -> 6302401 | B74: =COUNTIF($E$2:E74,E74) -> 1 | C74: 생활건강 | D74: 테이블 장식/액세서리 | E74: 630240 | F74: 종이냅킨/냅킨
A75: =E75&B75 -> 761510, 3924101 | B75: =COUNTIF($E$2:E75,E75) -> 1 | C75: 생활건강 | D75: 조리기구/기타 주방잡화 | E75: 761510, 392410 | F75: 조리기구/기타 주방잡화
A76: =E76&B76 -> 7615101 | B76: =COUNTIF($E$2:E76,E76) -> 1 | C76: 생활건강 | D76: 조리기구/기타 주방잡화 | E76: 761510 | F76: 스테인레스 조리기구
A77: =E77&B77 -> 3924109 | B77: =COUNTIF($E$2:E77,E77) -> 9 | C77: 생활건강 | D77: 조리기구/기타 주방잡화 | E77: 392410 | F77: 실리콘 도구
A78: =E78&B78 -> 3922101 | B78: =COUNTIF($E$2:E78,E78) -> 1 | C78: 생활건강 | D78: 욕실용기/홀더 | E78: 392210 | F78: 디스펜서
A79: =E79&B79 -> 960321, 3922901 | B79: =COUNTIF($E$2:E79,E79) -> 1 | C79: 생활건강 | D79: 욕실용기/홀더 | E79: 960321, 392290 | F79: 칫솔통/행거
A80: =E80&B80 -> 3924902 | B80: =COUNTIF($E$2:E80,E80) -> 2 | C80: 생활건강 | D80: 욕실용기/홀더 | E80: 392490 | F80: 비누받침대/거치대
A81: =E81&B81 -> 3926901 | B81: =COUNTIF($E$2:E81,E81) -> 1 | C81: 생활건강 | D81: 욕실용기/홀더 | E81: 392690 | F81: 욕실용 행거
A82: =E82&B82 -> 6910101 | B82: =COUNTIF($E$2:E82,E82) -> 1 | C82: 생활건강 | D82: 욕실용기/홀더 | E82: 691010 | F82: 욕실 액세서리
A83: =E83&B83 -> 8302421 | B83: =COUNTIF($E$2:E83,E83) -> 1 | C83: 생활건강 | D83: 욕실선반 | E83: 830242 | F83: 코너선반
A84: =E84&B84 -> 7615102 | B84: =COUNTIF($E$2:E84,E84) -> 2 | C84: 생활건강 | D84: 욕실선반 | E84: 761510 | F84: 알루미늄 선반
A85: =E85&B85 -> 7007191 | B85: =COUNTIF($E$2:E85,E85) -> 1 | C85: 생활건강 | D85: 욕실선반 | E85: 700719 | F85: 강화유리 선반
A86: =E86&B86 -> 3924903 | B86: =COUNTIF($E$2:E86,E86) -> 3 | C86: 생활건강 | D86: 욕실선반 | E86: 392490 | F86: 기타 욕실선반용품
A87: =E87&B87 -> 6910102 | B87: =COUNTIF($E$2:E87,E87) -> 2 | C87: 생활건강 | D87: 욕실수납장 | E87: 691010 | F87: 욕실 벽장
A88: =E88&B88 -> 6910901 | B88: =COUNTIF($E$2:E88,E88) -> 1 | C88: 생활건강 | D88: 욕실수납장 | E88: 691090 | F88: 욕실 스탠드 장
A89: =E89&B89 -> 3922102 | B89: =COUNTIF($E$2:E89,E89) -> 2 | C89: 생활건강 | D89: 욕실수납장 | E89: 392210 | F89: 기타 욕실수납장용품
A90: =E90&B90 -> 9503001 | B90: =COUNTIF($E$2:E90,E90) -> 1 | C90: 생활건강 | D90: 샤워기/수전용품 | E90: 950300 | F90: 샤워 헤드
A91: =E91&B91 -> 3917391 | B91: =COUNTIF($E$2:E91,E91) -> 1 | C91: 생활건강 | D91: 샤워기/수전용품 | E91: 391739 | F91: 샤워 호스
... A100: =E100&B100 -> 9403601 | B100: =COUNTIF($E$2:E100,E100) -> 1 | C100: 생활건강 | D100: 위생도기 | E100: 940360 | F100: 기타 위생도기 용품
A101: =E101&B101 -> 630260, 4818201 | B101: =COUNTIF($E$2:E101,E101) -> 1 | C101: 생활건강 | D101: 타월 | E101: 630260, 481820 | F101: 타월
A102: =E102&B102 -> 4602901 | B102: =COUNTIF($E$2:E102,E102) -> 1 | C102: 생활건강 | D102: 타월 | E102: 460290 | F102: 목욕 타월
A103: =E103&B103 -> 9603291 | B103: =COUNTIF($E$2:E103,E103) -> 1 | C103: 생활건강 | D103: 타월 | E103: 960329 | F103: 바디 브러쉬
A104: =E104&B104 -> 620791, 6208911 | B104: =COUNTIF($E$2:E104,E104) -> 1 | C104: 생활건강 | D104: 타월 | E104: 620791, 620891 | F104: 목욕 가운
A105: =E105&B105 -> 4602911 | B105: =COUNTIF($E$2:E105,E105) -> 1 | C105: 생활건강 | D105: 타월 | E105: 460291 | F105: 바디 스크럽
A106: =E106&B106 -> 4602921 | B106: =COUNTIF($E$2:E106,E106) -> 1 | C106: 생활건강 | D106: 타월 | E106: 460292 | F106: 목욕 스폰지
A107: =E107&B107 -> 3918901 | B107: =COUNTIF($E$2:E107,E107) -> 1 | C107: 생활건강 | D107: 욕실발판/매트 | E107: 391890 | F107: 욕실발판/매트
A108: =E108&B108 -> 9603901 | B108: =COUNTIF($E$2:E108,E108) -> 1 | C108: 생활건강 | D108: 욕실 청소용품 | E108: 960390 | F108: 변기솔
...

Sheet 목록화
A1: 배정차수 | B1: 소속 (근무지) | C1: 회사명(국문) | D1: 회사명(영문) | E1: 사업자번호 | F1: 신청일자 | G1: 내수조건 | H1: 22년 수출액 | I1: GCL점수 | J1: 기존멘티업체여부 | K1: 담당전문위원(확정) | L1: 배정 희망 수출전문위원 | M1: 대표연락처 | N1: 설립연도 | O1: 대표자명 | P1: 주소 | Q1: 홈페이지 주소 | R1: 업종 | S1: KOTRA 기업회원 ID | T1: 매출액 | U1: 종업원수 | V1: 담당자 성명 | W1: 담당자 연락처 | X1: 담당자 직위 | Y1: 담당자 이메일 | Z1: 품목명 (국문) | AA1: 품목명 (영문) | AB1: CODE | AC1: 품목 카테고리 | AD1: 품목카테고리 (기타) | AE1: 한국/ 해외수출여부 | AF1: 보유 해외규격 인증 | AG1: 회사 내 해외마케팅 전담인력 보유 여부 | AH1: 제조/ 무역기업 | AI1: 홈페이지 외국어,보유, | AJ1: 진출희망지역 | AK1: 카달로그 첨부 유무 | AL1: 수출두드림 해당여부 | AM1: 가입경로 | AN1: 비고 | AO1: 국내 납품 이력 | AP1: 현재 입점된 온라인 플랫폼 | AQ1: 우대사항
C2: ='KOTRA(국문)신청서'!K8 -> 0 | D2: ='KOTRA(국문)신청서'!AF8 -> 0 | E2: ='KOTRA(국문)신청서'!K11 -> 0 | L2: ='KOTRA(국문)신청서'!K45 -> (선택) | M2: ='KOTRA(국문)신청서'!AF14 -> 0 | N2: ='KOTRA(국문)신청서'!K20 -> 0 | O2: ='KOTRA(국문)신청서'!K14 -> 0 | P2: ='KOTRA(국문)신청서'!K17 -> 0 | Q2: ='KOTRA(국문)신청서'!AF23 -> 0 | U2: ='KOTRA(국문)신청서'!AF20 -> 0 | V2: ='KOTRA(국문)신청서'!Q26 -> 0 | W2: ='KOTRA(국문)신청서'!AF28 -> 0 | X2: ='KOTRA(국문)신청서'!AF26 -> 0 | Y2: ='KOTRA(국문)신청서'!Q30 -> 0 | Z2: ='KOTRA(국문)신청서'!K38 -> 0 | AB2: ='KOTRA(국문)신청서'!K40 -> 0 | AC2: =CHOOSE('목록화 소스'!$B$1,"미용","식음료/농업","생활건강","스포츠·완구·취미","가구·홈데코","패션","가전·전기전자부품","건설기자재","기계중장비","자동차부품","조선기자재","항공부품","기초소재","반도체·디스플레이","의료기기","제약","ICT 전력플랜트","서비스") -> 미용 | AE2: =CHOOSE('목록화 소스'!$B$3,"국내에서 선적","해외국에서 선적") -> 국내에서 선적 | AF2: ='KOTRA(국문)신청서'!K47 -> 0 | AH2: =CHOOSE('목록화 소스'!$B$5,"제조기업","무역기업","제조&무역","R&D","서비스","기타") -> 제조기업 | AI2: ='KOTRA(국문)신청서'!K23 -> 0 | AM2: =CHOOSE('목록화 소스'!$B$7,"수출전문위원추천","KOTRA 뉴스레터","온라인 광고","기타") -> 수출전문위원추천 | AO2: ='KOTRA(국문)신청서'!K49 -> 0 | AP2: ='KOTRA(국문)신청서'!K51 -> 0

Sheet 목록화 소스
A1: 품목 카테고리 | B1: 1
A3: 한국/해외 수출여부 | B3: 1
A5: 제조/무역 기업 | B5: 1
A7: 가입경로 | B7: 1
