Workbook

Sheet KOTRA(국문)신청서
BC2: 키값 | BD2: HS CODE 검색 | BF2: 품목카테고리 | BG2: 제품명 | BH2: HS CODE
K3: 2023 내수기업 수출기업화 사업 신청서 | BB3: 1 | BC3: =$BD$3&BB3 -> 1 | BF3: =IFERROR(VLOOKUP(BC3,'(참고)품목카테고리'!$A$2:$F$3662,3,0),"") | BG3: =IFERROR(VLOOKUP(BC3,'(참고)품목카테고리'!$A$2:$F$3662,4,0),"") | BH3: =IFERROR(VLOOKUP(BC3,'(참고)품목카테고리'!$A$2:$F$3662,5,0),"")
BB4: 2 | BC4: =$BD$3&BB4 -> 2 | BF4: =IFERROR(VLOOKUP(BC4,'(참고)품목카테고리'!$A$2:$F$3662,3,0),"") | BG4: =IFERROR(VLOOKUP(BC4,'(참고)품목카테고리'!$A$2:$F$3662,4,0),"") | BH4: =IFERROR(VLOOKUP(BC4,'(참고)품목카테고리'!$A$2:$F$3662,5,0),"")
BB5: 3 | BC5: =$BD$3&BB5 -> 3 | BF5: =IFERROR(VLOOKUP(BC5,'(참고)품목카테고리'!$A$2:$F$3662,3,0),"") | BG5: =IFERROR(VLOOKUP(BC5,'(참고)품목카테고리'!$A$2:$F$3662,4,0),"") | BH5: =IFERROR(VLOOKUP(BC5,'(참고)품목카테고리'!$A$2:$F$3662,5,0),"")
BB6: 4 | BC6: =$BD$3&BB6 -> 4 | BF6: =IFERROR(VLOOKUP(BC6,'(참고)품목카테고리'!$A$2:$F$3662,3,0),"") | BG6: =IFERROR(VLOOKUP(BC6,'(참고)품목카테고리'!$A$2:$F$3662,4,0),"") | BH6: =IFERROR(VLOOKUP(BC6,'(참고)품목카테고리'!$A$2:$F$3662,5,0),"")
BB7: 5 | BC7: =$BD$3&BB7 -> 5 | BF7: =IFERROR(VLOOKUP(BC7,'(참고)품목카테고리'!$A$2:$F$3662,3,0),"") | BG7: =IFERROR(VLOOKUP(BC7,'(참고)품목카테고리'!$A$2:$F$3662,4,0),"") | BH7: =IFERROR(VLOOKUP(BC7,'(참고)품목카테고리'!$A$2:$F$3662,5,0),"")
C8: 회사 정보 | E8: 회사명 (국문) | Z8: 회사명 (영문) | BB8: 6 | BC8: =$BD$3&BB8 -> 6 | BF8: =IFERROR(VLOOKUP(BC8,'(참고)품목카테고리'!$A$2:$F$3662,3,0),"") | BG8: =IFERROR(VLOOKUP(BC8,'(참고)품목카테고리'!$A$2:$F$3662,4,0),"") | BH8: =IFERROR(VLOOKUP(BC8,'(참고)품목카테고리'!$A$2:$F$3662,5,0),"")
BB9: 7 | BC9: =$BD$3&BB9 -> 7 | BF9: =IFERROR(VLOOKUP(BC9,'(참고)품목카테고리'!$A$2:$F$3662,3,0),"") | BG9: =IFERROR(VLOOKUP(BC9,'(참고)품목카테고리'!$A$2:$F$3662,4,0),"") | BH9: =IFERROR(VLOOKUP(BC9,'(참고)품목카테고리'!$A$2:$F$3662,5,0),"")
BB10: 8 | BC10: =$BD$3&BB10 -> 8 | BF10: =IFERROR(VLOOKUP(BC10,'(참고)품목카테고리'!$A$2:$F$3662,3,0),"") | BG10: =IFERROR(VLOOKUP(BC10,'(참고)품목카테고리'!$A$2:$F$3662,4,0),"") | BH10: =IFERROR(VLOOKUP(BC10,'(참고)품목카테고리'!$A$2:$F$3662,5,0),"")
E11: 사업자 등록번호 | Z11: 법인 등록번호 | BB11: 9 | BC11: =$BD$3&BB11 -> 9 | BF11: =IFERROR(VLOOKUP(BC11,'(참고)품목카테고리'!$A$2:$F$3662,3,0),"") | BG11: =IFERROR(VLOOKUP(BC11,'(참고)품목카테고리'!$A$2:$F$3662,4,0),"") | BH11: =IFERROR(VLOOKUP(BC11,'(참고)품목카테고리'!$A$2:$F$3662,5,0),"")
BB12: 10 | BC12: =$BD$3&BB12 -> 10 | BF12: =IFERROR(VLOOKUP(BC12,'(참고)품목카테고리'!$A$2:$F$3662,3,0),"") | BG12: =IFERROR(VLOOKUP(BC12,'(참고)품목카테고리'!$A$2:$F$3662,4,0),"") | BH12: =IFERROR(VLOOKUP(BC12,'(참고)품목카테고리'!$A$2:$F$3662,5,0),"")
BB13: 11 | BC13: =$BD$3&BB13 -> 11 | BF13: =IFERROR(VLOOKUP(BC13,'(참고)품목카테고리'!$A$2:$F$3662,3,0),"") | BG13: =IFERROR(VLOOKUP(BC13,'(참고)품목카테고리'!$A$2:$F$3662,4,0),"") | BH13: =IFERROR(VLOOKUP(BC13,'(참고)품목카테고리'!$A$2:$F$3662,5,0),"")
E14: 대표자명 | Z14: 대표 연락처 | BB14: 12 | BC14: =$BD$3&BB14 -> 12 | BF14: =IFERROR(VLOOKUP(BC14,'(참고)품목카테고리'!$A$2:$F$3662,3,0),"") | BG14: =IFERROR(VLOOKUP(BC14,'(참고)품목카테고리'!$A$2:$F$3662,4,0),"") | BH14: =IFERROR(VLOOKUP(BC14,'(참고)품목카테고리'!$A$2:$F$3662,5,0),"")
BB15: 13 | BC15: =$BD$3&BB15 -> 13 | BF15: =IFERROR(VLOOKUP(BC15,'(참고)품목카테고리'!$A$2:$F$3662,3,0),"") | BG15: =IFERROR(VLOOKUP(BC15,'(참고)품목카테고리'!$A$2:$F$3662,4,0),"") | BH15: =IFERROR(VLOOKUP(BC15,'(참고)품목카테고리'!$A$2:$F$3662,5,0),"")
BB16: 14 | BC16: =$BD$3&BB16 -> 14 | BF16: =IFERROR(VLOOKUP(BC16,'(참고)품목카테고리'!$A$2:$F$3662,3,0),"") | BG16: =IFERROR(VLOOKUP(BC16,'(참고)품목카테고리'!$A$2:$F$3662,4,0),"") | BH16: =IFERROR(VLOOKUP(BC16,'(참고)품목카테고리'!$A$2:$F$3662,5,0),"")
E17: 주소 | BB17: 15 | BC17: =$BD$3&BB17 -> 15 | BF17: =IFERROR(VLOOKUP(BC17,'(참고)품목카테고리'!$A$2:$F$3662,3,0),"") | BG17: =IFERROR(VLOOKUP(BC17,'(참고)품목카테고리'!$A$2:$F$3662,4,0),"") | BH17: =IFERROR(VLOOKUP(BC17,'(참고)품목카테고리'!$A$2:$F$3662,5,0),"")
BB18: 16 | BC18: =$BD$3&BB18 -> 16 | BF18: =IFERROR(VLOOKUP(BC18,'(참고)품목카테고리'!$A$2:$F$3662,3,0),"") | BG18: =IFERROR(VLOOKUP(BC18,'(참고)품목카테고리'!$A$2:$F$3662,4,0),"") | BH18: =IFERROR(VLOOKUP(BC18,'(참고)품목카테고리'!$A$2:$F$3662,5,0),"")
BB19: 17 | BC19: =$BD$3&BB19 -> 17 | BF19: =IFERROR(VLOOKUP(BC19,'(참고)품목카테고리'!$A$2:$F$3662,3,0),"") | BG19: =IFERROR(VLOOKUP(BC19,'(참고)품목카테고리'!$A$2:$F$3662,4,0),"") | BH19: =IFERROR(VLOOKUP(BC19,'(참고)품목카테고리'!$A$2:$F$3662,5,0),"")
E20: 설립연도 (연도만 기입) | Z20: 종업원수 | BB20: 18 | BC20: =$BD$3&BB20 -> 18 | BF20: =IFERROR(VLOOKUP(BC20,'(참고)품목카테고리'!$A$2:$F$3662,3,0),"") | BG20: =IFERROR(VLOOKUP(BC20,'(참고)품목카테고리'!$A$2:$F$3662,4,0),"") | BH20: =IFERROR(VLOOKUP(BC20,'(참고)품목카테고리'!$A$2:$F$3662,5,0),"")
BB21: 19 | BC21: =$BD$3&BB21 -> 19 | BF21: =IFERROR(VLOOKUP(BC21,'(참고)품목카테고리'!$A$2:$F$3662,3,0),"") | BG21: =IFERROR(VLOOKUP(BC21,'(참고)품목카테고리'!$A$2:$F$3662,4,0),"") | BH21: =IFERROR(VLOOKUP(BC21,'(참고)품목카테고리'!$A$2:$F$3662,5,0),"")
BB22: 20 | BC22: =$BD$3&BB22 -> 20 | BF22: =IFERROR(VLOOKUP(BC22,'(참고)품목카테고리'!$A$2:$F$3662,3,0),"") | BG22: =IFERROR(VLOOKUP(BC22,'(참고)품목카테고리'!$A$2:$F$3662,4,0),"") | BH22: =IFERROR(VLOOKUP(BC22,'(참고)품목카테고리'!$A$2:$F$3662,5,0),"")
E23: 영문 홈페이지 | Z23: 국문 홈페이지
C26: 담당자정보 | K26: 성명 | Z26: 직위
C28: (실제 사업수행 담당자 기입) | K28: 연락처 (사무실) | Z28: 연락처 (휴대전화)
K30: e-mail
C32: 품목 정보 | E32: 품목 카테고리
M33: 미용 | Q33: 식음료/농업 | X33: 생활건강 | AD33: 스포츠·완구·취미 | AL33: 가구·홈데코
M34: 패션 | Q34: 가전·전기전자부품 | Z34: 건설기자재 | AG34: 기계중장비 | AM34: 자동차부품
M35: 조선기자재 | S35: 항공부품 | Y35: 기초소재 | AE35: 반도체·디스플레이
E36: (택1) | M36: 의료기기 | S36: 제약 | W36: ICT 전력플랜트 | AE36: 서비스
E38: 제품명
E40: HS CODE
C42: 한국/해외 수출 여부
T43: 국내에서 선적 | AE43: 해외국에서 선적
AY44: =IFERROR(VLOOKUP(BB44,'(참고)품목카테고리'!$A$2:$F$3662,5,0),"")
C45: 배정 희망 수출전문위원 | K45: (선택) | AY45: =IFERROR(VLOOKUP(BB45,'(참고)품목카테고리'!$A$2:$F$3662,5,0),"")
AY46: =IFERROR(VLOOKUP(BB46,'(참고)품목카테고리'!$A$2:$F$3662,5,0),"")
C47: 보유한 해외규격인증 | AY47: =IFERROR(VLOOKUP(BB47,'(참고)품목카테고리'!$A$2:$F$3662,5,0),"")
AY48: =IFERROR(VLOOKUP(BB48,'(참고)품목카테고리'!$A$2:$F$3662,5,0),"")
C49: 국내 납품 이력 | AY49: =IFERROR(VLOOKUP(BB49,'(참고)품목카테고리'!$A$2:$F$3662,5,0),"")
...

Sheet (참고)품목카테고리
C1: 품목 카테고리 | D1: 제품명 | E1: HS 코드 | F1: 상세품목
A2: =E2&B2 -> 6911101 | B2: =COUNTIF($E$2:E2,E2) -> 1 | C2: 생활건강 | D2: 식기 | E2: 691110 | F2: 식기세트
A3: =E3&B3 -> 3924101 | B3: =COUNTIF($E$2:E3,E3) -> 1 | C3: 생활건강 | D3: 식기 | E3: 392410 | F3: 유아용 식기
A4: =E4&B4 -> 8215201 | B4: =COUNTIF($E$2:E4,E4) -> 1 | C4: 생활건강 | D4: 숟가락/젓가락/포크 | E4: 821520 | F4: 숟가락/젓가락 세트
A5: =E5&B5 -> 8215991 | B5: =COUNTIF($E$2:E5,E5) -> 1 | C5: 생활건강 | D5: 숟가락/젓가락/포크 | E5: 821599 | F5: 수저
A6: =E6&B6 -> 821599, 4419901 | B6: =COUNTIF($E$2:E6,E6) -> 1 | C6: 생활건강 | D6: 숟가락/젓가락/포크 | E6: 821599, 441990 | F6: 젓가락
A7: =E7&B7 -> 8215202 | B7: =COUNTIF($E$2:E7,E7) -> 2 | C7: 생활건강 | D7: 칼/커팅기구 | E7: 821520 | F7: 나이프 세트
A8: =E8&B8 -> 8211921 | B8: =COUNTIF($E$2:E8,E8) -> 1 | C8: 생활건강 | D8: 칼/커팅기구 | E8: 821192 | F8: 나이프
A9: =E9&B9 -> 8210001 | B9: =COUNTIF($E$2:E9,E9) -> 1 | C9: 생활건강 | D9: 칼/커팅기구 | E9: 821000 | F9: 나이프 그라인더
A10: =E10&B10 -> 4419901 | B10: =COUNTIF($E$2:E10,E10) -> 1 | C10: 생활건강 | D10: 칼/커팅기구 | E10: 441990 | F10: 칼집/거치대
A11: =E11&B11 -> 8213001 | B11: =COUNTIF($E$2:E11,E11) -> 1 | C11: 생활건강 | D11: 칼/커팅기구 | E11: 821300 | F11: 주방용 가위
A12: =E12&B12 -> 9617001 | B12: =COUNTIF($E$2:E12,E12) -> 1 | C12: 생활건강 | D12: 단열용기 | E12: 961700 | F12: 텀블러
A13: =E13&B13 -> 8418211 | B13: =COUNTIF($E$2:E13,E13) -> 1 | C13: 생활건강 | D13: 단열용기 | E13: 841821 | F13: 캠핑 쿨러
A14: =E14&B14 -> 3924102 | B14: =COUNTIF($E$2:E14,E14) -> 2 | C14: 생활건강 | D14: 단열용기 | E14: 392410 | F14: 아이스 트레이
A15: =E15&B15 -> 4202921 | B15: =COUNTIF($E$2:E15,E15) -> 1 | C15: 생활건강 | D15: 단열용기 | E15: 420292 | F15: 쿨러백/보냉가방
A16: =E16&B16 -> 3824991 | B16: =COUNTIF($E$2:E16,E16) -> 1 | C16: 생활건강 | D16: 단열용기 | E16: 382499 | F16: 아이스 팩
A17: =E17&B17 -> 4823691 | B17: =COUNTIF($E$2:E17,E17) -> 1 | C17: 생활건강 | D17: 일회용 식기 | E17: 482369 | F17: 일회용 식기 세트
A18: =E18&B18 -> 3924103 | B18: =COUNTIF($E$2:E18,E18) -> 3 | C18: 생활건강 | D18: 일회용 식기 | E18: 392410 | F18: 일회용 칼
A19: =E19&B19 -> 482390, 3924101 | B19: =COUNTIF($E$2:E19,E19) -> 1 | C19: 생활건강 | D19: 일회용 식기 | E19: 482390, 392410 | F19: 일회용 빨대
A20: =E20&B20 -> 6912001 | B20: =COUNTIF($E$2:E20,E20) -> 1 | C20: 생활건강 | D20: 잔/컵/물통 | E20: 691200 | F20: 머그
A21: =E21&B21 -> 7013101 | B21: =COUNTIF($E$2:E21,E21) -> 1 | C21: 생활건강 | D21: 잔/컵/물통 | E21: 701310 | F21: 유리잔
A22: =E22&B22 -> 7013281 | B22: =COUNTIF($E$2:E22,E22) -> 1 | C22: 생활건강 | D22: 잔/컵/물통 | E22: 701328 | F22: 와인잔
A23: =E23&B23 -> 7013371 | B23: =COUNTIF($E$2:E23,E23) -> 1 | C23: 생활건강 | D23: 잔/컵/물통 | E23: 701337 | F23: 술잔
A24: =E24&B24 -> 7323931 | B24: =COUNTIF($E$2:E24,E24) -> 1 | C24: 생활건강 | D24: 잔/컵/물통 | E24: 732393 | F24: 스테인리스 컵
A25: =E25&B25 -> 732393, 8210001 | B25: =COUNTIF($E$2:E25,E25) -> 1 | C25: 생활건강 | D25: 잔/컵/물통 | E25: 732393, 821000 | F25: 칵테일 용품
A26: =E26&B26 -> 7323991 | B26: =COUNTIF($E$2:E26,E26) -> 1 | C26: 생활건강 | D26: 프라이팬/구이용 팬 | E26: 732399 | F26: 프라이팬 세트
A27: =E27&B27 -> 7010201 | B27: =COUNTIF($E$2:E27,E27) -> 1 | C27: 생활건강 | D27: 프라이팬/구이용 팬 | E27: 701020 | F27: 뚜껑
A28: =E28&B28 -> 8210002 | B28: =COUNTIF($E$2:E28,E28) -> 2 | C28: 생활건강 | D28: 냄비/솥/찜기 | E28: 821000 | F28: 냄비 세트
A29: =E29&B29 -> 7323932 | B29: =COUNTIF($E$2:E29,E29) -> 2 | C29: 생활건강 | D29: 냄비/솥/찜기 | E29: 732393 | F29: 스테인리스 냄비
A30: =E30&B30 -> 7323992 | B30: =COUNTIF($E$2:E30,E30) -> 2 | C30: 생활건강 | D30: 냄비/솥/찜기 | E30: 732399 | F30: 인덕션/전자렌인지용 냄비
A31: =E31&B31 -> 681599, 6912001 | B31: =COUNTIF($E$2:E31,E31) -> 1 | C31: 생활건강 | D31: 냄비/솥/찜기 | E31: 681599, 691200 | F31: 돌솥/무쇠 냄비
A32: =E32&B32 -> 8516601 | B32: =COUNTIF($E$2:E32,E32) -> 1 | C32: 생활건강 | D32: 냄비/솥/찜기 | E32: 851660 | F32: 압력솥
A33: =E33&B33 -> 8516101 | B33: =COUNTIF($E$2:E33,E33) -> 1 | C33: 생활건강 | D33: 주전자/티포트 | E33: 851610 | F33: 티포트
A34: =E34&B34 -> 7323933 | B34: =COUNTIF($E$2:E34,E34) -> 3 | C34: 생활건강 | D34: 주전자/티포트 | E34: 732393 | F34: 스테인리스 주전자
A35: =E35&B35 -> 8516711 | B35: =COUNTIF($E$2:E35,E35) -> 1 | C35: 생활건강 | D35: 주전자/티포트 | E35: 851671 | F35: 세라믹 주전자
A36: =E36&B36 -> 7013102 | B36: =COUNTIF($E$2:E36,E36) -> 2 | C36: 생활건강 | D36: 주전자/티포트 | E36: 701310 | F36: 기타 주전자/티포트
A37: =E37&B37 -> 8421211 | B37: =COUNTIF($E$2:E37,E37) -> 1 | C37: 생활건강 | D37: 물 여과기 | E37: 842121 | F37: 수도꼭지 물 필터
A38: =E38&B38 -> 392310, 3924101 | B38: =COUNTIF($E$2:E38,E38) -> 1 | C38: 생활건강 | D38: 보관/밀폐용기 | E38: 392310, 392410 | F38: 플라스틱 용기
A39: =E39&B39 -> 691110, 6912001 | B39: =COUNTIF($E$2:E39,E39) -> 1 | C39: 생활건강 | D39: 보관/밀폐용기 | E39: 691110, 691200 | F39: 도자기/유리 용기
A40: =E40&B40 -> 7323934 | B40: =COUNTIF($E$2:E40,E40) -> 4 | C40: 생활건강 | D40: 보관/밀폐용기 | E40: 732393 | F40: 스테인리스 용기
...

Sheet 목록화
A1: 배정차수 | B1: 소속 (근무지) | C1: 회사명(국문) | D1: 회사명(영문) | E1: 사업자번호 | F1: 신청일자 | G1: 내수조건 | H1: 22년 수출액 | I1: GCL점수 | J1: 기존멘티업체여부 | K1: 담당전문위원(확정) | L1: 배정 희망 수출전문위원 | M1: 대표연락처 | N1: 설립연도 | O1: 대표자명 | P1: 주소 | Q1: 홈페이지 주소 | R1: 업종 | S1: KOTRA 기업회원 ID | T1: 매출액 | U1: 종업원수 | V1: 담당자 성명 | W1: 담당자 연락처 | X1: 담당자 직위 | Y1: 담당자 이메일 | Z1: 품목명 (국문) | AA1: 품목명 (영문) | AB1: CODE | AC1: 품목 카테고리 | AD1: 품목카테고리 (기타) | AE1: 한국/ 해외수출여부 | AF1: 보유 해외규격 인증 | AG1: 회사 내 해외마케팅 전담인력 보유 여부 | AH1: 제조/ 무역기업 | AI1: 홈페이지 외국어,보유, | AJ1: 진출희망지역 | AK1: 카달로그 첨부 유무 | AL1: 수출두드림 해당여부 | AM1: 가입경로 | AN1: 비고 | AO1: 국내 납품 이력 | AP1: 현재 입점된 온라인 플랫폼 | AQ1: 우대사항
C2: ='KOTRA(국문)신청서'!K8 -> 0 | D2: ='KOTRA(국문)신청서'!AF8 -> 0 | E2: ='KOTRA(국문)신청서'!K11 -> 0 | L2: ='KOTRA(국문)신청서'!K45 -> (선택) | M2: ='KOTRA(국문)신청서'!AF14 -> 0 | N2: ='KOTRA(국문)신청서'!K20 -> 0 | O2: ='KOTRA(국문)신청서'!K14 -> 0 | P2: ='KOTRA(국문)신청서'!K17 -> 0 | Q2: ='KOTRA(국문)신청서'!AF23 -> 0 | U2: ='KOTRA(국문)신청서'!AF20 -> 0 | V2: ='KOTRA(국문)신청서'!Q26 -> 0 | W2: ='KOTRA(국문)신청서'!AF28 -> 0 | X2: ='KOTRA(국문)신청서'!AF26 -> 0 | Y2: ='KOTRA(국문)신청서'!Q30 -> 0 | Z2: ='KOTRA(국문)신청서'!K38 -> 0 | AB2: ='KOTRA(국문)신청서'!K40 -> 0 | AC2: =CHOOSE('목록화 소스'!$B$1,"미용","식음료/농업","생활건강","스포츠·완구·취미","가구·홈데코","패션","가전·전기전자부품","건설기자재","기계중장비","자동차부품","조선기자재","항공부품","기초소재","반도체·디스플레이","의료기기","제약","ICT 전력플랜트","서비스") -> 미용 | AE2: =CHOOSE('목록화 소스'!$B$3,"국내에서 선적","해외국에서 선적") -> 국내에서 선적 | AF2: ='KOTRA(국문)신청서'!K47 -> 0 | AH2: =CHOOSE('목록화 소스'!$B$5,"제조기업","무역기업","제조&무역","R&D","서비스","기타") -> 제조기업 | AI2: ='KOTRA(국문)신청서'!K23 -> 0 | AM2: =CHOOSE('목록화 소스'!$B$7,"수출전문위원추천","KOTRA 뉴스레터","온라인 광고","기타") -> 수출전문위원추천 | AO2: ='KOTRA(국문)신청서'!K49 -> 0 | AP2: ='KOTRA(국문)신청서'!K51 -> 0

Sheet 목록화 소스
A1: 품목 카테고리 | B1: 1
A3: 한국/해외 수출여부 | B3: 1
A5: 제조/무역 기업 | B5: 1
A7: 가입경로 | B7: 1
