Workbook

Sheet 기존설비 운전실적 데이터 기반(우선적용)
C2: * 노란색 직접입력 | E2: * 초록색 선택입력 | H2: * 주황색 자동산정
B4: 1. 기본정보 *표시 필수입력항목 | C4: (1) 업체명(사업장명)* | G4: ▣ 참고사항 ▣
C5: (2) 감축설비명* | D5: 8. 고효율 기기 | G5: ▣ 본 시트의 산정 Tool은 기존설비 운전실적 데이터를 활용하여 산정하도록 작성되어 있으며, 불가피할 경우 설비 사양 기반으로('대상 설비사양기반' 시트) 작성해주시기 바랍니다. ▣ Tool 입력 데이터(활동자료 등)에 대한 증빙자료는 Excel Sheet를 추가하는 방식으로 제출하여 주시기 바랍니다. ▣ 활용의 편의성, 적용 곤란 등의 사유로 본 산정 Tool을 사용하지 않고 자체 Tool 등 별도의 방법으로 감축량 산정이 가능함을 알려드리니 참고하시기 바랍니다.
C6: (3) 세부설비명*
C7: (4) 설비투자비* | E7: 천원
C8: (5) 생산품명 및 단위
C9: (6) 생산량 | E9: =E8 -> 0
B11: 2. 설치 전 활동자료 *표시 필수입력항목 | C11: (1) 설치전 사용 에너지* | D11: 전기(소비기준)
C12: (2) 설치전 에너지 사용량* | E12: =VLOOKUP(D11,선택인자!B3:G29,3,0) -> kWh
C13: (3) 설치전 평균 에너지 단가 | E13: 원
B15: 3. 설치 후 활동자료 *표시 필수입력항목 | C15: (1) 설치후 사용 에너지* | D15: 전기(소비기준)
C16: (2) 대상설비 용량* | E16: =VLOOKUP(D15,선택인자!B3:G29,3,0) -> kWh
C17: (3) 일일가동시간* | E17: hr | G17: 설치 효과 요약
C18: (4) 연간 운전일수* | E18: day
C19: (5) 설비 효율* | E19: % | G19: (1) 연간 에너지 요금 감축액
C20: (6) 설치후 평균 에너지 단가 | E20: 원 | H20: =C26-C38 -> #DIV/0! | I20: 원
B22: 4. 설치 전 | C22: (1) 연간 에너지 사용량 | G22: (2) 연간 온실가스 감축량
C23: =D12 -> 0 | E23: =VLOOKUP(D11,선택인자!B3:D29,3,0) -> kWh | H23: =C29-C41 -> #DIV/0! | I23: t CO2eq
C25: (2) 연간 에너지 요금 | G25: (3) 연간 온실가스 감축률
C26: =C23*D13 -> 0 | E26: 원 | H26: =(1-(C41/C29))*100 -> #DIV/0! | I26: %
C28: (3) 연간 온실가스 배출량 | G28: (4) 원단위 감축률
C29: =C23*(G38+H38*21+I38*310)/1000 -> 0 | E29: t CO2eq | H29: =(1-(C44/C32))*100 -> #DIV/0! | I29: %
C31: (4) 생산 단위 당 에너지 원단위 (에너지 사용량/생산량) | G31: (5) 투자금액당 온실가스 감축량
C32: =C23/D9 -> #DIV/0! | E32: =E8 -> 0 | H32: =C41/D7 -> #DIV/0! | I32: t CO2eq/천원
B34: 5. 설치 후 | C34: (1) 연간 에너지 사용량
C35: =D16*D17*D18/(D19*0.01) -> #DIV/0! | E35: =VLOOKUP(D15,선택인자!B3:D29,3,0) -> kWh | G35: 설치전 온실가스 배출 환산 계수
C37: (2) 연간 에너지 요금 | G37: CO2(ton) | H37: CH4(ton) | I37: N2O(ton)
C38: =C35*D20 -> #DIV/0! | E38: 원 | G38: =VLOOKUP(D11,선택인자!B3:G29,4,0) -> 0.4567 | H38: =VLOOKUP(D11,선택인자!B3:G29,5,0) -> 3.6e-06 | I38: =VLOOKUP(D11,선택인자!B3:G29,6,0) -> 8.5e-06
C40: (3) 연간 온실가스 배출량
C41: =C35*(G44+H44*21+I44*310)/1000 -> #DIV/0! | E41: t CO2eq | G41: 설치후 온실가스 배출 환산 계수
C43: (4) 생산 단위 당 에너지 원단위 (에너지 사용량/생산량) | G43: CO2(ton) | H43: CH4(ton) | I43: N2O(ton)
C44: =C35/D9 -> #DIV/0! | E44: =E9 -> 0 | G44: =VLOOKUP(D15,선택인자!B3:G29,4,0) -> 0.4567 | H44: =VLOOKUP(D15,선택인자!B3:G29,5,0) -> 3.6e-06 | I44: =VLOOKUP(D15,선택인자!B3:G29,6,0) -> 8.5e-06

Sheet 대상 설비사양기반
C2: * 노란색 직접입력 | E2: * 초록색 선택입력 | H2: * 주황색 자동산정
B4: 1. 기본정보 *표시 필수입력항목 | C4: (1) 업체명(사업장명)* | G4: ▣ 참고사항 ▣
C5: (2) 감축설비명* | D5: 8. 고효율 기기 | G5: ▣ 본 시트의 산정 Tool은 설비 사양 기반으로 감축량을 산정하도록 작성되어 있으며, 가급적 기존설비 운전실적 데이터를 활용하여('기존설비 운전실적 데이터 기반' 시트) 작성해주시기 바랍니다. ▣ Tool 입력 데이터(활동자료 등)에 대한 증빙자료는 Excel Sheet를 추가하는 방식으로 제출하여 주시기 바랍니다. ▣ 활용의 편의성, 적용 곤란 등의 사유로 본 산정 Tool을 사용하지 않고 자체 Tool 등 별도의 방법으로 감축량 산정이 가능함을 알려드리니 참고하시기 바랍니다.
C6: (3) 사용 에너지* | D6: 전기(소비기준)
C7: (4) 설비투자비* | E7: 천원
C8: (5) 생산품명 및 단위
C9: (6) 생산량 | E9: =E8 -> 0
B11: 2.설치 전 활동자료 *표시 필수입력항목 | C11: (1) 대상설비 용량* | E11: =VLOOKUP(D6,선택인자!B3:G29,3,0) -> kWh
C12: (2) 일일가동시간* | E12: hr
C13: (3) 연간 운전일수* | E13: day
C14: (4) 설비 효율* | E14: %
C15: (5) 평균 에너지 단가 | E15: 원
B17: 3. 설치 후 활동자료 *표시 필수입력항목 | C17: (1) 대상설비 용량* | E17: =VLOOKUP(D6,선택인자!B3:G29,3,0) -> kWh | G17: 설치 효과 요약
C18: (2) 일일가동시간* | E18: hr
C19: (3) 연간 운전일수* | E19: day
C20: (4) 설비 효율* | E20: % | G20: (1) 연간 에너지 감축량
C21: (5) 평균 에너지 단가 | E21: 원 | H21: =C24-C36 -> #DIV/0! | I21: =VLOOKUP(D6,선택인자!B3:G29,3,0) -> kWh
B23: 4. 설치 전 | C23: (1) 연간 에너지 사용량 | G23: (2) 연간 에너지 요금 감축액
C24: =D11*D12*D13/(D14*0.01) -> #DIV/0! | E24: =VLOOKUP(D6,선택인자!B3:G29,3,0) -> kWh | H24: =C27-C39 -> #DIV/0! | I24: 원
C26: (2) 연간 에너지 요금 | G26: (3) 연간 온실가스 감축량
C27: =C24*D15 -> #DIV/0! | E27: 원 | H27: =C30-C42 -> #DIV/0! | I27: t CO2eq
C29: (3) 연간 온실가스 배출량 | G29: (4) 연간 온실가스 감축률
C30: =C24*(G45+H45*21+I45*310)/1000 -> #DIV/0! | E30: t CO2eq | H30: =(1-(C42/C30))*100 -> #DIV/0! | I30: %
C32: (4) 생산 단위 당 에너지 원단위 (에너지 사용량/생산량) | G32: (5) 원단위 감축률
C33: =C24/D9 -> #DIV/0! | E33: =E24 -> kWh | H33: =(1-(C45/C33))*100 -> #DIV/0! | I33: %
B35: 5. 설치 후 | C35: (1) 연간 에너지 사용량 | G35: (6) 투자금액당 온실가스 감축량
C36: =D17*D18*D19/(D20*0.01) -> #DIV/0! | E36: =VLOOKUP(D6,선택인자!B3:G29,3,0) -> kWh | H36: =H21/D7 -> #DIV/0! | I36: t CO2eq/천원
C38: (2) 연간 에너지 요금
C39: =C36*D21 -> #DIV/0! | E39: 원
C41: (3) 연간 온실가스 배출량
C42: =C36*(G45+H45*21+I45*310)/1000 -> #DIV/0! | E42: t CO2eq | G42: 온실가스 배출 환산 계수
C44: (5) 생산 단위 당 에너지 원단위 (에너지 사용량/생산량) | G44: CO2(ton) | H44: CH4(ton) | I44: N2O(ton)
C45: =C36/D9 -> #DIV/0! | E45: =E36 -> kWh | G45: =VLOOKUP(D6,선택인자!B3:G29,4,0) -> 0.4567 | H45: =VLOOKUP(D6,선택인자!B3:G29,5,0) -> 3.6e-06 | I45: =VLOOKUP(D6,선택인자!B3:G29,6,0) -> 8.5e-06

Sheet 선택인자
B2: 사용연료 | C2: 연료 사용량 | D2: 단위 | E2: CO2(ton) | F2: CH4(ton) | G2: N2O(ton) | H2: 순발열량 | I2: 단위 | J2: 총발열량 | K2: 단위 | M2: CO2(kg) 배출계수 | N2: CH4(kg) 배출계수 | O2: N2O(kg) 배출계수 | Q2: 공고문 [첨부2] 지원대상 감축설비 목록
B3: 원유 | C3: 1 | D3: kg | E3: =M3*H3/1000000 -> 3.09326 | F3: =N3*H3/1000000 -> 0.0001266 | G3: =O3*H3/1000000 -> 2.532e-05 | H3: 42.2 | I3: MJ/kg | J3: 45 | K3: MJ/kg | M3: 73300 | N3: 3 | O3: 0.6 | Q3: 1. 탄소무배출설비
B4: 휘발유 | C4: 1 | D4: L | E4: =M4*H4/1000000 -> 2.10672 | F4: =N4*H4/1000000 -> 9.12e-05 | G4: =O4*H4/1000000 -> 1.824e-05 | H4: 30.4 | I4: MJ/L | J4: 32.7 | K4: MJ/L | M4: 69300 | N4: 3 | O4: 0.6 | Q4: 2. 폐에너지 회수·이용설비
B5: 등유 | C5: 1 | D5: L | E5: =M5*H5/1000000 -> 2.45898 | F5: =N5*H5/1000000 -> 0.0001026 | G5: =O5*H5/1000000 -> 2.052e-05 | H5: 34.2 | I5: MJ/L | J5: 36.7 | K5: MJ/L | M5: 71900 | N5: 3 | O5: 0.6 | Q5: 3. 폐기물 열분해시설
B6: 경유 | C6: 1 | D6: L | E6: =M6*H6/1000000 -> 2.60832 | F6: =N6*H6/1000000 -> 0.0001056 | G6: =O6*H6/1000000 -> 2.112e-05 | H6: 35.2 | I6: MJ/L | J6: 37.8 | K6: MJ/L | M6: 74100 | N6: 3 | O6: 0.6 | Q6: 4. 탄소포집설비
B7: B-A유 | C7: 1 | D7: L | E7: =M7*H7/1000000 -> 2.73364 | F7: =N7*H7/1000000 -> 0.0001092 | G7: =O7*H7/1000000 -> 2.184e-05 | H7: 36.4 | I7: MJ/L | J7: 39 | K7: MJ/L | M7: 75100 | N7: 3 | O7: 0.6 | Q7: 5. 연료 전환
B8: B-B유 | C8: 1 | D8: L | E8: =M8*H8/1000000 -> 2.9032 | F8: =N8*H8/1000000 -> 0.000114 | G8: =O8*H8/1000000 -> 2.28e-05 | H8: 38 | I8: MJ/L | J8: 40.5 | K8: MJ/L | M8: 76400 | N8: 3 | O8: 0.6 | Q8: 6. 전처리장치
B9: B-C유 | C9: 1 | D9: L | E9: =M9*H9/1000000 -> 3.03408 | F9: =N9*H9/1000000 -> 0.0001176 | G9: =O9*H9/1000000 -> 2.352e-05 | H9: 39.2 | I9: MJ/L | J9: 41.7 | K9: MJ/L | M9: 77400 | N9: 3 | O9: 0.6 | Q9: 7. 인버터 및 인버터제어형전동기
B10: 프로판 | C10: 1 | D10: kg | E10: =M10*H10/1000000 -> 2.92153 | F10: =N10*H10/1000000 -> 4.63e-05 | G10: =O10*H10/1000000 -> 4.63e-06 | H10: 46.3 | I10: MJ/kg | J10: 50.4 | K10: MJ/kg | M10: 63100 | N10: 1 | O10: 0.1 | Q10: 8. 고효율 기기
B11: 부탄 | C11: 1 | D11: kg | E11: =M11*H11/1000000 -> 2.88367 | F11: =N11*H11/1000000 -> 4.57e-05 | G11: =O11*H11/1000000 -> 4.57e-06 | H11: 45.7 | I11: MJ/kg | J11: 49.5 | K11: MJ/kg | M11: 63100 | N11: 1 | O11: 0.1 | Q11: 9. 불소가스 저감설비
B12: 나프타 | C12: 1 | D12: L | E12: =M12*H12/1000000 -> 2.19167 | F12: =N12*H12/1000000 -> 8.97e-05 | G12: =O12*H12/1000000 -> 1.794e-05 | H12: 29.9 | I12: MJ/L | J12: 32.3 | K12: MJ/L | M12: 73300 | N12: 3 | O12: 0.6 | Q12: 10. 공정개선
B13: 용제 | C13: 1 | D13: L | E13: =M13*H13/1000000 -> 2.22099 | F13: =N13*H13/1000000 -> 9.09e-05 | G13: =O13*H13/1000000 -> 1.818e-05 | H13: 30.3 | I13: MJ/L | J13: 32.8 | K13: MJ/L | M13: 73300 | N13: 3 | O13: 0.6 | Q13: 11. 에너지관리시스템
B14: 아스팔트 | C14: 1 | D14: kg | E14: =M14*H14/1000000 -> 3.16344 | F14: =N14*H14/1000000 -> 0.0001176 | G14: =O14*H14/1000000 -> 2.352e-05 | H14: 39.2 | I14: MJ/kg | J14: 41.4 | K14: MJ/kg | M14: 80700 | N14: 3 | O14: 0.6 | Q14: 12. 기타
B15: 윤활유 | C15: 1 | D15: L | E15: =M15*H15/1000000 -> 2.73409 | F15: =N15*H15/1000000 -> 0.0001119 | G15: =O15*H15/1000000 -> 2.238e-05 | H15: 37.3 | I15: MJ/L | J15: 40 | K15: MJ/L | M15: 73300 | N15: 3 | O15: 0.6
B16: 석유코크스 | C16: 1 | D16: kg | E16: =M16*H16/1000000 -> 3.3345 | F16: =N16*H16/1000000 -> 0.0001026 | G16: =O16*H16/1000000 -> 2.052e-05 | H16: 34.2 | I16: MJ/kg | J16: 35 | K16: MJ/kg | M16: 97500 | N16: 3 | O16: 0.6
B17: 부생연료 1호 | C17: 1 | D17: L | E17: =M17*H17/1000000 -> 2.48774 | F17: =N17*H17/1000000 -> 0.0001038 | G17: =O17*H17/1000000 -> 2.076e-05 | H17: 34.6 | I17: MJ/L | J17: 37.1 | K17: MJ/L | M17: 71900 | N17: 3 | O17: 0.6
B18: 부생연료 2호 | C18: 1 | D18: L | E18: =M18*H18/1000000 -> 2.91798 | F18: =N18*H18/1000000 -> 0.0001131 | G18: =O18*H18/1000000 -> 2.262e-05 | H18: 37.7 | I18: MJ/L | J18: 39.9 | K18: MJ/L | M18: 77400 | N18: 3 | O18: 0.6
B19: 천연가스(LNG) | C19: 1 | D19: kg | E19: =M19*H19/1000000 -> 2.77134 | F19: =N19*H19/1000000 -> 4.94e-05 | G19: =O19*H19/1000000 -> 4.94e-06 | H19: 49.4 | I19: MJ/kg | J19: 54.7 | K19: MJ/kg | M19: 56100 | N19: 1 | O19: 0.1
B20: 도시가스(LNG) | C20: 1 | D20: N㎥ | E20: =M20*H20/1000000 -> 2.18229 | F20: =N20*H20/1000000 -> 3.89e-05 | G20: =O20*H20/1000000 -> 3.89e-06 | H20: 38.9 | I20: MJ/N㎥ | J20: 43.1 | K20: MJ/N㎥ | M20: 56100 | N20: 1 | O20: 0.1
B21: 도시가스(LPG) | C21: 1 | D21: N㎥ | E21: =M21*H21/1000000 -> 3.68504 | F21: =N21*H21/1000000 -> 5.84e-05 | G21: =O21*H21/1000000 -> 5.84e-06 | H21: 58.4 | I21: MJ/N㎥ | J21: 63.6 | K21: MJ/N㎥ | M21: 63100 | N21: 1 | O21: 0.1
B22: 국내무연탄 | C22: 1 | D22: kg | E22: =M22*H22/1000000 -> 1.90702 | F22: =N22*H22/1000000 -> 0.000194 | G22: =O22*H22/1000000 -> 2.91e-05 | H22: 19.4 | I22: MJ/kg | J22: 19.8 | K22: MJ/kg | M22: 98300 | N22: 10 | O22: 1.5
B23: 연료용 수입무연탄 | C23: 1 | D23: kg | E23: =M23*H23/1000000 -> 2.01515 | F23: =N23*H23/1000000 -> 0.000205 | G23: =O23*H23/1000000 -> 3.075e-05 | H23: 20.5 | I23: MJ/kg | J23: 21.2 | K23: MJ/kg | M23: 98300 | N23: 10 | O23: 1.5
B24: 원료용 수입무연탄 | C24: 1 | D24: kg | E24: =M24*H24/1000000 -> 2.42801 | F24: =N24*H24/1000000 -> 0.000247 | G24: =O24*H24/1000000 -> 3.705e-05 | H24: 24.7 | I24: MJ/kg | J24: 25.2 | K24: MJ/kg | M24: 98300 | N24: 10 | O24: 1.5
B25: 연료용 유연탄(역청탄) | C25: 1 | D25: kg | E25: =M25*H25/1000000 -> 2.24202 | F25: =N25*H25/1000000 -> 0.000237 | G25: =O25*H25/1000000 -> 3.555e-05 | H25: 23.7 | I25: MJ/kg | J25: 24.8 | K25: MJ/kg | M25: 94600 | N25: 10 | O25: 1.5
B26: 원료용 유연탄(역청탄) | C26: 1 | D26: kg | E26: =M26*H26/1000000 -> 2.6488 | F26: =N26*H26/1000000 -> 0.00028 | G26: =O26*H26/1000000 -> 4.2e-05 | H26: 28 | I26: MJ/kg | J26: 29.2 | K26: MJ/kg | M26: 94600 | N26: 10 | O26: 1.5
... B28: 코크스 | C28: 1 | D28: kg | E28: =M28*H28/1000000 -> 3.0923 | F28: =N28*H28/1000000 -> 0.000289 | G28: =O28*H28/1000000 -> 4.335e-05 | H28: 28.9 | I28: MJ/kg | J28: 29 | K28: MJ/kg | M28: 107000 | N28: 10 | O28: 1.5
B29: 전기(소비기준) | C29: 1 | D29: kWh | E29: =M29 -> 0.4567 | F29: =N29/1000 -> 3.6e-06 | G29: =O29/1000 -> 8.5e-06 | H29: 9.6 | I29: MJ/kWh | J29: 9.6 | K29: MJ/kWh | M29: 0.4567 | N29: 0.0036 | O29: 0.0085
