Workbook

Sheet Sheet1
A1: 정년퇴직자 고용연장사업 참가 신청방법 | F1: 회사정보 | J1: 정년연장 지원금 신청대상자
A2: 1.우측의 회사정보와 신청대상자 정보를 모두 입력해주세요 | F2: 기업정보 | G2: 업체명 | H2: 주식회사 0000 | J2: 구분 | K2: 주민번호 | L2: 이름 | M2: 휴대전화 | N2: 소재지 | O2: 최초입사일 | P2: 고용가입일 | Q2: 계약일 [A] (개시일) | R2: 계약일 [B] (만료일)
A3: 2.모든 항목을 입력시 K13셀에 지원한도가 자동계산됩니다. 한도내에서 신청해주세요. | G3: 사업자번호 | H3: 111-11-11111 | J3: 1 | K3: 641230-1234567 | L3: 홍길기 | M3: 010-0000-0000 | N3: 동구 | O3: 44287 | P3: 44317 | Q3: 44378
A4: 3.하단 참여신청서 시트로 이동해서, 참여신청서를 출력해주세요 | G4: 업종 | H4: 제조업 | J4: 2
A5: 4.출력후 신청서에 날인해주세요. | G5: 법인등록번호 | H5: 111111-2222222 | J5: 3
A6: 5.아래 구비서류를 모두 준비해주세요 | G6: 개업년월일 | H6: 36892 | J6: 4
A7: 6.신청서와 구비서류를 하나의 PDF파일로 스캔해주세요. | G7: 대표자명 | H7: 홍길동 | J7: 5
A8: (PDF파일은 사업신청서 및 구비서류 ①∼⑲ 순서로 1개의 PDF파일로 스캔) | G8: 소재지 | H8: 미추홀구 | J8: 6
A9: 7.본엑셀파일 1개와 PDF파일 1개의 파일명을 아래와 같이 저장해주세요 | G9: 유선전화 | H9: 032-000-0000 | J9: 7
A10: (엑셀파일 : 25년_사업신청서검증_사업장명, PDF파일 : 25년_사업신청서_사업장명) | G10: 은행 | H10: 신한 | J10: 8
A11: 8.엑셀파일 1개와 PDF파일 1개 총 2개의 파일을 비즈오케이에 업로드해주세요. | G11: 계좌번호 | H11: 222222-01-33333 | J11: 9
D12: BIZOK 바로가기 | G12: 예금주 | H12: 주식회사 0000 | J12: 10
F13: 본점 | G13: 주소 | H13: 인천 남동구 고잔동 111-1, 1층 | J13: 한도 | K13: =IF(OR(COUNTA(H2:H33)<ROWS(H2:H33), COUNTA(K3:Q3)<COLUMNS(K3:Q3)), "빈칸입력요망", IF((H24-H25)<=10, 2, IF((H24-H25)*0.1<10, ROUNDUP((H24-H25)*0.1, 0), IF((H24-H25)*0.1>=10, 10) ) ) & "명" ) -> 빈칸입력요망 | L13: ※ 지원한도는 자동계산됩니다. 지원한도 내에서 신청해주세요.
A14: 구비서류 | G14: 우편번호 | H14: 22222 | L14: ※ 모든항목을 입력해야 지원한도가 자동계산됩니다.
A15: 필수 | B15: ①참여신청서 | C15: 하단 참여신청서 시트로 이동 | D15: 참여신청서 | F15: 공장 | G15: 주소
B16: ②이행사항 확약서 | C16: 신청일 기준 7일 이내 | D16: 서식A (파일다운로드 후작성) | G16: 우편번호 | H16: 22223
B17: ③정보이용 동의서(기업) | C17: 기업 | G17: 공장등록증명 | H17: 유 | K17: 공장등록증
B18: ④정보이용 동의서(개인) | C18: 신청자 전원 | G18: 공장의 업종 | H18: =IF(H17="무","해당없음","입력필수") -> 입력필수 | J18: ◀◀◀ | K18: 출력 후
B19: ⑤인권존중 서약서 | C19: 기업 | G19: 분류번호 | H19: =IF(H17="무","해당없음","입력필수") -> 입력필수 | K19: 작성해주세요.
B20: ⑥사업자 등록증 | D20: 홈택스 | G20: 공장소유(자가/임대) | H20: 임대
B21: ⑦중소기업확인서 | C21: 신청일 기준 유효기간 이내 | D21: 중소기업현황정보시스템 | G21: 건축물관리대장 | H21: =IF(H17="무","유","무") -> 무
B22: ⑧공장등록증명 | C22: 신청일 기준 7일 이내 | D22: 정부24 | G22: 임대차계약서 | H22: =IF(AND(H20="임대",H17="무"),"유","무") -> 무
B23: ⑨국세완납증명서 | C23: 신청일 기준 유효기간 이내 | D23: 홈택스 | F23: 4대보험 | G23: 전체인원수 | H23: 50 | K23: 4대 사회보험
B24: ⑩지방세납세증명서 | C24: 신청일 기준 유효기간 이내 | D24: 위택스 | G24: 고용보험피보험자인원 수 | H24: 50 | J24: ◀◀◀ | K24: 가입자명부 출력후
B25: ⑪4대보험가입자명부 | C25: 기업용,전체인원, 신청일기준 7일 이내 | D25: 4대보험정보연계센터 | G25: 1년 미만 가입자 수 | H25: 2 | K25: 작성해주세요.
B26: ⑫만60세 이후근로계약서 | C26: 정년이후 최초계약서 부터 당해연도 계약서까지 | D26: 기업 | G26: 60세이상 인원수 | H26: 9 | I26: ◀ | J26: 생년월일 1964.12.31 이전 출생 인원수
B27: ⑬사업주가족관계증명서 | C27: 신청일 기준 7일 이내, 특수관계 확인용 | D27: 가족관계등록시스템 | G27: 여성근로자 수 | H27: 2
B28: ⑭급여이체명세 | C28: 신청일 기준 최근 3개월 분 (3회 지급분) | D28: 기업 | F28: 담당자 | G28: 이름 | H28: 김영희
B29: ⑮주민등록초본 | C29: 신청자 전원, 신청일 기준 7일 이내 | D29: 정부24 | G29: 직책 | H29: 대리
A30: 조건 | B30: ⑯등기임원확약서 | C30: 근로자가 임원인 경우 (공장장, 이사 등) | D30: 서식B | G30: 사무실전화 | H30: 032-1111-1111
B31: ⑰법인등기부등본 | D31: 인터넷등기소 | G31: 휴대전화 | H31: 010-0000-0000
B32: ⑱공장임대차계약서 | C32: 공장이 임대이고, 공장등록증명이 없는 경우 | D32: 기업 | G32: email | H32: aaaa@nav.com
B33: ⑲건축물관리대장 | C33: 공장등록증명이 없는 경우 | D33: 세움터 | G33: 신청일 | J33: 문의 | K33: 인천테크노파크 일자리센터 | N33: 심철홍 과장 032-725-3050

Sheet 참여신청서
L1: 년도 | N1: 관리번호 | O1: 회차
L2: 2025
A3: [서식1] 참여신청서 (기업용)
A4: 2025년 정년퇴직자 고용연장 중소기업 지원 참여신청서
A6: 업체명 | C6: 업 체 명 | D6: =Sheet1!H2 -> 주식회사 0000 | I6: 사업자등록번호 | K6: =Sheet1!H3 -> 111-11-11111
C7: 대표자명 | D7: =Sheet1!H7 -> 홍길동 | I7: 법인등록번호 | K7: =Sheet1!H5 -> 111111-2222222
C8: 고용보험 피보험자인원 | D8: =Sheet1!H24 -> 50 | I8: 사업개시일 | K8: =Sheet1!H6 -> 36892
A9: 소재지 | C9: 본점주소 | D9: =Sheet1!H13 -> 인천 남동구 고잔동 111-1, 1층 | K9: (우편번호) | M9: =Sheet1!H14 -> 22222
C10: 공장주소 | D10: =Sheet1!H15 -> 0 | K10: (우편번호) | M10: =Sheet1!H16 -> 22223
A11: 업종증빙 | C11: 공장등록증 | D11: =Sheet1!H17 -> 유 | I11: 공장의 업종(분류번호) | K11: =Sheet1!H18 -> 입력필수 | N11: =Sheet1!H19 -> 입력필수
I12: (공장등록증 있을 경우에만 표기)
C13: 기타서류 | D13: 건축물관리대장 | G13: ="("&Sheet1!H21&")" -> (무) | I13: 임대차계약서 | K13: ="("&Sheet1!H22&")" -> (무)
D14: ※ 공장건축면적 500㎡미만의 미등록 공장에게만 해당하는 서류입니다.
A15: 지원대상 | C15: 총인원 | D15: =COUNTA(Sheet1!K3:K12) -> 1 | F15: 성명(생년) | H15: =IF(Sheet1!L3="","",Sheet1!L3&"("&"19"&LEFT(Sheet1!K3,2)&")")&","&IF(Sheet1!L4="","",Sheet1!L4&"("&"19"&LEFT(Sheet1!K4,2)&")")&","&IF(Sheet1!L5="","",Sheet1!L5&"("&"19"&LEFT(Sheet1!K5,2)&")") -> 홍길기(1964),,
H16: =IF(Sheet1!L6="","",Sheet1!L6&"("&"19"&LEFT(Sheet1!K6,2)&")")&","&IF(Sheet1!L7="","",Sheet1!L7&"("&"19"&LEFT(Sheet1!K7,2)&")")&","&IF(Sheet1!L8="","",Sheet1!L8&"("&"19"&LEFT(Sheet1!K8,2)&")") -> ,,
H17: =IF(Sheet1!L9="","",Sheet1!L9&"("&"19"&LEFT(Sheet1!K9,2)&")")&","&IF(Sheet1!L10="","",Sheet1!L10&"("&"19"&LEFT(Sheet1!K10,2)&")")&","&IF(Sheet1!L11="","",Sheet1!L11&"("&"19"&LEFT(Sheet1!K11,2)&")")&","&IF(Sheet1!L12="","",Sheet1!L12&"("&"19"&LEFT(Sheet1!K12,2)&")") -> ,,,
A19: 실무 담당자 | C19: 성명 | D19: =Sheet1!H28 -> 김영희 | G19: 직위 | I19: =Sheet1!H29 -> 대리 | J19: 이메일 | L19: =Sheet1!H32 -> aaaa@nav.com
C20: 사무실전화 | D20: =Sheet1!H30 -> 032-1111-1111 | I20: 휴대전화 | K20: =Sheet1!H31 -> 010-0000-0000
A22: 지급희망 금융계좌 | C22: 은 행 명 | D22: =Sheet1!H10 -> 신한 | I22: 예 금 주 | K22: =Sheet1!H12 -> 주식회사 0000
C23: 계좌번호 | D23: =Sheet1!H11 -> 222222-01-33333
A25: 정년퇴직자 고용연장 중소기업 지원사업 지원금을 위와 같이 신청하며, 참여자격 심사 및 현장점검에 성실히 임할 것을 약속합니다.
E26: =TEXT(Sheet1!H33,"yyyy")&"년" -> 1900년 | G26: =TEXT(Sheet1!H33,"mm")&"월" -> 01월 | I26: =TEXT(Sheet1!H33,"dd")&"일" -> 00일
G27: 신청 업체명 | J27: =Sheet1!H2 -> 주식회사 0000 | N27: (사용인감)
G28: 대표자 | J28: =Sheet1!H7 -> 홍길동
A29: (재) 인천테크노파크 귀하
A31: 제 출 서 류 | B31: 기업 | C31: ① 참여신청서 및 이행사항 확약서, 기업정보이용 동의서 ② 인권존중의무 이행서약서
C32: ③ 사업자등록증 ➃ 공장등록증 ⑤ 중소기업확인서
C33: ⑥ 4대 사회보험 사업장 가입자 명부(기업용, 신청일 기준 7일 이내) ⑦ 만60세 이후 근로계약서 ⑧ 급여이체확인서 또는 송금확인증 (신청일 기준 최근3개월) ⑨ 사업주 가족관계증명서 ⑩ 국세 및 지방세 납세증명서 ⑪ 기타 수행기관에서 필요에 의해 요청하는 서류 | M33: 서명/날인시 법인기업일 경우 법인직인 필수 (사용인감 가능))
B34: 근로자
C35: ① 사업참여 확인, 개인정보 활용 동의 및 사실확인서
C36: ② 해당 근로자 주민등록 초본(신청일 기준 7일 이내)
A37: - 1 -

Sheet Sheet2
A1: 소재지 | B1: 공장등록증명 | C1: 건축물관리대장 | D1: 임대차계약서 | E1: 공장소유
A2: 중구 | B2: 유 | C2: 유 | D2: 유 | E2: 자가
A3: 동구 | B3: 무 | C3: 무 | D3: 무 | E3: 임대
A4: 미추홀구
A5: 연수구
A6: 남동구
A7: 부평구
A8: 계양구
A9: 서구
A10: 강화군
A11: 옹진군
