Workbook

Sheet 참가신청서 (입력O)
A2: 2025년 서울푸드 연계 전북 수출상담회 참가신청서
A4: 구분 | D4: 입력 | E4: 참고사항 | L4: 2018 전주시 동남아(싱가포르, 호치민) 무역사절단
A5: 참가업체 정보 | B5: 기업명 | C5: 국문 | L5: 2018 전주시 유럽(암스테르담, 취리히) 무역사절단
C6: 영문 | L6: 2019 전주시 북중미(멕시코시티, 미국, 캐나다) 무역사절단
B7: 사업자번호 | E7: '-' 없이 숫자만 입력 | L7: 2019 전주시 동남아(홍콩, 하노이) 무역사절단
B8: 대표자 성명
B9: 기업 소재지 | E9: 본사 또는 공장이 전북 소재인 기업만 지원가능
B10: 홈페이지 | E10: 홈페이지 주소 기입
B11: 사회적 기업 | C11: 해당여부 | E11: (예비)사회적 기업 참가 기업 우대 (바이어 매칭 우선 고려, 단 별도 증빙 제출 필요) | L11: 2019 방콕 한류박람회 (방콕)
B12: 담당자 정보 * 선정여부, 상담스케쥴 매칭 등 담당자 정보 기재 | C12: 성명
C13: 부서/직위
C14: 직통번호
C15: 휴대폰 | E15: 010-XXXX-XXXX으로 기재, 문자 안내용
C16: 이메일 | E16: 바이어 정보 및 상담 스케줄 송부용
B17: 참가자 정보 * 담당자와 참가자가 상이할 시 작성 | C17: 성명
C18: 직위
C19: 휴대폰 | E19: 010-XXXX-XXXX으로 기재, 문자 안내용
C20: 이메일 | E20: 바이어 정보 및 상담 스케줄 송부용
B21: KOTRA 기업회원 가입여부 | E21: 사전 회원가입 필수 (가입 방법 첨부자료 참고)
B22: 국제인증 / 상품등록 관련 | C22: 보유현황 | E22: 중국 위생허가, 성분검사, 판매허가, CE, ISO, 할랄인증 등
C23: 종료 (보유시)
A24: 참가업체 수출정보 | B24: 수출액(2024년) | E24: 전년도 직접 수출 유무 (간접수출, 샘플수출 제외)
B25: 주요 수출국(2024년) | E25: 최근 3년간 주 수출국가 국문 작성
B26: 수출 희망국가 | E26: 3순위까지 기재, 바이어 유치 및 상담매칭시 참고용
A27: 상담희망 품목정보 | B27: 상담품목1 | C27: 품목명 (국문) | E27: 제품사진 (필수)
C28: 품목명 (영문)
C29: HS Code
C30: 제품설명 (국문)
C31: 제품설명 (영문)
C32: 바이코리아 링크 | E32: 상품 기등록기업만 기재
B33: 상담품목2 | C33: 품목명 (국문) | E33: 제품사진 (필수)
C34: 품목명 (영문)
C35: HS Code
C36: 제품설명 (국문)
C37: 제품설명 (영문)
C38: 바이코리아 링크 | E38: 상품 기등록기업만 기재
B39: 상담품목3 | C39: 품목명 (국문) | E39: 제품사진 (필수)
C40: 품목명 (영문)
C41: HS Code
C42: 제품설명 (국문)
...

Sheet 자동입력1(입력 불필요)
A2: 구분 | B2: 참가업체 정보 | U2: 참가업체 수출정보 | X2: 상담희망 품목정보
B3: 업체명 | D3: 사업자번호 | E3: 대표자 성명 | F3: 사업장 주소 | G3: 홈페이지 | H3: 사회적 기업 | I3: 담당자 정보 | N3: 참가자 정보 * 담당자와 참가자가 상이할 시 작성 | R3: KOTRA 기업회원 가입여부 | S3: 국제인증 / 상품등록 관련 | U3: 수출이력 (2022년) | V3: 주요 수출국 (2022년)(국문) | W3: 수출희망국(국문) | X3: 상담품목1 | AD3: 상담품목2 | AJ3: 상담품목3 | AP3: 국/영문 카달로그 제출여부
B4: 국문 | C4: 영문 | H4: 해당여부 | I4: 성명 | J4: 부서/직위 | K4: 직통번호 | L4: 휴대폰 | M4: 이메일 | N4: 성명 | O4: 직위 | P4: 휴대폰 | Q4: 이메일 | S4: 보유현황 | T4: 종료 (보유시) | U4: 수출유무 | X4: 품목명 (국문) | Y4: 품목명 (영문) | Z4: HS Code | AA4: 제품설명 (국문) | AB4: 제품설명 (영문) | AC4: 바이코리아 링크 | AD4: 품목명 (국문) | AE4: 품목명 (영문) | AF4: HS Code | AG4: 제품설명 (국문) | AH4: 제품설명 (영문) | AI4: 바이코리아 링크 | AJ4: 품목명 (국문) | AK4: 품목명 (영문) | AL4: HS Code | AM4: 제품설명 (국문) | AN4: 제품설명 (영문) | AO4: 바이코리아 링크
A5: 입력 | B5: ='참가신청서 (입력O)'!D5 -> 0 | C5: ='참가신청서 (입력O)'!D6 -> 0 | D5: ='참가신청서 (입력O)'!D7 -> 0 | E5: ='참가신청서 (입력O)'!D8 -> 0 | F5: ='참가신청서 (입력O)'!D9 -> 0 | G5: ='참가신청서 (입력O)'!D10 -> 0 | H5: ='참가신청서 (입력O)'!D11 -> 0 | I5: ='참가신청서 (입력O)'!D12 -> 0 | J5: ='참가신청서 (입력O)'!D13 -> 0 | K5: ='참가신청서 (입력O)'!D14 -> 0 | L5: ='참가신청서 (입력O)'!D15 -> 0 | M5: ='참가신청서 (입력O)'!D16 -> 0 | N5: ='참가신청서 (입력O)'!D17 -> 0 | O5: ='참가신청서 (입력O)'!D18 -> 0 | P5: ='참가신청서 (입력O)'!D19 -> 0 | Q5: ='참가신청서 (입력O)'!D20 -> 0 | R5: ='참가신청서 (입력O)'!D21 -> 0 | S5: ='참가신청서 (입력O)'!D22 -> 0 | T5: ='참가신청서 (입력O)'!D23 -> 0 | U5: ='참가신청서 (입력O)'!$D24 -> 0 | V5: ='참가신청서 (입력O)'!$D25 -> 0 | W5: ='참가신청서 (입력O)'!$D26 -> 0 | X5: ='참가신청서 (입력O)'!$D27 -> 0 | Y5: ='참가신청서 (입력O)'!$D28 -> 0 | Z5: ='참가신청서 (입력O)'!$D29 -> 0 | AA5: ='참가신청서 (입력O)'!$D30 -> 0 | AB5: ='참가신청서 (입력O)'!$D31 -> 0 | AC5: ='참가신청서 (입력O)'!$D32 -> 0 | AD5: ='참가신청서 (입력O)'!$D33 -> 0 | AE5: ='참가신청서 (입력O)'!$D34 -> 0 | AF5: ='참가신청서 (입력O)'!$D35 -> 0 | AG5: ='참가신청서 (입력O)'!$D36 -> 0 | AH5: ='참가신청서 (입력O)'!$D37 -> 0 | AI5: ='참가신청서 (입력O)'!$D38 -> 0 | AJ5: ='참가신청서 (입력O)'!$D39 -> 0 | AK5: ='참가신청서 (입력O)'!$D40 -> 0 | AL5: ='참가신청서 (입력O)'!$D41 -> 0 | AM5: ='참가신청서 (입력O)'!$D42 -> 0 | AN5: ='참가신청서 (입력O)'!$D43 -> 0 | AO5: ='참가신청서 (입력O)'!$D44 -> 0 | AP5: ='참가신청서 (입력O)'!$D45 -> 0

Sheet 자동입력2(입력 불필요)
A2: 구분 | B2: Company Info | G2: Export Info | I2: Product Info
B3: Company Name | D3: Website | E3: 국제인증 / 상품등록 관련 | G3: Export (2022) | H3: Main Export Country | I3: Product (1) | N3: Product (2) | S3: Product (3)
B4: Kor | C4: Eng | E4: 보유현황 | F4: 종료 (보유시) | G4: O/X | I4: Name(Kor) | J4: Name(Eng) | K4: HS Code | L4: Product | M4: 제품설명 (영문) | N4: 품목명 (국문) | O4: 품목명 (영문) | P4: HS Code | Q4: 제품설명 (국문) | R4: 제품설명 (영문) | S4: 품목명 (국문) | T4: 품목명 (영문) | U4: HS Code | V4: 제품설명 (국문) | W4: 제품설명 (영문)
A5: 입력 | B5: ='참가신청서 (입력O)'!$D$5 -> 0 | C5: ='참가신청서 (입력O)'!$D$6 -> 0 | D5: ='참가신청서 (입력O)'!$D$10 -> 0 | E5: ='참가신청서 (입력O)'!$D$21 -> 0 | F5: ='참가신청서 (입력O)'!$D$22 -> 0 | G5: ='참가신청서 (입력O)'!$D$23 -> 0 | H5: ='참가신청서 (입력O)'!$D$25 -> 0 | I5: ='참가신청서 (입력O)'!$D$26 -> 0 | J5: ='참가신청서 (입력O)'!$D$27 -> 0 | K5: ='참가신청서 (입력O)'!$D$28 -> 0 | L5: ='참가신청서 (입력O)'!$D$29 -> 0 | M5: ='참가신청서 (입력O)'!$D$30 -> 0 | N5: ='참가신청서 (입력O)'!$D$31 -> 0 | O5: ='참가신청서 (입력O)'!$D$33 -> 0 | P5: ='참가신청서 (입력O)'!$D$34 -> 0 | Q5: ='참가신청서 (입력O)'!$D$35 -> 0 | R5: ='참가신청서 (입력O)'!$D$36 -> 0 | S5: ='참가신청서 (입력O)'!$D$37 -> 0 | T5: ='참가신청서 (입력O)'!$D$39 -> 0 | U5: ='참가신청서 (입력O)'!$D$40 -> 0 | V5: ='참가신청서 (입력O)'!$D$41 -> 0 | W5: ='참가신청서 (입력O)'!$D$42 -> 0
