Workbook

Sheet 0. 직전년도(1년간) 재직 근로자
B6: 0. 직전년도(1년간 재직 근로자 수)
B7: ○ 직전년도 1년간 재직한 근로자의 전체 현황 - 직전년도 1. 1. - 12. 31. 까지 재직한 근로자 (1년 중 일부 기간만 재직한 근로자는 모두 제외) ○ 아래 기재한 근로자 현황은 1. 유연근무│2. 근로시간│3. 연차휴가│4. 일·육아 병행 Sheet의 근로자 현황과 동일해야 함. - 수식이 입력되어 있으므로 자동으로 반영됨. ○ 필요시, 기업(기관) 내 재직 근로자 수에 맞게 표를 추가하여 작성 ※ 공고문 내 【붙임 3-1】 실적 요약서 작성 방법 (요약)_1. 적용 인원(모수) 산출 기준을 반드시 숙지한 후 작성
B9: 연번 | C9: 성명 | D9: 사번 | E9: 입사년월 | G9: 직전년도 1년간 재직한 총 근로자 수(명) | K9: =COUNTA(C10:C209) -> 0
B10: 1
B11: 2
B12: 3
B13: 4
B14: 5
B15: 6
B16: 7
B17: 8
B18: 9
B19: 10
B20: 11
B21: 12
... B209: 200

Sheet 1-1. 유연근무제 도입 및 실시 여부
B6: 1-1 유연근무제 도입 및 실시 여부
B7: ○ '24. 12. 31. 기준 도입 및 실시하고 있는 유연근무제 유형 모두 선택
B9: 구 분 | C9: 유연근무제 유형 | E9: 도입 및 실시 여부
B10: 1 | C10: 재택·원격근무제
B11: 2 | C11: 시차출퇴근제
B12: 3 | C12: 선택적근로시간제
B13: 4 | C13: 근로시간단축제

Sheet 1-2 유연근무 활용률
B6: 1-2 유연근무 활용률
B7: ○ 직전년도 1년간 재직 근로자 중 유연근무 활용 근로자 - Sheet 1(0. 직전년도(1년간) 재직 근로자) 근로자 명단 그대로 활용 (수식 적용으로 자동 반영) ○ (시차·재택·원격 근무) 근로자별 직전년도 1년간 시차출퇴근 및 재택·원격근무 활용횟수가 월 평균 4회(연48회) 이상인 경우만 작성 - 혼용 사용 시 합산 가능, 동일인이 같은 날 두 가지 이상 제도를 사용한 경우 1회로 인정 ○ (선택적·전환형 시간제) 선택 또는 전환형 어느 하나라도 연속하여 1개월(30일) 이상 활용한 경우만 입력 - 동일 근로자가 직전년도 1년간, 선택 또는 전환형을 여러 차례 나눠 활용했더라도 연속하여 1개월(30일) 이상 활용한 기간만 작성 ※ 유연근무 미활용 근로자는 공란 유지│근로자 1명이 여러 제도에 대해 인정되더라도 최대 1명으로 인정 | I7: ※ 반드시 붉은색 테두리 부분만 작성 (나머지 부분은 수식 적용으로 자동 계산 및 반영)
B9: 연번 | C9: 성명 | D9: 사번 | E9: 입사년월 | F9: 2024년 유연근무 활용 현황
F10: 시차, 재택·원격 (횟수기준) | J10: 선택적 , 전환형 시간제 (일수기준) | T10: 유연근무 활용 근로자 여부 (1: 인정│0: 불인정)
F11: 시차출퇴근 | G11: 재택·원격근무 | H11: 합계 | I11: 월 평균 | J11: 선택적 근로시간제 | N11: 전환형 시간제 | R11: 계 | S11: 사용일수
J12: 시작일 | K12: 종료일 | L12: 일수 | M12: 유효일수 | N12: 시작일 | O12: 종료일 | P12: 일수 | Q12: 유효일수 | V12: 유연근무 활용 근로자 수 | Y12: =$T$214 -> 0
B13: 1 | C13: ='0. 직전년도(1년간) 재직 근로자'!$C10&"" | D13: ='0. 직전년도(1년간) 재직 근로자'!$D10&"" | E13: ='0. 직전년도(1년간) 재직 근로자'!$E10 -> 0 | H13: =SUM($F13:$G13) -> 0 | I13: =$H13/12 -> 0 | L13: =DATEDIF($J13,$K13,"d")+1 -> 1 | M13: =IF($L13<=1,0,$L13) -> 0 | P13: =DATEDIF($N13,$O13,"d")+1 -> 1 | Q13: =IF($P13<=1,0,$P13) -> 0 | R13: =$M13+$Q13 -> 0 | S13: =IF($R13<3,0,$R13) -> 0 | T13: =IF(OR($H13>=48,$S13>=30),"1","0") -> 0
B14: 2 | C14: ='0. 직전년도(1년간) 재직 근로자'!$C11&"" | D14: ='0. 직전년도(1년간) 재직 근로자'!$D11&"" | E14: ='0. 직전년도(1년간) 재직 근로자'!$E11 -> 0 | H14: =SUM($F14:$G14) -> 0 | I14: =$H14/12 -> 0 | L14: =DATEDIF($J14,$K14,"d")+1 -> 1 | M14: =IF($L14<=1,0,$L14) -> 0 | P14: =DATEDIF($N14,$O14,"d")+1 -> 1 | Q14: =IF($P14<=1,0,$P14) -> 0 | R14: =$M14+$Q14 -> 0 | S14: =IF($R14<3,0,$R14) -> 0 | T14: =IF(OR($H14>=48,$S14>=30),"1","0") -> 0 | V14: 직전년도 1년간 재직 근로자 수 | Y14: =$T$216 -> 0
B15: 3 | C15: ='0. 직전년도(1년간) 재직 근로자'!$C12&"" | D15: ='0. 직전년도(1년간) 재직 근로자'!$D12&"" | E15: ='0. 직전년도(1년간) 재직 근로자'!$E12 -> 0 | H15: =SUM($F15:$G15) -> 0 | I15: =$H15/12 -> 0 | L15: =DATEDIF($J15,$K15,"d")+1 -> 1 | M15: =IF($L15<=1,0,$L15) -> 0 | P15: =DATEDIF($N15,$O15,"d")+1 -> 1 | Q15: =IF($P15<=1,0,$P15) -> 0 | R15: =$M15+$Q15 -> 0 | S15: =IF($R15<3,0,$R15) -> 0 | T15: =IF(OR($H15>=48,$S15>=30),"1","0") -> 0
B16: 4 | C16: ='0. 직전년도(1년간) 재직 근로자'!$C13&"" | D16: ='0. 직전년도(1년간) 재직 근로자'!$D13&"" | E16: ='0. 직전년도(1년간) 재직 근로자'!$E13 -> 0 | H16: =SUM($F16:$G16) -> 0 | I16: =$H16/12 -> 0 | L16: =DATEDIF($J16,$K16,"d")+1 -> 1 | M16: =IF($L16<=1,0,$L16) -> 0 | P16: =DATEDIF($N16,$O16,"d")+1 -> 1 | Q16: =IF($P16<=1,0,$P16) -> 0 | R16: =$M16+$Q16 -> 0 | S16: =IF($R16<3,0,$R16) -> 0 | T16: =IF(OR($H16>=48,$S16>=30),"1","0") -> 0 | V16: 유연근무 활용률 | Y16: =T218 -> #DIV/0!
B17: 5 | C17: ='0. 직전년도(1년간) 재직 근로자'!$C14&"" | D17: ='0. 직전년도(1년간) 재직 근로자'!$D14&"" | E17: ='0. 직전년도(1년간) 재직 근로자'!$E14 -> 0 | H17: =SUM($F17:$G17) -> 0 | I17: =$H17/12 -> 0 | L17: =DATEDIF($J17,$K17,"d")+1 -> 1 | M17: =IF($L17<=1,0,$L17) -> 0 | P17: =DATEDIF($N17,$O17,"d")+1 -> 1 | Q17: =IF($P17<=1,0,$P17) -> 0 | R17: =$M17+$Q17 -> 0 | S17: =IF($R17<3,0,$R17) -> 0 | T17: =IF(OR($H17>=48,$S17>=30),"1","0") -> 0
B18: 6 | C18: ='0. 직전년도(1년간) 재직 근로자'!$C15&"" | D18: ='0. 직전년도(1년간) 재직 근로자'!$D15&"" | E18: ='0. 직전년도(1년간) 재직 근로자'!$E15 -> 0 | H18: =SUM($F18:$G18) -> 0 | I18: =$H18/12 -> 0 | L18: =DATEDIF($J18,$K18,"d")+1 -> 1 | M18: =IF($L18<=1,0,$L18) -> 0 | P18: =DATEDIF($N18,$O18,"d")+1 -> 1 | Q18: =IF($P18<=1,0,$P18) -> 0 | R18: =$M18+$Q18 -> 0 | S18: =IF($R18<3,0,$R18) -> 0 | T18: =IF(OR($H18>=48,$S18>=30),"1","0") -> 0
B19: 7 | C19: ='0. 직전년도(1년간) 재직 근로자'!$C16&"" | D19: ='0. 직전년도(1년간) 재직 근로자'!$D16&"" | E19: ='0. 직전년도(1년간) 재직 근로자'!$E16 -> 0 | H19: =SUM($F19:$G19) -> 0 | I19: =$H19/12 -> 0 | L19: =DATEDIF($J19,$K19,"d")+1 -> 1 | M19: =IF($L19<=1,0,$L19) -> 0 | P19: =DATEDIF($N19,$O19,"d")+1 -> 1 | Q19: =IF($P19<=1,0,$P19) -> 0 | R19: =$M19+$Q19 -> 0 | S19: =IF($R19<3,0,$R19) -> 0 | T19: =IF(OR($H19>=48,$S19>=30),"1","0") -> 0
B20: 8 | C20: ='0. 직전년도(1년간) 재직 근로자'!$C17&"" | D20: ='0. 직전년도(1년간) 재직 근로자'!$D17&"" | E20: ='0. 직전년도(1년간) 재직 근로자'!$E17 -> 0 | H20: =SUM($F20:$G20) -> 0 | I20: =$H20/12 -> 0 | L20: =DATEDIF($J20,$K20,"d")+1 -> 1 | M20: =IF($L20<=1,0,$L20) -> 0 | P20: =DATEDIF($N20,$O20,"d")+1 -> 1 | Q20: =IF($P20<=1,0,$P20) -> 0 | R20: =$M20+$Q20 -> 0 | S20: =IF($R20<3,0,$R20) -> 0 | T20: =IF(OR($H20>=48,$S20>=30),"1","0") -> 0
B21: 9 | C21: ='0. 직전년도(1년간) 재직 근로자'!$C18&"" | D21: ='0. 직전년도(1년간) 재직 근로자'!$D18&"" | E21: ='0. 직전년도(1년간) 재직 근로자'!$E18 -> 0 | H21: =SUM($F21:$G21) -> 0 | I21: =$H21/12 -> 0 | L21: =DATEDIF($J21,$K21,"d")+1 -> 1 | M21: =IF($L21<=1,0,$L21) -> 0 | P21: =DATEDIF($N21,$O21,"d")+1 -> 1 | Q21: =IF($P21<=1,0,$P21) -> 0 | R21: =$M21+$Q21 -> 0 | S21: =IF($R21<3,0,$R21) -> 0 | T21: =IF(OR($H21>=48,$S21>=30),"1","0") -> 0
B22: 10 | C22: ='0. 직전년도(1년간) 재직 근로자'!$C19&"" | D22: ='0. 직전년도(1년간) 재직 근로자'!$D19&"" | E22: ='0. 직전년도(1년간) 재직 근로자'!$E19 -> 0 | H22: =SUM($F22:$G22) -> 0 | I22: =$H22/12 -> 0 | L22: =DATEDIF($J22,$K22,"d")+1 -> 1 | M22: =IF($L22<=1,0,$L22) -> 0 | P22: =DATEDIF($N22,$O22,"d")+1 -> 1 | Q22: =IF($P22<=1,0,$P22) -> 0 | R22: =$M22+$Q22 -> 0 | S22: =IF($R22<3,0,$R22) -> 0 | T22: =IF(OR($H22>=48,$S22>=30),"1","0") -> 0
B23: 11 | C23: ='0. 직전년도(1년간) 재직 근로자'!$C20&"" | D23: ='0. 직전년도(1년간) 재직 근로자'!$D20&"" | E23: ='0. 직전년도(1년간) 재직 근로자'!$E20 -> 0 | H23: =SUM($F23:$G23) -> 0 | I23: =$H23/12 -> 0 | L23: =DATEDIF($J23,$K23,"d")+1 -> 1 | M23: =IF($L23<=1,0,$L23) -> 0 | P23: =DATEDIF($N23,$O23,"d")+1 -> 1 | Q23: =IF($P23<=1,0,$P23) -> 0 | R23: =$M23+$Q23 -> 0 | S23: =IF($R23<3,0,$R23) -> 0 | T23: =IF(OR($H23>=48,$S23>=30),"1","0") -> 0
B24: 12 | C24: ='0. 직전년도(1년간) 재직 근로자'!$C21&"" | D24: ='0. 직전년도(1년간) 재직 근로자'!$D21&"" | E24: ='0. 직전년도(1년간) 재직 근로자'!$E21 -> 0 | H24: =SUM($F24:$G24) -> 0 | I24: =$H24/12 -> 0 | L24: =DATEDIF($J24,$K24,"d")+1 -> 1 | M24: =IF($L24<=1,0,$L24) -> 0 | P24: =DATEDIF($N24,$O24,"d")+1 -> 1 | Q24: =IF($P24<=1,0,$P24) -> 0 | R24: =$M24+$Q24 -> 0 | S24: =IF($R24<3,0,$R24) -> 0 | T24: =IF(OR($H24>=48,$S24>=30),"1","0") -> 0
B25: 13 | C25: ='0. 직전년도(1년간) 재직 근로자'!$C22&"" | D25: ='0. 직전년도(1년간) 재직 근로자'!$D22&"" | E25: ='0. 직전년도(1년간) 재직 근로자'!$E22 -> 0 | H25: =SUM($F25:$G25) -> 0 | I25: =$H25/12 -> 0 | L25: =DATEDIF($J25,$K25,"d")+1 -> 1 | M25: =IF($L25<=1,0,$L25) -> 0 | P25: =DATEDIF($N25,$O25,"d")+1 -> 1 | Q25: =IF($P25<=1,0,$P25) -> 0 | R25: =$M25+$Q25 -> 0 | S25: =IF($R25<3,0,$R25) -> 0 | T25: =IF(OR($H25>=48,$S25>=30),"1","0") -> 0
B26: 14 | C26: ='0. 직전년도(1년간) 재직 근로자'!$C23&"" | D26: ='0. 직전년도(1년간) 재직 근로자'!$D23&"" | E26: ='0. 직전년도(1년간) 재직 근로자'!$E23 -> 0 | H26: =SUM($F26:$G26) -> 0 | I26: =$H26/12 -> 0 | L26: =DATEDIF($J26,$K26,"d")+1 -> 1 | M26: =IF($L26<=1,0,$L26) -> 0 | P26: =DATEDIF($N26,$O26,"d")+1 -> 1 | Q26: =IF($P26<=1,0,$P26) -> 0 | R26: =$M26+$Q26 -> 0 | S26: =IF($R26<3,0,$R26) -> 0 | T26: =IF(OR($H26>=48,$S26>=30),"1","0") -> 0
B27: 15 | C27: ='0. 직전년도(1년간) 재직 근로자'!$C24&"" | D27: ='0. 직전년도(1년간) 재직 근로자'!$D24&"" | E27: ='0. 직전년도(1년간) 재직 근로자'!$E24 -> 0 | H27: =SUM($F27:$G27) -> 0 | I27: =$H27/12 -> 0 | L27: =DATEDIF($J27,$K27,"d")+1 -> 1 | M27: =IF($L27<=1,0,$L27) -> 0 | P27: =DATEDIF($N27,$O27,"d")+1 -> 1 | Q27: =IF($P27<=1,0,$P27) -> 0 | R27: =$M27+$Q27 -> 0 | S27: =IF($R27<3,0,$R27) -> 0 | T27: =IF(OR($H27>=48,$S27>=30),"1","0") -> 0
B28: 16 | C28: ='0. 직전년도(1년간) 재직 근로자'!$C25&"" | D28: ='0. 직전년도(1년간) 재직 근로자'!$D25&"" | E28: ='0. 직전년도(1년간) 재직 근로자'!$E25 -> 0 | H28: =SUM($F28:$G28) -> 0 | I28: =$H28/12 -> 0 | L28: =DATEDIF($J28,$K28,"d")+1 -> 1 | M28: =IF($L28<=1,0,$L28) -> 0 | P28: =DATEDIF($N28,$O28,"d")+1 -> 1 | Q28: =IF($P28<=1,0,$P28) -> 0 | R28: =$M28+$Q28 -> 0 | S28: =IF($R28<3,0,$R28) -> 0 | T28: =IF(OR($H28>=48,$S28>=30),"1","0") -> 0
... B212: 200 | C212: ='0. 직전년도(1년간) 재직 근로자'!$C209&"" | D212: ='0. 직전년도(1년간) 재직 근로자'!$D209&"" | E212: ='0. 직전년도(1년간) 재직 근로자'!$E209 -> 0 | H212: =SUM($F212:$G212) -> 0 | I212: =$H212/12 -> 0 | L212: =DATEDIF($J212,$K212,"d")+1 -> 1 | M212: =IF($L212<=1,0,$L212) -> 0 | P212: =DATEDIF($N212,$O212,"d")+1 -> 1 | Q212: =IF($P212<=1,0,$P212) -> 0 | R212: =$M212+$Q212 -> 0 | S212: =IF($R212<3,0,$R212) -> 0 | T212: =IF(OR($H212>=48,$S212>=30),"1","0") -> 0
Q214: 유연근무 활용 근로자 수(B) | T214: =COUNTIF($T$13:$T$212,"1") -> 0
Q216: 직전년도 1년간 재직 근로자 수(A) | T216: =COUNTA('0. 직전년도(1년간) 재직 근로자'!$C$10:$C$209) -> 0
Q218: 유연근무 활용률(B/A) | T218: =$T$214/$T$216 -> #DIV/0!

Sheet 2. 주당 평균 근로시간
B6: 2. 근로시간_주당 평균 근로시간
B7: ○ 직전년도 1년간 재직한 근로자별로 1년간 총 근로시간(초과근로시간 포함 실 근로시간 합계) 작성 - Sheet 1(0. 직전년도(1년간) 재직 근로자) 근로자 명단 그대로 활용 (수식 적용으로 자동 반영) ○ 주당 평균 근로시간 산출 - 각 근로자별 총 근로시간을 52.1주(365÷7)로 나누어 각 근로자별 주당 평균 근로시간 산출한 다음, 이를 모두 합산하여 '근로자별 주당 평균 근로시간 합계' 산출 ※ 수식 적용으로 자동 산출 | G7: ※ 반드시 붉은색 테두리 부분만 작성 (나머지 부분은 수식 적용으로 자동 계산 및 반영)
B9: 연번 | C9: 성명 | D9: 사번 | E9: 입사년월 | F9: 2024년 | G9: 주당 평균 근로시간 | I9: 근로자의 주당 평균 근로시간 합계 | M9: =G212 -> 0
F10: 연간 총 근로시간(H)
B11: 1 | C11: ='0. 직전년도(1년간) 재직 근로자'!$C10&"" | D11: ='0. 직전년도(1년간) 재직 근로자'!$D10&"" | E11: ='0. 직전년도(1년간) 재직 근로자'!$E10 -> 0 | G11: =$F11/52.1 -> 0
B12: 2 | C12: ='0. 직전년도(1년간) 재직 근로자'!$C11&"" | D12: ='0. 직전년도(1년간) 재직 근로자'!$D11&"" | E12: ='0. 직전년도(1년간) 재직 근로자'!$E11 -> 0 | G12: =$F12/52.1 -> 0 | I12: 직전년도 1년간 재직한 근로자 수 | M12: =G214 -> 0
B13: 3 | C13: ='0. 직전년도(1년간) 재직 근로자'!$C12&"" | D13: ='0. 직전년도(1년간) 재직 근로자'!$D12&"" | E13: ='0. 직전년도(1년간) 재직 근로자'!$E12 -> 0 | G13: =$F13/52.1 -> 0
B14: 4 | C14: ='0. 직전년도(1년간) 재직 근로자'!$C13&"" | D14: ='0. 직전년도(1년간) 재직 근로자'!$D13&"" | E14: ='0. 직전년도(1년간) 재직 근로자'!$E13 -> 0 | G14: =$F14/52.1 -> 0
B15: 5 | C15: ='0. 직전년도(1년간) 재직 근로자'!$C14&"" | D15: ='0. 직전년도(1년간) 재직 근로자'!$D14&"" | E15: ='0. 직전년도(1년간) 재직 근로자'!$E14 -> 0 | G15: =$F15/52.1 -> 0 | I15: 주당 평균 근로 시간 | M15: =G216 -> #DIV/0!
B16: 6 | C16: ='0. 직전년도(1년간) 재직 근로자'!$C15&"" | D16: ='0. 직전년도(1년간) 재직 근로자'!$D15&"" | E16: ='0. 직전년도(1년간) 재직 근로자'!$E15 -> 0 | G16: =$F16/52.1 -> 0
B17: 7 | C17: ='0. 직전년도(1년간) 재직 근로자'!$C16&"" | D17: ='0. 직전년도(1년간) 재직 근로자'!$D16&"" | E17: ='0. 직전년도(1년간) 재직 근로자'!$E16 -> 0 | G17: =$F17/52.1 -> 0
B18: 8 | C18: ='0. 직전년도(1년간) 재직 근로자'!$C17&"" | D18: ='0. 직전년도(1년간) 재직 근로자'!$D17&"" | E18: ='0. 직전년도(1년간) 재직 근로자'!$E17 -> 0 | G18: =$F18/52.1 -> 0
B19: 9 | C19: ='0. 직전년도(1년간) 재직 근로자'!$C18&"" | D19: ='0. 직전년도(1년간) 재직 근로자'!$D18&"" | E19: ='0. 직전년도(1년간) 재직 근로자'!$E18 -> 0 | G19: =$F19/52.1 -> 0
B20: 10 | C20: ='0. 직전년도(1년간) 재직 근로자'!$C19&"" | D20: ='0. 직전년도(1년간) 재직 근로자'!$D19&"" | E20: ='0. 직전년도(1년간) 재직 근로자'!$E19 -> 0 | G20: =$F20/52.1 -> 0
B21: 11 | C21: ='0. 직전년도(1년간) 재직 근로자'!$C20&"" | D21: ='0. 직전년도(1년간) 재직 근로자'!$D20&"" | E21: ='0. 직전년도(1년간) 재직 근로자'!$E20 -> 0 | G21: =$F21/52.1 -> 0
B22: 12 | C22: ='0. 직전년도(1년간) 재직 근로자'!$C21&"" | D22: ='0. 직전년도(1년간) 재직 근로자'!$D21&"" | E22: ='0. 직전년도(1년간) 재직 근로자'!$E21 -> 0 | G22: =$F22/52.1 -> 0
B23: 13 | C23: ='0. 직전년도(1년간) 재직 근로자'!$C22&"" | D23: ='0. 직전년도(1년간) 재직 근로자'!$D22&"" | E23: ='0. 직전년도(1년간) 재직 근로자'!$E22 -> 0 | G23: =$F23/52.1 -> 0
B24: 14 | C24: ='0. 직전년도(1년간) 재직 근로자'!$C23&"" | D24: ='0. 직전년도(1년간) 재직 근로자'!$D23&"" | E24: ='0. 직전년도(1년간) 재직 근로자'!$E23 -> 0 | G24: =$F24/52.1 -> 0
B25: 15 | C25: ='0. 직전년도(1년간) 재직 근로자'!$C24&"" | D25: ='0. 직전년도(1년간) 재직 근로자'!$D24&"" | E25: ='0. 직전년도(1년간) 재직 근로자'!$E24 -> 0 | G25: =$F25/52.1 -> 0
B26: 16 | C26: ='0. 직전년도(1년간) 재직 근로자'!$C25&"" | D26: ='0. 직전년도(1년간) 재직 근로자'!$D25&"" | E26: ='0. 직전년도(1년간) 재직 근로자'!$E25 -> 0 | G26: =$F26/52.1 -> 0
B27: 17 | C27: ='0. 직전년도(1년간) 재직 근로자'!$C26&"" | D27: ='0. 직전년도(1년간) 재직 근로자'!$D26&"" | E27: ='0. 직전년도(1년간) 재직 근로자'!$E26 -> 0 | G27: =$F27/52.1 -> 0
... B210: 200 | C210: ='0. 직전년도(1년간) 재직 근로자'!$C209&"" | D210: ='0. 직전년도(1년간) 재직 근로자'!$D209&"" | E210: ='0. 직전년도(1년간) 재직 근로자'!$E209 -> 0 | G210: =$F210/52.1 -> 0
E212: 근로자의 주당 평균 근로시간 합계 (B) | G212: =SUM($G$11:$G$210) -> 0
E214: 직전년도 1년간 재직한 근로자 수 (A) | G214: =COUNTA($F$11:$F$210) -> 0
E216: 주당 평균 근로시간 (B/A) | G216: =G212/G214 -> #DIV/0!

Sheet 3-1. 연차휴가 사용률
B6: 3-1. 연차휴가 사용률
B7: ○ 직전년도 1년간 재직한 근로자의 연차휴가 부여 및 사용 일수 입력 - Sheet 1(0. 직전년도(1년간) 재직 근로자) 근로자 명단 그대로 활용 (수식 적용으로 자동 반영) ○ (연차휴가 부여일수(A)) 직전년도 재직기간이 1. 1. ~ 12. 31.인 근로자에게 부여된 연차휴가 일수 ○ (연차휴가 사용일수(B)) (A)의 근로자가 직전연도에 사용한 연차휴가 일수 작성 ※ (ⅰ) 재작년도 연차 저축하여 작년 이월 사용한 경우, (ⅱ) '25년도 올해 발생연차를 미리 당겨쓰기한 경우에도 사용 일수에 포함 | H7: ※ 반드시 붉은색 테두리 부분만 작성 (나머지 부분은 수식 적용으로 자동 계산 및 반영)
B9: 연번 | C9: 성명 | D9: 사번 | E9: 입사년월 | F9: 연차휴가 활용 현황 | I9: 연차휴가 부여일수 | M9: =G212 -> 0
F10: 연차휴가 부여일수 | G10: 연차휴가 사용일수
B11: 1 | C11: ='0. 직전년도(1년간) 재직 근로자'!$C10&"" | D11: ='0. 직전년도(1년간) 재직 근로자'!$D10&"" | E11: ='0. 직전년도(1년간) 재직 근로자'!$E10 -> 0
B12: 2 | C12: ='0. 직전년도(1년간) 재직 근로자'!$C11&"" | D12: ='0. 직전년도(1년간) 재직 근로자'!$D11&"" | E12: ='0. 직전년도(1년간) 재직 근로자'!$E11 -> 0 | I12: 연차휴가 사용일수 | M12: =G215 -> 0
B13: 3 | C13: ='0. 직전년도(1년간) 재직 근로자'!$C12&"" | D13: ='0. 직전년도(1년간) 재직 근로자'!$D12&"" | E13: ='0. 직전년도(1년간) 재직 근로자'!$E12 -> 0
B14: 4 | C14: ='0. 직전년도(1년간) 재직 근로자'!$C13&"" | D14: ='0. 직전년도(1년간) 재직 근로자'!$D13&"" | E14: ='0. 직전년도(1년간) 재직 근로자'!$E13 -> 0
B15: 5 | C15: ='0. 직전년도(1년간) 재직 근로자'!$C14&"" | D15: ='0. 직전년도(1년간) 재직 근로자'!$D14&"" | E15: ='0. 직전년도(1년간) 재직 근로자'!$E14 -> 0 | I15: 연차휴가 사용률 | M15: =G218 -> #DIV/0!
B16: 6 | C16: ='0. 직전년도(1년간) 재직 근로자'!$C15&"" | D16: ='0. 직전년도(1년간) 재직 근로자'!$D15&"" | E16: ='0. 직전년도(1년간) 재직 근로자'!$E15 -> 0
B17: 7 | C17: ='0. 직전년도(1년간) 재직 근로자'!$C16&"" | D17: ='0. 직전년도(1년간) 재직 근로자'!$D16&"" | E17: ='0. 직전년도(1년간) 재직 근로자'!$E16 -> 0
B18: 8 | C18: ='0. 직전년도(1년간) 재직 근로자'!$C17&"" | D18: ='0. 직전년도(1년간) 재직 근로자'!$D17&"" | E18: ='0. 직전년도(1년간) 재직 근로자'!$E17 -> 0
B19: 9 | C19: ='0. 직전년도(1년간) 재직 근로자'!$C18&"" | D19: ='0. 직전년도(1년간) 재직 근로자'!$D18&"" | E19: ='0. 직전년도(1년간) 재직 근로자'!$E18 -> 0
B20: 10 | C20: ='0. 직전년도(1년간) 재직 근로자'!$C19&"" | D20: ='0. 직전년도(1년간) 재직 근로자'!$D19&"" | E20: ='0. 직전년도(1년간) 재직 근로자'!$E19 -> 0
B21: 11 | C21: ='0. 직전년도(1년간) 재직 근로자'!$C20&"" | D21: ='0. 직전년도(1년간) 재직 근로자'!$D20&"" | E21: ='0. 직전년도(1년간) 재직 근로자'!$E20 -> 0
B22: 12 | C22: ='0. 직전년도(1년간) 재직 근로자'!$C21&"" | D22: ='0. 직전년도(1년간) 재직 근로자'!$D21&"" | E22: ='0. 직전년도(1년간) 재직 근로자'!$E21 -> 0
B23: 13 | C23: ='0. 직전년도(1년간) 재직 근로자'!$C22&"" | D23: ='0. 직전년도(1년간) 재직 근로자'!$D22&"" | E23: ='0. 직전년도(1년간) 재직 근로자'!$E22 -> 0
B24: 14 | C24: ='0. 직전년도(1년간) 재직 근로자'!$C23&"" | D24: ='0. 직전년도(1년간) 재직 근로자'!$D23&"" | E24: ='0. 직전년도(1년간) 재직 근로자'!$E23 -> 0
B25: 15 | C25: ='0. 직전년도(1년간) 재직 근로자'!$C24&"" | D25: ='0. 직전년도(1년간) 재직 근로자'!$D24&"" | E25: ='0. 직전년도(1년간) 재직 근로자'!$E24 -> 0
B26: 16 | C26: ='0. 직전년도(1년간) 재직 근로자'!$C25&"" | D26: ='0. 직전년도(1년간) 재직 근로자'!$D25&"" | E26: ='0. 직전년도(1년간) 재직 근로자'!$E25 -> 0
B27: 17 | C27: ='0. 직전년도(1년간) 재직 근로자'!$C26&"" | D27: ='0. 직전년도(1년간) 재직 근로자'!$D26&"" | E27: ='0. 직전년도(1년간) 재직 근로자'!$E26 -> 0
... B210: 200 | C210: ='0. 직전년도(1년간) 재직 근로자'!$C209&"" | D210: ='0. 직전년도(1년간) 재직 근로자'!$D209&"" | E210: ='0. 직전년도(1년간) 재직 근로자'!$E209 -> 0
F212: 연차휴가 부여일수(A) | G212: =SUM($F$11:$F$210) -> 0
F215: 연차휴가 사용일수(B) | G215: =SUM($G$11:$G$210) -> 0
F218: 연차휴가 사용률 (B/A) | G218: =G215/G212 -> #DIV/0!

Sheet 3-2. 연차휴가 분할 사용
B6: 3-2. 연차휴가 분할 사용
B7: ○ '24. 12. 31. 기준 도입 및 실시하고 있는 연차휴가 사용방법 모두 선택
B9: 구 분 | C9: 연차휴가 사용방법
B10: 1
B11: 2
B12: 3
B13: 4

Sheet 4-1-①. (여성) 육아휴직 사용률
B6: 4-1-①. (여성) 육아휴직 사용률
B7: ○ 직전년도 1년간 재직한 근로자 중 육아휴직 사용 근로자 - Sheet 1(0. 직전년도(1년간) 재직 근로자) 근로자 명단 그대로 활용 (수식 적용으로 자동 반영) ○ (만 8세 이하 자녀를 둔 여성 근로자(A)) '24. 12. 31. 기준 전체 재직 근로자 중 '22. 1. 1. ~ '24. 12. 31. 기간 동 기업에서 만 8세 이하 자녀를 둔 여성 근로자 ○ 표기 ○ (육아휴직 사용 여성 근로자(B)) (A) 근로자 중 '22. 1. 1. ~ '24. 12. 31. 기간 동 기업에서 육아휴직을 사용한 여성 근로자 작성 ※ 육아휴직을 최소 1개월(30일)이상 사용한 경우만 인정 / 동일 근로자가 '22. 1. 1. ~ '24. 12. 31. 기간 중 육아휴직을 2회 이상 사용한 경우 최초 1회만 작성 | M7: ※ 반드시 붉은색 테두리 부분만 작성 (나머지 부분은 수식 적용으로 자동 계산 및 반영)
B9: 연번 | C9: 성명 | D9: 사번 | E9: 입사년월 | F9: 만 8세 이하 자녀 여부 | G9: 육아휴직 | J9: 실적 인정 여부 (1: 인정│0: 불인정) | M9: 만 8세 이하 자녀를 둔 여성 근로자 | P9: =H212 -> 0
G10: 시작일 | H10: 종료일 | I10: 육아휴직 일수
B11: 1 | C11: ='0. 직전년도(1년간) 재직 근로자'!$C10&"" | D11: ='0. 직전년도(1년간) 재직 근로자'!$D10&"" | E11: ='0. 직전년도(1년간) 재직 근로자'!$E10 -> 0 | I11: =DATEDIF($G11,$H11,"d")+1 -> 1 | J11: =IF($I11>=30,"1","0") -> 0
B12: 2 | C12: ='0. 직전년도(1년간) 재직 근로자'!$C11&"" | D12: ='0. 직전년도(1년간) 재직 근로자'!$D11&"" | E12: ='0. 직전년도(1년간) 재직 근로자'!$E11 -> 0 | I12: =DATEDIF($G12,$H12,"d")+1 -> 1 | J12: =IF($I12>=30,"1","0") -> 0 | M12: 육아휴직 사용 여성 근로자 | P12: =H214 -> 0
B13: 3 | C13: ='0. 직전년도(1년간) 재직 근로자'!$C12&"" | D13: ='0. 직전년도(1년간) 재직 근로자'!$D12&"" | E13: ='0. 직전년도(1년간) 재직 근로자'!$E12 -> 0 | I13: =DATEDIF($G13,$H13,"d")+1 -> 1 | J13: =IF($I13>=30,"1","0") -> 0
B14: 4 | C14: ='0. 직전년도(1년간) 재직 근로자'!$C13&"" | D14: ='0. 직전년도(1년간) 재직 근로자'!$D13&"" | E14: ='0. 직전년도(1년간) 재직 근로자'!$E13 -> 0 | I14: =DATEDIF($G14,$H14,"d")+1 -> 1 | J14: =IF($I14>=30,"1","0") -> 0
B15: 5 | C15: ='0. 직전년도(1년간) 재직 근로자'!$C14&"" | D15: ='0. 직전년도(1년간) 재직 근로자'!$D14&"" | E15: ='0. 직전년도(1년간) 재직 근로자'!$E14 -> 0 | I15: =DATEDIF($G15,$H15,"d")+1 -> 1 | J15: =IF($I15>=30,"1","0") -> 0 | M15: 여성 육아휴직 사용률 | P15: =H216 -> #DIV/0!
B16: 6 | C16: ='0. 직전년도(1년간) 재직 근로자'!$C15&"" | D16: ='0. 직전년도(1년간) 재직 근로자'!$D15&"" | E16: ='0. 직전년도(1년간) 재직 근로자'!$E15 -> 0 | I16: =DATEDIF($G16,$H16,"d")+1 -> 1 | J16: =IF($I16>=30,"1","0") -> 0
B17: 7 | C17: ='0. 직전년도(1년간) 재직 근로자'!$C16&"" | D17: ='0. 직전년도(1년간) 재직 근로자'!$D16&"" | E17: ='0. 직전년도(1년간) 재직 근로자'!$E16 -> 0 | I17: =DATEDIF($G17,$H17,"d")+1 -> 1 | J17: =IF($I17>=30,"1","0") -> 0
B18: 8 | C18: ='0. 직전년도(1년간) 재직 근로자'!$C17&"" | D18: ='0. 직전년도(1년간) 재직 근로자'!$D17&"" | E18: ='0. 직전년도(1년간) 재직 근로자'!$E17 -> 0 | I18: =DATEDIF($G18,$H18,"d")+1 -> 1 | J18: =IF($I18>=30,"1","0") -> 0
B19: 9 | C19: ='0. 직전년도(1년간) 재직 근로자'!$C18&"" | D19: ='0. 직전년도(1년간) 재직 근로자'!$D18&"" | E19: ='0. 직전년도(1년간) 재직 근로자'!$E18 -> 0 | I19: =DATEDIF($G19,$H19,"d")+1 -> 1 | J19: =IF($I19>=30,"1","0") -> 0
B20: 10 | C20: ='0. 직전년도(1년간) 재직 근로자'!$C19&"" | D20: ='0. 직전년도(1년간) 재직 근로자'!$D19&"" | E20: ='0. 직전년도(1년간) 재직 근로자'!$E19 -> 0 | I20: =DATEDIF($G20,$H20,"d")+1 -> 1 | J20: =IF($I20>=30,"1","0") -> 0
B21: 11 | C21: ='0. 직전년도(1년간) 재직 근로자'!$C20&"" | D21: ='0. 직전년도(1년간) 재직 근로자'!$D20&"" | E21: ='0. 직전년도(1년간) 재직 근로자'!$E20 -> 0 | I21: =DATEDIF($G21,$H21,"d")+1 -> 1 | J21: =IF($I21>=30,"1","0") -> 0
B22: 12 | C22: ='0. 직전년도(1년간) 재직 근로자'!$C21&"" | D22: ='0. 직전년도(1년간) 재직 근로자'!$D21&"" | E22: ='0. 직전년도(1년간) 재직 근로자'!$E21 -> 0 | I22: =DATEDIF($G22,$H22,"d")+1 -> 1 | J22: =IF($I22>=30,"1","0") -> 0
B23: 13 | C23: ='0. 직전년도(1년간) 재직 근로자'!$C22&"" | D23: ='0. 직전년도(1년간) 재직 근로자'!$D22&"" | E23: ='0. 직전년도(1년간) 재직 근로자'!$E22 -> 0 | I23: =DATEDIF($G23,$H23,"d")+1 -> 1 | J23: =IF($I23>=30,"1","0") -> 0
B24: 14 | C24: ='0. 직전년도(1년간) 재직 근로자'!$C23&"" | D24: ='0. 직전년도(1년간) 재직 근로자'!$D23&"" | E24: ='0. 직전년도(1년간) 재직 근로자'!$E23 -> 0 | I24: =DATEDIF($G24,$H24,"d")+1 -> 1 | J24: =IF($I24>=30,"1","0") -> 0
B25: 15 | C25: ='0. 직전년도(1년간) 재직 근로자'!$C24&"" | D25: ='0. 직전년도(1년간) 재직 근로자'!$D24&"" | E25: ='0. 직전년도(1년간) 재직 근로자'!$E24 -> 0 | I25: =DATEDIF($G25,$H25,"d")+1 -> 1 | J25: =IF($I25>=30,"1","0") -> 0
B26: 16 | C26: ='0. 직전년도(1년간) 재직 근로자'!$C25&"" | D26: ='0. 직전년도(1년간) 재직 근로자'!$D25&"" | E26: ='0. 직전년도(1년간) 재직 근로자'!$E25 -> 0 | I26: =DATEDIF($G26,$H26,"d")+1 -> 1 | J26: =IF($I26>=30,"1","0") -> 0
B27: 17 | C27: ='0. 직전년도(1년간) 재직 근로자'!$C26&"" | D27: ='0. 직전년도(1년간) 재직 근로자'!$D26&"" | E27: ='0. 직전년도(1년간) 재직 근로자'!$E26 -> 0 | I27: =DATEDIF($G27,$H27,"d")+1 -> 1 | J27: =IF($I27>=30,"1","0") -> 0
... B210: 200 | C210: ='0. 직전년도(1년간) 재직 근로자'!$C209&"" | D210: ='0. 직전년도(1년간) 재직 근로자'!$D209&"" | E210: ='0. 직전년도(1년간) 재직 근로자'!$E209 -> 0 | I210: =DATEDIF($G210,$H210,"d")+1 -> 1 | J210: =IF($I210>=30,"1","0") -> 0
F212: 만 8세 이하 자녀를 둔 여성 근로자 (A) | H212: =COUNTA($F$11:$F$210) -> 0
F214: 육아휴직 사용 여성 근로자 (B) | H214: =COUNTIF(J11:J210,"1") -> 0
F216: 여성 육아휴직 사용률 (B/A) | H216: =H214/H212 -> #DIV/0!

Sheet 4-1-②. (여성) 육아기 근로시간 단축 사용률
B6: 4-1-②. (여성) 육아기 근로시간 단축 사용률
B7: ○ 직전년도 1년간 재직한 근로자 중 육아기 근로시간 단축 사용 근로자 - Sheet 1(0. 직전년도(1년간) 재직 근로자) 근로자 명단 그대로 활용 (수식 적용으로 자동 반영) ○ (만 12세 이하 자녀를 둔 여성 근로자(A)) '24. 12. 31. 기준 전체 재직 근로자 중 '22. 1. 1. ~ '24. 12. 31. 기간 동 기업에서 만 12세 이하 자녀를 둔 여성 근로자 ○ 표기 ○ (육아기 근로시간 단축 사용 여성 근로자(B)) (A) 근로자 중 '22. 1. 1. ~ '24. 12. 31. 기간 동 기업에서 육아기 근로시간 단축을 사용한 여성 근로자 작성 ※ 육아기 근로시간 단축을 최소 1개월(30일)이상 사용한 경우만 인정 / 동일 근로자가 '22. 1. 1. ~ '24. 12. 31. 기간 중 육아휴직을 2회 이상 사용한 경우 최초 1회만 작성 | M7: ※ 반드시 붉은색 테두리 부분만 작성 (나머지 부분은 수식 적용으로 자동 계산 및 반영)
B9: 연번 | C9: 성명 | D9: 사번 | E9: 입사년월 | F9: 만 12세 이하 자녀 여부 | G9: 육아기 근로시간 단축 | J9: 실적 인정 여부 (1: 인정│0: 불인정) | M9: 만 12세 이하 자녀를 둔 여성 근로자 | P9: =H212 -> 0
G10: 시작일 | H10: 종료일 | I10: 사용 일수
B11: 1 | C11: ='0. 직전년도(1년간) 재직 근로자'!$C10&"" | D11: ='0. 직전년도(1년간) 재직 근로자'!$D10&"" | E11: ='0. 직전년도(1년간) 재직 근로자'!$E10 -> 0 | I11: =DATEDIF($G11,$H11,"d")+1 -> 1 | J11: =IF($I11>=30,"1","0") -> 0
B12: 2 | C12: ='0. 직전년도(1년간) 재직 근로자'!$C11&"" | D12: ='0. 직전년도(1년간) 재직 근로자'!$D11&"" | E12: ='0. 직전년도(1년간) 재직 근로자'!$E11 -> 0 | I12: =DATEDIF($G12,$H12,"d")+1 -> 1 | J12: =IF($I12>=30,"1","0") -> 0 | M12: 육아기 근로시간 단축 사용 여성 근로자 | P12: =H214 -> 0
B13: 3 | C13: ='0. 직전년도(1년간) 재직 근로자'!$C12&"" | D13: ='0. 직전년도(1년간) 재직 근로자'!$D12&"" | E13: ='0. 직전년도(1년간) 재직 근로자'!$E12 -> 0 | I13: =DATEDIF($G13,$H13,"d")+1 -> 1 | J13: =IF($I13>=30,"1","0") -> 0
B14: 4 | C14: ='0. 직전년도(1년간) 재직 근로자'!$C13&"" | D14: ='0. 직전년도(1년간) 재직 근로자'!$D13&"" | E14: ='0. 직전년도(1년간) 재직 근로자'!$E13 -> 0 | I14: =DATEDIF($G14,$H14,"d")+1 -> 1 | J14: =IF($I14>=30,"1","0") -> 0
B15: 5 | C15: ='0. 직전년도(1년간) 재직 근로자'!$C14&"" | D15: ='0. 직전년도(1년간) 재직 근로자'!$D14&"" | E15: ='0. 직전년도(1년간) 재직 근로자'!$E14 -> 0 | I15: =DATEDIF($G15,$H15,"d")+1 -> 1 | J15: =IF($I15>=30,"1","0") -> 0 | M15: 여성 육아기 근로시간 단축 사용률 | P15: =H216 -> #DIV/0!
B16: 6 | C16: ='0. 직전년도(1년간) 재직 근로자'!$C15&"" | D16: ='0. 직전년도(1년간) 재직 근로자'!$D15&"" | E16: ='0. 직전년도(1년간) 재직 근로자'!$E15 -> 0 | I16: =DATEDIF($G16,$H16,"d")+1 -> 1 | J16: =IF($I16>=30,"1","0") -> 0
B17: 7 | C17: ='0. 직전년도(1년간) 재직 근로자'!$C16&"" | D17: ='0. 직전년도(1년간) 재직 근로자'!$D16&"" | E17: ='0. 직전년도(1년간) 재직 근로자'!$E16 -> 0 | I17: =DATEDIF($G17,$H17,"d")+1 -> 1 | J17: =IF($I17>=30,"1","0") -> 0
B18: 8 | C18: ='0. 직전년도(1년간) 재직 근로자'!$C17&"" | D18: ='0. 직전년도(1년간) 재직 근로자'!$D17&"" | E18: ='0. 직전년도(1년간) 재직 근로자'!$E17 -> 0 | I18: =DATEDIF($G18,$H18,"d")+1 -> 1 | J18: =IF($I18>=30,"1","0") -> 0
B19: 9 | C19: ='0. 직전년도(1년간) 재직 근로자'!$C18&"" | D19: ='0. 직전년도(1년간) 재직 근로자'!$D18&"" | E19: ='0. 직전년도(1년간) 재직 근로자'!$E18 -> 0 | I19: =DATEDIF($G19,$H19,"d")+1 -> 1 | J19: =IF($I19>=30,"1","0") -> 0
B20: 10 | C20: ='0. 직전년도(1년간) 재직 근로자'!$C19&"" | D20: ='0. 직전년도(1년간) 재직 근로자'!$D19&"" | E20: ='0. 직전년도(1년간) 재직 근로자'!$E19 -> 0 | I20: =DATEDIF($G20,$H20,"d")+1 -> 1 | J20: =IF($I20>=30,"1","0") -> 0
B21: 11 | C21: ='0. 직전년도(1년간) 재직 근로자'!$C20&"" | D21: ='0. 직전년도(1년간) 재직 근로자'!$D20&"" | E21: ='0. 직전년도(1년간) 재직 근로자'!$E20 -> 0 | I21: =DATEDIF($G21,$H21,"d")+1 -> 1 | J21: =IF($I21>=30,"1","0") -> 0
B22: 12 | C22: ='0. 직전년도(1년간) 재직 근로자'!$C21&"" | D22: ='0. 직전년도(1년간) 재직 근로자'!$D21&"" | E22: ='0. 직전년도(1년간) 재직 근로자'!$E21 -> 0 | I22: =DATEDIF($G22,$H22,"d")+1 -> 1 | J22: =IF($I22>=30,"1","0") -> 0
B23: 13 | C23: ='0. 직전년도(1년간) 재직 근로자'!$C22&"" | D23: ='0. 직전년도(1년간) 재직 근로자'!$D22&"" | E23: ='0. 직전년도(1년간) 재직 근로자'!$E22 -> 0 | I23: =DATEDIF($G23,$H23,"d")+1 -> 1 | J23: =IF($I23>=30,"1","0") -> 0
B24: 14 | C24: ='0. 직전년도(1년간) 재직 근로자'!$C23&"" | D24: ='0. 직전년도(1년간) 재직 근로자'!$D23&"" | E24: ='0. 직전년도(1년간) 재직 근로자'!$E23 -> 0 | I24: =DATEDIF($G24,$H24,"d")+1 -> 1 | J24: =IF($I24>=30,"1","0") -> 0
B25: 15 | C25: ='0. 직전년도(1년간) 재직 근로자'!$C24&"" | D25: ='0. 직전년도(1년간) 재직 근로자'!$D24&"" | E25: ='0. 직전년도(1년간) 재직 근로자'!$E24 -> 0 | I25: =DATEDIF($G25,$H25,"d")+1 -> 1 | J25: =IF($I25>=30,"1","0") -> 0
B26: 16 | C26: ='0. 직전년도(1년간) 재직 근로자'!$C25&"" | D26: ='0. 직전년도(1년간) 재직 근로자'!$D25&"" | E26: ='0. 직전년도(1년간) 재직 근로자'!$E25 -> 0 | I26: =DATEDIF($G26,$H26,"d")+1 -> 1 | J26: =IF($I26>=30,"1","0") -> 0
B27: 17 | C27: ='0. 직전년도(1년간) 재직 근로자'!$C26&"" | D27: ='0. 직전년도(1년간) 재직 근로자'!$D26&"" | E27: ='0. 직전년도(1년간) 재직 근로자'!$E26 -> 0 | I27: =DATEDIF($G27,$H27,"d")+1 -> 1 | J27: =IF($I27>=30,"1","0") -> 0
... B210: 200 | C210: ='0. 직전년도(1년간) 재직 근로자'!$C209&"" | D210: ='0. 직전년도(1년간) 재직 근로자'!$D209&"" | E210: ='0. 직전년도(1년간) 재직 근로자'!$E209 -> 0 | I210: =DATEDIF($G210,$H210,"d")+1 -> 1 | J210: =IF($I210>=30,"1","0") -> 0
F212: 만 12세 이하 자녀를 둔 여성 근로자 (A) | H212: =COUNTA($F$11:$F$210) -> 0
F214: 육아기 근로시간 단축 사용 여성 근로자 (B) | H214: =COUNTIF(J11:J210,"1") -> 0
F216: 여성 육아기 근로시간 단축 사용률 (B/A) | H216: =H214/H212 -> #DIV/0!

Sheet 4-1-③. (남성) 육아휴직 사용률
B6: 4-1-③. (남성) 육아휴직 사용률
B7: ○ 직전년도 1년간 재직한 근로자 중 육아휴직 사용 근로자 - Sheet 1(0. 직전년도(1년간) 재직 근로자) 근로자 명단 그대로 활용 (수식 적용으로 자동 반영) ○ (만 8세 이하 자녀를 둔 남성 근로자(A)) '24. 12. 31. 기준 전체 재직 근로자 중 '22. 1. 1. ~ '24. 12. 31. 기간 동 기업에서 만 8세 이하 자녀를 둔 남성 근로자 ○ 표기 ○ (육아휴직 사용 남성 근로자(B)) (A) 근로자 중 '22. 1. 1. ~ '24. 12. 31. 기간 동 기업에서 육아휴직을 사용한 남성 근로자 작성 ※ 육아휴직을 최소 1개월(30일)이상 사용한 경우만 인정 / 동일 근로자가 '22. 1. 1. ~ '24. 12. 31. 기간 중 육아휴직을 2회 이상 사용한 경우 최초 1회만 작성 | M7: ※ 반드시 붉은색 테두리 부분만 작성 (나머지 부분은 수식 적용으로 자동 계산 및 반영)
B9: 연번 | C9: 성명 | D9: 사번 | E9: 입사년월 | F9: 만 8세 이하 자녀 여부 | G9: 육아휴직 | J9: 실적 인정 여부 (1: 인정│0: 불인정) | M9: 만 8세 이하 자녀를 둔 남성 근로자 | P9: =H212 -> 0
G10: 시작일 | H10: 종료일 | I10: 육아휴직 일수
B11: 1 | C11: ='0. 직전년도(1년간) 재직 근로자'!$C10&"" | D11: ='0. 직전년도(1년간) 재직 근로자'!$D10&"" | E11: ='0. 직전년도(1년간) 재직 근로자'!$E10 -> 0 | I11: =DATEDIF($G11,$H11,"d")+1 -> 1 | J11: =IF($I11>=30,"1","0") -> 0
B12: 2 | C12: ='0. 직전년도(1년간) 재직 근로자'!$C11&"" | D12: ='0. 직전년도(1년간) 재직 근로자'!$D11&"" | E12: ='0. 직전년도(1년간) 재직 근로자'!$E11 -> 0 | I12: =DATEDIF($G12,$H12,"d")+1 -> 1 | J12: =IF($I12>=30,"1","0") -> 0 | M12: 육아휴직 사용 남성 근로자 | P12: =H214 -> 0
B13: 3 | C13: ='0. 직전년도(1년간) 재직 근로자'!$C12&"" | D13: ='0. 직전년도(1년간) 재직 근로자'!$D12&"" | E13: ='0. 직전년도(1년간) 재직 근로자'!$E12 -> 0 | I13: =DATEDIF($G13,$H13,"d")+1 -> 1 | J13: =IF($I13>=30,"1","0") -> 0
B14: 4 | C14: ='0. 직전년도(1년간) 재직 근로자'!$C13&"" | D14: ='0. 직전년도(1년간) 재직 근로자'!$D13&"" | E14: ='0. 직전년도(1년간) 재직 근로자'!$E13 -> 0 | I14: =DATEDIF($G14,$H14,"d")+1 -> 1 | J14: =IF($I14>=30,"1","0") -> 0
B15: 5 | C15: ='0. 직전년도(1년간) 재직 근로자'!$C14&"" | D15: ='0. 직전년도(1년간) 재직 근로자'!$D14&"" | E15: ='0. 직전년도(1년간) 재직 근로자'!$E14 -> 0 | I15: =DATEDIF($G15,$H15,"d")+1 -> 1 | J15: =IF($I15>=30,"1","0") -> 0 | M15: 남성 육아휴직 사용률 | P15: =H216 -> #DIV/0!
B16: 6 | C16: ='0. 직전년도(1년간) 재직 근로자'!$C15&"" | D16: ='0. 직전년도(1년간) 재직 근로자'!$D15&"" | E16: ='0. 직전년도(1년간) 재직 근로자'!$E15 -> 0 | I16: =DATEDIF($G16,$H16,"d")+1 -> 1 | J16: =IF($I16>=30,"1","0") -> 0
B17: 7 | C17: ='0. 직전년도(1년간) 재직 근로자'!$C16&"" | D17: ='0. 직전년도(1년간) 재직 근로자'!$D16&"" | E17: ='0. 직전년도(1년간) 재직 근로자'!$E16 -> 0 | I17: =DATEDIF($G17,$H17,"d")+1 -> 1 | J17: =IF($I17>=30,"1","0") -> 0
B18: 8 | C18: ='0. 직전년도(1년간) 재직 근로자'!$C17&"" | D18: ='0. 직전년도(1년간) 재직 근로자'!$D17&"" | E18: ='0. 직전년도(1년간) 재직 근로자'!$E17 -> 0 | I18: =DATEDIF($G18,$H18,"d")+1 -> 1 | J18: =IF($I18>=30,"1","0") -> 0
B19: 9 | C19: ='0. 직전년도(1년간) 재직 근로자'!$C18&"" | D19: ='0. 직전년도(1년간) 재직 근로자'!$D18&"" | E19: ='0. 직전년도(1년간) 재직 근로자'!$E18 -> 0 | I19: =DATEDIF($G19,$H19,"d")+1 -> 1 | J19: =IF($I19>=30,"1","0") -> 0
B20: 10 | C20: ='0. 직전년도(1년간) 재직 근로자'!$C19&"" | D20: ='0. 직전년도(1년간) 재직 근로자'!$D19&"" | E20: ='0. 직전년도(1년간) 재직 근로자'!$E19 -> 0 | I20: =DATEDIF($G20,$H20,"d")+1 -> 1 | J20: =IF($I20>=30,"1","0") -> 0
B21: 11 | C21: ='0. 직전년도(1년간) 재직 근로자'!$C20&"" | D21: ='0. 직전년도(1년간) 재직 근로자'!$D20&"" | E21: ='0. 직전년도(1년간) 재직 근로자'!$E20 -> 0 | I21: =DATEDIF($G21,$H21,"d")+1 -> 1 | J21: =IF($I21>=30,"1","0") -> 0
B22: 12 | C22: ='0. 직전년도(1년간) 재직 근로자'!$C21&"" | D22: ='0. 직전년도(1년간) 재직 근로자'!$D21&"" | E22: ='0. 직전년도(1년간) 재직 근로자'!$E21 -> 0 | I22: =DATEDIF($G22,$H22,"d")+1 -> 1 | J22: =IF($I22>=30,"1","0") -> 0
B23: 13 | C23: ='0. 직전년도(1년간) 재직 근로자'!$C22&"" | D23: ='0. 직전년도(1년간) 재직 근로자'!$D22&"" | E23: ='0. 직전년도(1년간) 재직 근로자'!$E22 -> 0 | I23: =DATEDIF($G23,$H23,"d")+1 -> 1 | J23: =IF($I23>=30,"1","0") -> 0
B24: 14 | C24: ='0. 직전년도(1년간) 재직 근로자'!$C23&"" | D24: ='0. 직전년도(1년간) 재직 근로자'!$D23&"" | E24: ='0. 직전년도(1년간) 재직 근로자'!$E23 -> 0 | I24: =DATEDIF($G24,$H24,"d")+1 -> 1 | J24: =IF($I24>=30,"1","0") -> 0
B25: 15 | C25: ='0. 직전년도(1년간) 재직 근로자'!$C24&"" | D25: ='0. 직전년도(1년간) 재직 근로자'!$D24&"" | E25: ='0. 직전년도(1년간) 재직 근로자'!$E24 -> 0 | I25: =DATEDIF($G25,$H25,"d")+1 -> 1 | J25: =IF($I25>=30,"1","0") -> 0
B26: 16 | C26: ='0. 직전년도(1년간) 재직 근로자'!$C25&"" | D26: ='0. 직전년도(1년간) 재직 근로자'!$D25&"" | E26: ='0. 직전년도(1년간) 재직 근로자'!$E25 -> 0 | I26: =DATEDIF($G26,$H26,"d")+1 -> 1 | J26: =IF($I26>=30,"1","0") -> 0
B27: 17 | C27: ='0. 직전년도(1년간) 재직 근로자'!$C26&"" | D27: ='0. 직전년도(1년간) 재직 근로자'!$D26&"" | E27: ='0. 직전년도(1년간) 재직 근로자'!$E26 -> 0 | I27: =DATEDIF($G27,$H27,"d")+1 -> 1 | J27: =IF($I27>=30,"1","0") -> 0
... B210: 200 | C210: ='0. 직전년도(1년간) 재직 근로자'!$C209&"" | D210: ='0. 직전년도(1년간) 재직 근로자'!$D209&"" | E210: ='0. 직전년도(1년간) 재직 근로자'!$E209 -> 0 | I210: =DATEDIF($G210,$H210,"d")+1 -> 1 | J210: =IF($I210>=30,"1","0") -> 0
F212: 만 8세 이하 자녀를 둔 남성 근로자 (A) | H212: =COUNTA($F$11:$F$210) -> 0
F214: 육아휴직 사용 남성 근로자 (B) | H214: =COUNTIF(J11:J210,"1") -> 0
F216: 남성 육아휴직 사용률 (B/A) | H216: =H214/H212 -> #DIV/0!

Sheet 4-1-④. (남성) 육아기 근로시간 단축 사용률
B6: 4-1-④. (남성) 육아기 근로시간 단축 사용률
B7: ○ 직전년도 1년간 재직한 근로자 중 육아기 근로시간 단축 사용 근로자 - Sheet 1(0. 직전년도(1년간) 재직 근로자) 근로자 명단 그대로 활용 (수식 적용으로 자동 반영) ○ (만 12세 이하 자녀를 둔 남성 근로자(A)) '24. 12. 31. 기준 전체 재직 근로자 중 '22. 1. 1. ~ '24. 12. 31. 기간 동 기업에서 만 12세 이하 자녀를 둔 남성 근로자 ○ 표기 ○ (육아기 근로시간 단축 사용 남성 근로자(B)) (A) 근로자 중 '22. 1. 1. ~ '24. 12. 31. 기간 동 기업에서 육아기 근로시간 단축을 사용한 남성 근로자 작성 ※ 육아기 근로시간 단축을 최소 1개월(30일)이상 사용한 경우만 인정 / 동일 근로자가 '22. 1. 1. ~ '24. 12. 31. 기간 중 육아휴직을 2회 이상 사용한 경우 최초 1회만 작성 | M7: ※ 반드시 붉은색 테두리 부분만 작성 (나머지 부분은 수식 적용으로 자동 계산 및 반영)
B9: 연번 | C9: 성명 | D9: 사번 | E9: 입사년월 | F9: 만 12세 이하 자녀 여부 | G9: 육아기 근로시간 단축 | J9: 실적 인정 여부 (1: 인정│0: 불인정) | M9: 만 12세 이하 자녀를 둔 남성 근로자 | P9: =H212 -> 0
G10: 시작일 | H10: 종료일 | I10: 사용 일수
B11: 1 | C11: ='0. 직전년도(1년간) 재직 근로자'!$C10&"" | D11: ='0. 직전년도(1년간) 재직 근로자'!$D10&"" | E11: ='0. 직전년도(1년간) 재직 근로자'!$E10 -> 0 | I11: =DATEDIF($G11,$H11,"d")+1 -> 1 | J11: =IF($I11>=30,"1","0") -> 0
B12: 2 | C12: ='0. 직전년도(1년간) 재직 근로자'!$C11&"" | D12: ='0. 직전년도(1년간) 재직 근로자'!$D11&"" | E12: ='0. 직전년도(1년간) 재직 근로자'!$E11 -> 0 | I12: =DATEDIF($G12,$H12,"d")+1 -> 1 | J12: =IF($I12>=30,"1","0") -> 0 | M12: 육아기 근로시간 단축 사용 남성 근로자 | P12: =H214 -> 0
B13: 3 | C13: ='0. 직전년도(1년간) 재직 근로자'!$C12&"" | D13: ='0. 직전년도(1년간) 재직 근로자'!$D12&"" | E13: ='0. 직전년도(1년간) 재직 근로자'!$E12 -> 0 | I13: =DATEDIF($G13,$H13,"d")+1 -> 1 | J13: =IF($I13>=30,"1","0") -> 0
B14: 4 | C14: ='0. 직전년도(1년간) 재직 근로자'!$C13&"" | D14: ='0. 직전년도(1년간) 재직 근로자'!$D13&"" | E14: ='0. 직전년도(1년간) 재직 근로자'!$E13 -> 0 | I14: =DATEDIF($G14,$H14,"d")+1 -> 1 | J14: =IF($I14>=30,"1","0") -> 0
B15: 5 | C15: ='0. 직전년도(1년간) 재직 근로자'!$C14&"" | D15: ='0. 직전년도(1년간) 재직 근로자'!$D14&"" | E15: ='0. 직전년도(1년간) 재직 근로자'!$E14 -> 0 | I15: =DATEDIF($G15,$H15,"d")+1 -> 1 | J15: =IF($I15>=30,"1","0") -> 0 | M15: 남성 육아기 근로시간 단축 사용률 | P15: =H216 -> #DIV/0!
B16: 6 | C16: ='0. 직전년도(1년간) 재직 근로자'!$C15&"" | D16: ='0. 직전년도(1년간) 재직 근로자'!$D15&"" | E16: ='0. 직전년도(1년간) 재직 근로자'!$E15 -> 0 | I16: =DATEDIF($G16,$H16,"d")+1 -> 1 | J16: =IF($I16>=30,"1","0") -> 0
B17: 7 | C17: ='0. 직전년도(1년간) 재직 근로자'!$C16&"" | D17: ='0. 직전년도(1년간) 재직 근로자'!$D16&"" | E17: ='0. 직전년도(1년간) 재직 근로자'!$E16 -> 0 | I17: =DATEDIF($G17,$H17,"d")+1 -> 1 | J17: =IF($I17>=30,"1","0") -> 0
B18: 8 | C18: ='0. 직전년도(1년간) 재직 근로자'!$C17&"" | D18: ='0. 직전년도(1년간) 재직 근로자'!$D17&"" | E18: ='0. 직전년도(1년간) 재직 근로자'!$E17 -> 0 | I18: =DATEDIF($G18,$H18,"d")+1 -> 1 | J18: =IF($I18>=30,"1","0") -> 0
B19: 9 | C19: ='0. 직전년도(1년간) 재직 근로자'!$C18&"" | D19: ='0. 직전년도(1년간) 재직 근로자'!$D18&"" | E19: ='0. 직전년도(1년간) 재직 근로자'!$E18 -> 0 | I19: =DATEDIF($G19,$H19,"d")+1 -> 1 | J19: =IF($I19>=30,"1","0") -> 0
B20: 10 | C20: ='0. 직전년도(1년간) 재직 근로자'!$C19&"" | D20: ='0. 직전년도(1년간) 재직 근로자'!$D19&"" | E20: ='0. 직전년도(1년간) 재직 근로자'!$E19 -> 0 | I20: =DATEDIF($G20,$H20,"d")+1 -> 1 | J20: =IF($I20>=30,"1","0") -> 0
B21: 11 | C21: ='0. 직전년도(1년간) 재직 근로자'!$C20&"" | D21: ='0. 직전년도(1년간) 재직 근로자'!$D20&"" | E21: ='0. 직전년도(1년간) 재직 근로자'!$E20 -> 0 | I21: =DATEDIF($G21,$H21,"d")+1 -> 1 | J21: =IF($I21>=30,"1","0") -> 0
B22: 12 | C22: ='0. 직전년도(1년간) 재직 근로자'!$C21&"" | D22: ='0. 직전년도(1년간) 재직 근로자'!$D21&"" | E22: ='0. 직전년도(1년간) 재직 근로자'!$E21 -> 0 | I22: =DATEDIF($G22,$H22,"d")+1 -> 1 | J22: =IF($I22>=30,"1","0") -> 0
B23: 13 | C23: ='0. 직전년도(1년간) 재직 근로자'!$C22&"" | D23: ='0. 직전년도(1년간) 재직 근로자'!$D22&"" | E23: ='0. 직전년도(1년간) 재직 근로자'!$E22 -> 0 | I23: =DATEDIF($G23,$H23,"d")+1 -> 1 | J23: =IF($I23>=30,"1","0") -> 0
B24: 14 | C24: ='0. 직전년도(1년간) 재직 근로자'!$C23&"" | D24: ='0. 직전년도(1년간) 재직 근로자'!$D23&"" | E24: ='0. 직전년도(1년간) 재직 근로자'!$E23 -> 0 | I24: =DATEDIF($G24,$H24,"d")+1 -> 1 | J24: =IF($I24>=30,"1","0") -> 0
B25: 15 | C25: ='0. 직전년도(1년간) 재직 근로자'!$C24&"" | D25: ='0. 직전년도(1년간) 재직 근로자'!$D24&"" | E25: ='0. 직전년도(1년간) 재직 근로자'!$E24 -> 0 | I25: =DATEDIF($G25,$H25,"d")+1 -> 1 | J25: =IF($I25>=30,"1","0") -> 0
B26: 16 | C26: ='0. 직전년도(1년간) 재직 근로자'!$C25&"" | D26: ='0. 직전년도(1년간) 재직 근로자'!$D25&"" | E26: ='0. 직전년도(1년간) 재직 근로자'!$E25 -> 0 | I26: =DATEDIF($G26,$H26,"d")+1 -> 1 | J26: =IF($I26>=30,"1","0") -> 0
B27: 17 | C27: ='0. 직전년도(1년간) 재직 근로자'!$C26&"" | D27: ='0. 직전년도(1년간) 재직 근로자'!$D26&"" | E27: ='0. 직전년도(1년간) 재직 근로자'!$E26 -> 0 | I27: =DATEDIF($G27,$H27,"d")+1 -> 1 | J27: =IF($I27>=30,"1","0") -> 0
... B210: 200 | C210: ='0. 직전년도(1년간) 재직 근로자'!$C209&"" | D210: ='0. 직전년도(1년간) 재직 근로자'!$D209&"" | E210: ='0. 직전년도(1년간) 재직 근로자'!$E209 -> 0 | I210: =DATEDIF($G210,$H210,"d")+1 -> 1 | J210: =IF($I210>=30,"1","0") -> 0
F212: 만 12세 이하 자녀를 둔 남성 근로자 (A) | H212: =COUNTA($F$11:$F$210) -> 0
F214: 육아기 근로시간 단축 사용 남성 근로자 (B) | H214: =COUNTIF(J11:J210,"1") -> 0
F216: 남성 육아기 근로시간 단축 사용률 (B/A) | H216: =H214/H212 -> #DIV/0!

Sheet (가점 1) 여성 경력단절 예방 및 고용 촉진 노력
B6: (가점 1) 여성 경력단절 예방 및 고용 촉진 노력
B7: ○ 여성 경력단절 예방 및 고용 촉진 노력 - 경력단절 예방을 위한 노력·활동·내부 규정 등 작성 - 경력단절 여성 채용을 위한 노력 작성 ※ 반드시 증빙 가능한 내용만 작성 ○ 경력단절 여성 채용 실적 - (A) 최근 2년간('23. 1. 1. ~ '24. 12. 31.) 신규 채용 근로자 - (B) (A) 근로자 중 경력단절에 해당하는 여성 - (실적 인정 기준) 경력 단절 기간은 12개월(365일) 이상인 경우만 인정 - (실적 증빙 방법) 해당 근로자의 고용보험 가입 / 해지 내역, 이전 경력 증빙 등 ※ 경력단절여성 : 혼인·임신·출산·육아와 가족구성원의 돌봄 또는 근로조건 등을 이유로 경제활동을 중단했던 자(「여성의 경제활동 촉진과 경력단절 예방법」 준용 | J7: ※ 반드시 붉은색 테두리 부분만 작성 (나머지 부분은 수식 적용으로 자동 계산 및 반영)
B9: ○ 여성 경력단절 예방 및 고용 촉진 노력
B10: - 경력단절 예방을 위한 노력·활동·내부 규정 등 작성
B12: - 경력단절 여성 채용 노력 등 작성
B13: 500자 이내
B15: ○ 경력단절 여성 채용 실적
B16: 연번 | C16: 성명 | D16: 사번 | E16: 입사년월 | F16: 경력단절여성 해당 여부 | G16: 경력단절 기간 | K16: 실적 인정 여부 (1: 인정│0: 불인정) | M16: 최근 2년간 신규 채용 근로자(남·여) | P16: =H219 -> 0
G17: 시작일 | H17: 종료일 | I17: 경력단절 일수 | J17: 경력단절 사유
B18: 1 | I18: =DATEDIF($G18,$H18,"d")+1 -> 1 | K18: =IF($I18>=365,"1","0") -> 0
B19: 2 | I19: =DATEDIF($G19,$H19,"d")+1 -> 1 | K19: =IF($I19>=365,"1","0") -> 0 | M19: 신규 채용 근로자 중 경력단절여성 | P19: =H221 -> 0
B20: 3 | I20: =DATEDIF($G20,$H20,"d")+1 -> 1 | K20: =IF($I20>=365,"1","0") -> 0
B21: 4 | I21: =DATEDIF($G21,$H21,"d")+1 -> 1 | K21: =IF($I21>=365,"1","0") -> 0
B22: 5 | I22: =DATEDIF($G22,$H22,"d")+1 -> 1 | K22: =IF($I22>=365,"1","0") -> 0
B23: 6 | I23: =DATEDIF($G23,$H23,"d")+1 -> 1 | K23: =IF($I23>=365,"1","0") -> 0
B24: 7 | I24: =DATEDIF($G24,$H24,"d")+1 -> 1 | K24: =IF($I24>=365,"1","0") -> 0
B25: 8 | I25: =DATEDIF($G25,$H25,"d")+1 -> 1 | K25: =IF($I25>=365,"1","0") -> 0
B26: 9 | I26: =DATEDIF($G26,$H26,"d")+1 -> 1 | K26: =IF($I26>=365,"1","0") -> 0
B27: 10 | I27: =DATEDIF($G27,$H27,"d")+1 -> 1 | K27: =IF($I27>=365,"1","0") -> 0
B28: 11 | I28: =DATEDIF($G28,$H28,"d")+1 -> 1 | K28: =IF($I28>=365,"1","0") -> 0
B29: 12 | I29: =DATEDIF($G29,$H29,"d")+1 -> 1 | K29: =IF($I29>=365,"1","0") -> 0
B30: 13 | I30: =DATEDIF($G30,$H30,"d")+1 -> 1 | K30: =IF($I30>=365,"1","0") -> 0
B31: 14 | I31: =DATEDIF($G31,$H31,"d")+1 -> 1 | K31: =IF($I31>=365,"1","0") -> 0
... B217: 200 | I217: =DATEDIF($G217,$H217,"d")+1 -> 1 | K217: =IF($I217>=365,"1","0") -> 0
F219: 최근 2년간 신규 채용 근로자(남·여) (A) | H219: =COUNTA($C$18:$C$217) -> 0
F221: 신규 채용 근로자 중 경력단절여성 (B) | H221: =COUNTIF(K18:K217,"1") -> 0

Sheet (가점 2) 직장어린이집, 수유시설 및 산모휴게실 설치
B6: (가점 2) 직장어린이집, 수유시설 및 산모휴게실 설치
B7: ○ '24. 12. 31. 기준 직장어린이집 설치 및 운영 여부 - (직장어린이집 설치 인정 유형) 단독, 공동, 위탁 모두 인정 ※ 설치 및 운영 시, 반드시 증빙 사진 제출 ○ '24. 12. 31. 기준 수유시설 및 산모휴게실 설치 및 운영 여부 - (인정 기준) 여성 휴게실은 수유시설·산모 휴게 공간으로 인정하지 아니하며, 별도의 수유 시설·산모 휴게 공간이 설최된 경우에만 인정 ※ 설치 및 운영 시, 반드시 증빙 사진 제출
B9: ○ 직장어린이집 설치 및 운영 여부
B10: 구 분 | C10: 직장어린이집 소재지 | F10: 유형
B11: 1
B12: 2
B13: 3
B14: 4
B15: 5
B17: ○ 수유시설 및 산모휴게실 설치 및 운영 여부
B18: 구 분 | F18: 설치 및 운영 여부
B19: 수유시설 및 산모휴게실

Sheet (가점 3) 인증 또는 수상기업 실적
B6: (가점 3) 인증 또는 수상 기업 실적
B7: ○ 해당 인증 또는 수상 내역 모두 표기 - 최근 3년 이내('22. 1. 1. ~ '24. 12. 31.) 인증으로 제한 - 청년일자리강소기업에는 청년친화강소기업도 포함 ※ 실적 인정을 위해 반드시 증빙 서류(지정서·인증서) 제출
B9: ○ 인증 또는 수상기업 실적
B10: 구 분 | C10: 구분 | F10: 해당 여부
B11: 1 | C11: 가족친화인증기업 (여성가족부)
B12: 2 | C12: 청년일자리강소기업 (고용노동부)
B13: 3 | C13: 경영혁신중소기업 (중소벤처기업부)
B14: 4 | C14: 기술혁신중소기업 (중소벤처기업부)
B15: 5 | C15: 근로자휴가지원참여기업 (문화체육관광부)
