Workbook

Sheet 2025년도 모노즈쿠리 현장개선 진단지도 신청서
A1: 2025년도 모노즈쿠리 현장개선 진단지도 신청서
A2: 신청경로(√)* | L2: 1. 개발관리(개발단계관리, 개발품질확보관리)
A3: 기업정보 | B3: 기업명(한글) | J3: 대표이사명 | L3: 2. 구매관리(자재수불관리,자재재고관리,외주관리)
B4: 기업명(영문) | J4: 사업자 등록번호 | L4: 3. 생산관리(수요예측및 생산계획,실행관리,공정재공)
B5: 종업원수 | C5: 설립연도 | D5: 매출액(3년도/천원) | G5: 영업이익(3년도/천원) | J5: 주 생산품 | L5: 4. 공정관리(생산성향상,공정물류,레이아웃,3정5S)
D6: 2022 | E6: 2023 | F6: 2024 | G6: 2022 | H6: 2023 | I6: 2024 | L6: 5. 설비관리(설비효율관리,금형관리,기종변경단축)
L7: 6. 품질관리(자재/공정/출하/고객품질관리,품질경영,표준관리)
B8: 기술개발인력 | C8: ( ) 명 | D8: 부설 연구소(√)* | E8: ( ) 있음 | F8: ( ) 없음 | G8: 희망 컨설팅 기간 | L8: 7. 기타
B9: 주소
B10: 홈페이지
A11: 사업 신청자 정보 | B11: 성명(한글) | J11: 직위(직무내용)
B12: 회사 전화번호 (직통번호) | J12: 이메일
B14: 휴대폰 번호
A15: 개선 담당자 정보 | B15: 성명(한글) | J15: 직위(직무내용)
B16: 회사 전화번호 (직통번호) | J16: 이메일
B18: 휴대폰 번호
A19: 현장개선 추진 과제 | B19: 상세요구 개선항목 | C19: 2개 선택
B20: 문제점 및 애로사항
B21: * 선택하신 상세요구 개선항목에 관한 현장 내 문제점 및 애로사항을 작성해주세요.(문구는 삭제 후 작성) 1. 2. 3. 4. 5.
B22: 현수준 파악 및 목표 수치
B23: * 작성해주신 문제점 및 애로사항에 대한 현수준 및 목표를 가능한 수치화 부탁드립니다.(문구는 삭제 후 작성) Ex) 조립공정 생산 capa(현재 : 일 251개 → 목표 : 300개 이상) 1. 2. 3. 4. 5.
A24: 제출자료 체크사항 | B24: 1. 사업자등록증 (√)* | D24: ( ) 제출 | E24: ( ) 있음 | F24: ( ) 있음 | G24: ( ) 있음 | H24: ( ) 있음 | I24: 2. 기업소개자료(√)* | K24: ( ) 제출
D25: ( ) 있음 | E25: ( ) 있음 | F25: ( ) 있음 | G25: ( ) 있음 | H25: ( ) 있음 | I25: (공정흐름도 포함)* | K25: ( ) 있음

Sheet 사무국전용
A1: 기업정보
A2: 기업명(한글) | B2: 기업명(영문) | C2: 대표이사명 | D2: 사업자 등록번호 | E2: 종업원수 | F2: 설립연도 | G2: 매출액(3년도/천원) | J2: 영업이익(3년도/천원) | M2: 주 생산품 | N2: 기술개발인력 | O2: 부설 연구소(√)* | Q2: 희망컨설팅기간 | R2: 주소 | S2: 홈페이지
G3: 2022 | H3: 2023 | I3: 2024 | J3: 2022 | K3: 2023 | L3: 2024
A4: ='2025년도 모노즈쿠리 현장개선 진단지도 신청서'!C3 -> 0 | B4: ='2025년도 모노즈쿠리 현장개선 진단지도 신청서'!C4 -> 0 | C4: ='2025년도 모노즈쿠리 현장개선 진단지도 신청서'!K3 -> 0 | D4: ='2025년도 모노즈쿠리 현장개선 진단지도 신청서'!K4 -> 0 | E4: ='2025년도 모노즈쿠리 현장개선 진단지도 신청서'!B7 -> 0 | F4: ='2025년도 모노즈쿠리 현장개선 진단지도 신청서'!C7 -> 0 | G4: ='2025년도 모노즈쿠리 현장개선 진단지도 신청서'!D7 -> 0 | H4: ='2025년도 모노즈쿠리 현장개선 진단지도 신청서'!E7 -> 0 | I4: ='2025년도 모노즈쿠리 현장개선 진단지도 신청서'!F7 -> 0 | J4: ='2025년도 모노즈쿠리 현장개선 진단지도 신청서'!G7 -> 0 | K4: ='2025년도 모노즈쿠리 현장개선 진단지도 신청서'!H7 -> 0 | L4: ='2025년도 모노즈쿠리 현장개선 진단지도 신청서'!I7 -> 0 | M4: ='2025년도 모노즈쿠리 현장개선 진단지도 신청서'!J7 -> 0 | N4: ='2025년도 모노즈쿠리 현장개선 진단지도 신청서'!C8 -> ( ) 명 | O4: ='2025년도 모노즈쿠리 현장개선 진단지도 신청서'!E8 -> ( ) 있음 | P4: ='2025년도 모노즈쿠리 현장개선 진단지도 신청서'!F8 -> ( ) 없음 | Q4: ='2025년도 모노즈쿠리 현장개선 진단지도 신청서'!I8 -> 0 | R4: ='2025년도 모노즈쿠리 현장개선 진단지도 신청서'!C9 -> 0 | S4: ='2025년도 모노즈쿠리 현장개선 진단지도 신청서'!C10 -> 0
A6: 사업신청자 정보
A7: 성명(한글) | B7: 직위(직무내용) | C7: 회사 전화번호 (직통번호) | D7: 이메일 | E7: 휴대폰 번호
A8: ='2025년도 모노즈쿠리 현장개선 진단지도 신청서'!C11 -> 0 | B8: ='2025년도 모노즈쿠리 현장개선 진단지도 신청서'!K11 -> 0 | C8: ='2025년도 모노즈쿠리 현장개선 진단지도 신청서'!C12 -> 0 | D8: ='2025년도 모노즈쿠리 현장개선 진단지도 신청서'!J14 -> 0 | E8: ='2025년도 모노즈쿠리 현장개선 진단지도 신청서'!C14 -> 0
A10: 개선 담당자 정보
A11: 성명(한글) | B11: 직위(직무내용) | C11: 회사 전화번호 (직통번호) | D11: 이메일 | E11: 휴대폰 번호
A12: ='2025년도 모노즈쿠리 현장개선 진단지도 신청서'!C15 -> 0 | B12: ='2025년도 모노즈쿠리 현장개선 진단지도 신청서'!K11 -> 0 | C12: ='2025년도 모노즈쿠리 현장개선 진단지도 신청서'!C16 -> 0 | D12: ='2025년도 모노즈쿠리 현장개선 진단지도 신청서'!J18 -> 0 | E12: ='2025년도 모노즈쿠리 현장개선 진단지도 신청서'!C18 -> 0
