Workbook

Sheet 서식1
A1: [서식1]
A2: 2025년 「강원 행복일터 조성 사업」신청서 | K2: *해당란 체크 □ 제7회 강원특별자치도 일자리대상 수상기업 ■ 그외 일반기업
A3: 신청 기업 정보 | B3: 기업명 | H3: 사업자등록번호
B4: 주생산품 | H4: 사업자등록일자 | M4: 업력 (기업운영기간) | N4: OO년
B5: 주업종 | H5: 근로인원 (상시근로자) | I5: 2023년 12.31.기준 | K5: 총 명(남 O명, 여 O명)
B6: 대표자 | I6: 2024년 12.31.기준 | K6: 총 명(남 O명, 여 O명)
B7: 주소 | H7: 기업신용등급 (공고일 기준 유효한 등급)
B8: 매출액 | C8: 2023년 매출액 (단위: 백만원) | H8: 영업이익 | I8: 2023년 영업이익 (단위: 백만원)
C9: 2024년 매출액 (단위: 백만원) | I9: 2024년 영업이익 (단위: 백만원)
B10: 개선 예정지 | C10: - 자가건물 : 1 - 임대건물 : 2 | H10: 공사업체명
C11: - 본사 : 1 - 생산시설(공장) : 2 - 지점(지사) : 3 | H11: 공사현장주소 (상세위치)
C12: (작성방법) | E12: - 근로인원(상시근로자) : 2024년 12월 원천징수이행상황신고서 상 A01 인원 기재 - 자가건물이면 칸에 숫자 '1' 기재, 임대의 경우 숫자 '2' 기재 - 본사인 경우 숫자 '1', 별도 생산시설(공장)은 '2', 지점의 경우 '3' 기재 *강원특별자치도 일자리대상 제1회~제6회(2019~2024) 수상기업은 고용환경개선금 중복지원으로 신청 제외
A13: 고용 환경 개선 신청 내용 | B13: 금액 (원) | C13: 총 소요금액(총 사업비) | F13: 보조금 신청금액 | I13: 기업 부담금액 | L13: 자부담률(20% 이상 필수)
C14: 25000000 | F14: 20000000 | I14: =C14-F14 -> 5000000 | L14: =I14/C14 -> 0.2
B15: 공 사 명
B16: 공사대상 | C16: □ 복지증진시설 (휴게실, 식당, 직원숙소, 체력단련실 개선 등) | F16: □ 생활필수시설 (화장실, 샤워실, 세탁실 등) | I16: □ 사무시설 (교육장, 사무실, 접견시설, 회의실 등) | L16: □ 기타 작업환경 (환기시설, 배관, 바닥 등)
B17: 공사구분 | C17: □ 신규 설치(기존시설없음) 20년 이상 노후시설 | F17: □ 기존시설 개보수 (운영기간 : 00년) | I17: 근로자 의견수렴 여부 | K17: □ 의견수렴 실시 | M17: □ 의견수렴 미실시
B18: 공사개요 | C18: ①기간
C19: ②현장
C20: ③내용
B21: (작성방법) | D21: - 보조금(지원금) 신청금액은 부가가치세를 제외한 금액(원단위 기재)임. 보조금 지원 대상금액은 공급가액에 대해서만 지원하며, 지원금 이외의 비용(부가가치세 포함)은 기업자 부담비율에 따라 기업 부담금액으로 별도 처리하여야 함 - 공사대상 : 해당항목 ☑ 표시 (신청대상 및 지원제외) 공고문 확인 필수 - 총 소요금액, 보조금 신청금액 입력 시 기업부담금액 및 자부담률 자동계산(미기재)
A22: 추진 일정 | B22: 상세내역 | E22: 추진일정 | H22: 상세내역 | L22: 추진일정
B23: 1. 0000000 | E23: ex) 00.00~00.00 | H23: 6. 0000000 | L23: ex) 00.00~00.00
B24: 2. 0000000 | E24: ex) 00.00~00.00 | H24: 7. 0000000 | L24: ex) 00.00~00.00
B25: 3. 0000000 | E25: ex) 00.00~00.00 | H25: 8. 0000000 | L25: ex) 00.00~00.00
B26: 4. 0000000 | E26: ex) 00.00~00.00 | H26: 9. 0000000 | L26: ex) 00.00~00.00
B27: 5. 0000000 | E27: ex) 00.00~00.00 | H27: 준공일자 | L27: 00.00
A28: 담당자 | B28: 성 명 | H28: 전화번호
B29: 휴대전화 | H29: E-mail
A30: 2025년 강원 행복일터 조성사업에 지원하기 위하여 신청서 및 구비서류를 제출합니다.
A31: 2025년 월 일
A32: 대표자 (인)
A33: 강원특별자치도지사·철원군수 귀하

Sheet 서식2-1
A1: [서식2-1] | F1: * 정성평가 자료로 활용되므로, 최대한 구체적이고 상세히 기술
A2: 2025년 「강원 행복일터 조성 사업」 고용환경개선 공사계획 (1)
A4: 1. 신청배경 및 필요성(시설상태) | E4: 시설상태 각 사항별 상세히 기술
B5: 필수포함) 1. 시설상태 - 동일(유사)시설 보유 여부(근로인원, 성별 등 기업규모 고려)
B6: 2. 시설상태 - 공사예정지 내 부속품.시설 부식/파손 여부(시설 노후도)
B7: 3. 시설상태 - 근로자 안전 위해요소(포함) 해소
B8: 4. 시설상태 - 시설 활용도(근로자 이용 빈도/횟수, 인원수 등)
B9: 추가(고용환경개선사업 참여 배경 및 필요성 등) ※ 필요시 별지에 작성 가능
A10: 2. 공사개요 | E10: 상세히 기술
B11: 2-1. 공사기간 | D11: =서식1!D18 -> 0
B12: 2-2. 공사현장 | D12: =서식1!D19 -> 0
B13: 2-3. 공사내용 | D13: =서식1!D20 -> 0
A15: 3. 사업계획 수립 | E15: 사업계획 각 사항별 상세히 기술 ※ 건축물 관리 대장, 견적서 및 비교견적서, 공사도면 제출
B16: 필수포함) 1. 시설 상태 확인결과(기존 시설 미설치, 시설 노후도 등)
B17: 2. 고용환경개선사업 신청 전 근로자 의견 반영 과정(내부수요조사, 주 이용자 의견수렴 등)
B18: 3. 공사에 따른 법 위반사항 여부 사전 확인 및 사업비 산정 적정성 검토
B19: 4. 기업 근로형태 및 종사자 유형 고려 사항
B20: ※ 필요시 별지에 작성 가능
A22: 4. 사후관리 | E22: 사후관리 각 사항별 상세히 기술
B23: 필수포함) 1. 준공 후 활용계획
B24: 2. 사후관리 및 유지보수 계획(관리책임자 지정 등)
B25: 3. 개선에 따른 기대효과(예상이용자, 생산성 증대 등)
B26: ※ 필요시 별지에 작성 가능

Sheet 서식2-2
A1: [서식2-2]
A2: 2025년 「강원 행복일터 조성 사업」 공사계획 (2)
A4: 4. 공사 예정장소 현장사진
A7: 예) 기숙사 00관 00호실 | H7: 예) 00건물 휴게실
A10: 예) 00건물 화장실 | H10: 예) 00건물 휴게실
A13: 예) 00관 00호실 | H13: 예) 기숙사 OO호실
A17: ※ 공사계획서 및 견적서 별도 제출

Sheet 서식3
A1: [서식3]
A2: 2025년 「강원 행복일터 조성 사업」 예산운용 계획서
A4: 1. 총괄
A6: 공사기간 | D6: =서식1!D18 -> 0 | G6: 시공업체
A7: 공사총액 | D7: 보조금(신청액) | G7: 자부담액(기업부담) | J7: 비 고
A8: =서식1!C14 -> 25000000 | D8: =서식1!F14 -> 20000000 | G8: =서식1!I14 -> 5000000 | J8: ="자부담률"&" "&ROUND((G8/A8)*100,1)&"%" -> 자부담률 20%
A10: 2. 예산액 | D10: ※ 공사원가명세(재료비, 노무비, 경비 등)에 준하여 자세히 기재 ※ 견적서 및 비교견적서, 공사도면 제출 ※ 보조금(지원금) 신청금액은 부가가치세를 제외한 금액(원단위 기재)임. 보조금 지원 대상금액은 공급가액에 대해서만 지원하며, 지원금 이외의 비용(부가가치세 포함)은 기업자 부담비율에 따라 기업 부담금액으로 별도 처리하여야 함
A12: 구 분 | C12: 세부항목 | G12: 금 액 | J12: 구 성 비
A13: 공사원가 | B13: 재료비 | C13: 직접재료비
C14: 간접재료비
C15: 작업설․부산물등(△)
C16: 소계
B17: 노무비 | C17: 직접노무비
C18: 간접노무비
C19: 소계
B20: 경비 | C20: 기계경비
C21: 산재보험료
C22: 고용보험료
C23: 건강보험료
C24: 연금보험료
C25: 노인장기요양보험료
C26: 퇴직공제부금비
C27: 안전관리비
C28: 기타경비
C29: 환경보전비
C30: 건설하도급보증 수수료
C31: 건설기계대여보증수수료
C32: 소계
A33: 일반관리비
A34: 공사업체 이윤
A35: 폐기물 처리비
A36: 부가가치세
A37: 총 계
A38: ※ 공사계획서 및 견적서 별도 제출

Sheet 서식 4
A1: [서식4]
A2: 2025년 「강원 행복일터 조성 사업」 개인정보 수집ㆍ활용 동의 및 사업참여 확약서
A4: 신청기업 | B4: 기업명 | C4: =서식1!C3:G3 -> 0 | D4: 사업자등록번호 | E4: =서식1!K3 -> 0
A5: 대표자 (총괄책임자) | B5: 성명 | C5: =서식1!C6:G6 -> 0 | D5: 전화번호
B6: 휴대전화 | D6: 이메일
A7: 실무담당자 | B7: 성명 | C7: =서식1!C28:G28 -> 0 | D7: 전화번호 | E7: =서식1!L28 -> 0
B8: 휴대전화 | C8: =서식1!C29:G29 -> 0 | D8: 이메일 | E8: =서식1!L29 -> 0
A9: ※ 동의ㆍ확인ㆍ확약 사항에 대해서는 ‘■’ 또는 ‘v’ 표시
A10: □ 개인(신용)정보 수집ㆍ활용 동의 □ 동의함 □ 동의하지 않음 ▪ 상기 기업 및 개인(대표자, 총괄책임자)은 2025년 「강원 행복일터 조성 사업」에 개인 및 기업(신용)정보를 수집·이용·활용하는 것에 동의합니다. ▪ 수집･이용목적 : 사업 신청자 선정 및 지원, 기업 및 개인의 적법･적정성 평가 ▪ 수집 개인정보의 항목 : 성명, 생년월일, 연락처, 주소, 사업자등록번호, 연매출 등 ▪ 이용범위 : 행정목적 달성 및 사업진행을 위한 정보 제공, 일자리관련 사업정보 제공 ▪ 보유 및 이용기간 : 본인의 개인정보를 확약서가 작성된 때로부터 1항의 사용목적이 종료되는 시점까지 보유하는데 동의합니다. ※ 개인정보 수집동의를 거부하실 수 있으며, 이 경우 지원사업 신청이 제한됩니다.
A11: □ 사업 참여의사 확인 □ 확인함 □ 확인하지 않음 ▪ 상기 기업 및 개인(대표자, 총괄책임자)는 2025년 「강원 행복일터 조성 사업」에 참여를 위해 제출한 신청서 내용에 확인하고, 지원 대상으로 선정될 시 관련 법령 및 규정, 시행 지침 등을 준수하면서 사업에 적극 참여할 것을 확인합니다.
A13: =서식1!A31 -> 2025년 월 일
C14: 기업명 | D14: =서식1!C3 -> 0
C15: 대표자 | D15: =서식1!C6 -> 0 | E15: (서명 또는 날인)
C16: 실무책임자 | D16: =서식1!C28 -> 0 | E16: (서명 또는 날인)
A17: 강원특별자치도지사·철원군수 귀하

Sheet 서식 5
A1: [서식5]
A2: 2025년 「강원 행복일터 조성 사업」 자부담 납부 확약서 및 서약서
A4: 기업명 | C4: =서식1!C3 -> 0 | F4: 사업자등록번호 | H4: =서식1!K3 -> 0
A5: 본인은 2025년 「강원 행복일터 조성 사업」의 신청서 및 공사ㆍ자부담 납부 관련 서류 등 제출 서류를 성실하게 작성‧제출하겠습니다. 만일 허위 또는 부정한 방법으로 작성ㆍ제출된 사실이 확인된 경우는 선정 취소 (보조금 지급 시 전액 반환)는 물론 관련 법규에 의한 어떠한 처분도 감수하겠으며, 선정결과에 대해서는 어떠한 이의도 제기하지 않겠음을 엄숙히 서약합니다.
A13: =서식1!A31 -> 2025년 월 일
D14: 기업명 | F14: =C4 -> 0
D15: 대표자 | F15: =서식1!C6 -> 0 | I15: (서명 또는 날인)
A16: 강원특별자치도지사·철원군수 귀하

Sheet 서식 6
A1: [서식6]
A2: 2025년 「강원 행복일터 조성 사업」 사업추진 동의서
A4: 기업명 | C4: ='서식 4'!C4 -> 0 | F4: 사업자등록번호 | H4: ='서식 4'!E4 -> 0
A5: 공사 추진 건물 주소 | D5: =서식1!I11 -> 0
A7: 본인은 (기업명 : )이 위치한 건물의 소유주로서 2025년 「강원 행복일터 조성 사업」 추진에 따른 건물의 개ㆍ보수( )공사에 대해 해당 기업주 또는 기업 실무담당자에게 사전에 충분한 설명을 들었으며 향후 추진되는 공사 진행에 동의합니다.
A14: =서식1!A31 -> 2025년 월 일
E15: 생년월일
E16: 연락처
E17: 성명 | I17: (서명 또는 날인)
A18: 강원특별자치도지사·철원군수 귀하

Sheet 서식 7
A1: [서식7]
A2: 2025년 「강원 행복일터 조성 사업 부정이익환수 서약서
A4: 기업명 | C4: ='서식 4'!C4 -> 0 | F4: 사업자등록번호 | H4: ='서식 4'!E4 -> 0
A6: 당사는 다음 사항에 해당하는 경우 지원받은 보조금 전액 또는 일부를 반환하는 것에 동의합니다. ❍ 사업 완료 후 3년간 지원받은 공사 및 물품을 지원목적에 부합되도록 유지‧관리‧사용하지 않았을 경우(임의매각‧훼손‧분실 등 포함) ❍ 견적 부풀리기, 중고처분 등 부정한 방법으로 보조금을 지급 받아 사용한 경우 ※ 「공공재정 부정청구 금지 및 부정이익 환수 등에 관한 법률」시행(2020.01.01.)에 따라 부정청구 발생 시 ‘부정이익 환수, 허위·과다청구 및 목적 외 사용의 경우 최대 5배까지 제재부가금 부과, 고액부정청구행위자 명단공표, 부정청구 신고 처리 등’ 법적 의무사항이 발생합니다.
A14: =서식1!A31:N31 -> 2025년 월 일
D15: 기업명 | F15: ='서식 4'!C4 -> 0
D16: 대표자 | F16: ='서식 4'!C5 -> 0 | I16: (서명 또는 날인)
A17: 강원특별자치도지사·철원군수 귀하

Sheet 서식 8
A1: [서식8]
A2: 기업의 법위반 사실 확인을 위한 개인정보 수집 ∙ 이용 동의서
A4: 1. 개인 및 기업 수집정보
A5: 기업명(단체명) | C5: =서식1!C3 -> 0 | H5: 사업자등록번호 | K5: =서식1!K3 -> 0
A6: 소재지(주소) | C6: =서식1!C7 -> 0
A7: 대표자 성명 | C7: =서식1!C6 -> 0 | H7: 주민등록번호 | K7: 840728-1111111
A8: 2. 개인정보 수집기관 : 강원특별자치도, 신청서를 접수한 시군
A9: 3. 개인정보 수집 ∙ 이용에 대한 동의
A10: 개인정보 수집항목 | D10: 기업(단체)명, 기업(단체) 사업자등록번호, 기업소재지(주사무소, 영업소, 생산시설 소재지), 대표자성명, 대표자 주민등록번호, 법위반사실확인서
A11: 개인정보 수집 및 이용목적 | D11: 개인정보보호법 제3조(개인정보 보호 원칙), 제15조(개인정보의 수집ㆍ이용), 제17조(개인정보의 제공), 제22조(동의를 받는 방법)에 의거 법위반 사실확인
A12: 개인정보 보유 및 이용기간 | D12: 개인정보의 보유 및 이용기간은 당해연도 사업종료시까지임
A13: □ 개인정보 수집 및 이용에 동의함 □ 개인정보 수집 및 이용에 동의하지 않음
A14: 4. 개인정보 제 3자 제공에 대한 동의
A15: 제공목적 | D15: 기업경영활동 중 발생된 법위반사실 확인
A16: 제공항목 | D16: 기업(단체)명, 소재지, 사업자등록번호, 대표자성명, 대표자 주민등록번호
A17: 제공기관 | D17: ○ (공정거래위원회) 공정거래법, 하도급법, 표시광고법 위반 ○ (고용노동부, 고용노동부 지방청) 근로기준법, 산업안전보건법 위반 ○ (환경부, 관할 시군 환경부서) 폐기물관리법, 대기환경보전법, 소음진동관리법, 물환경보전법 위반 ○ (세무서, 시군) 국세기본법, 지방세기본법 위반
A18: □ 개인정보 제3자 제공에 대하여 동의함 □ 개인정보 제3자 제공에 대하여 동의하지 않음
A19: 5. 기타사항 : 상기 목적이외에는 개인정보 이용 및 제3자에게 제공하지 않습니다.
A20: 개인정보보호법 제3조(개인정보 보호 원칙), 제15조(개인정보의 수집ㆍ이용), 제17조(개인정보의 제공), 제22조(동의를 받는 방법)에 의거 개인정보 수집 및 이용에 동의합니다.
A21: =서식1!A31 -> 2025년 월 일
I22: 대표자 | J22: =서식1!C6 -> 0 | M22: (인)
A23: 강원특별자치도지사·철원군수 귀하

Sheet 서식 9
A1: [서식9]
A2: 기업의 법위반 사실(부존재) 여부 확약서
A4: 1. 개인 및 기업 수집정보
A5: 기업명(단체명) | C5: ='서식 8'!C5:G5 -> 0 | H5: 사업자등록번호 | K5: ='서식 8'!K5:N5 -> 0
A6: 소재지(주소) | C6: ='서식 8'!C6:N6 -> 0
A7: 대표자 성명 | C7: ='서식 8'!C7:G7 -> 0 | H7: 주민등록번호 | K7: ='서식 8'!K7:N7 -> 840728-1111111
A8: 2. 법위반 사실 확인 및 유의사항
A9: 개인정보 수집항목 | M9: 확인
A10: (공정거래위원회)공정거래법, 하도급법, 표시광고법 위반한 사실이 없음을 확인합니다. | M10: □
A11: (고용노동부, 고용노동부 지방청)근로기준법, 산업안전보건법 위반한 사실이 없음을 확인합니다. | M11: □
A12: (환경부, 관할 시군 환경부서)폐기물관리법, 대기환경보전법, 소음진동관리법, 물환경보전법 위반한 사실이 없음을 확인합니다. | M12: □
A13: (세무서, 시군)국세기본법, 지방세기본법 위반한 사실이 없음을 확인합니다. | M13: □
A14: (법위반사실 확인)법위반기업 지원제한 기준 고시 관련 법률 위반사실이 없음을 확인합니다. | M14: □
A15: 유의사항 고지 및 안내 | K15: 동의 | M15: 부동의
A16: 사업공모일 기준 2년이내 법위반사실이 없으며 사업자 선정후 법위반사실이 확인될 경우 사업선정 취소 및 사업비 반환에 동의합니다. | K16: □ | M16: □
A17: 법위반사실에 대해 위의 내용과 상이하거나 사실과 다르게 기재, 거짓으로 제출하여 선정된 경우 사업취소 및 사업비 환수, 3년간 도 전체 지원사업에서 제외됨을 고지 받고 이에 동의합니다. | K17: □ | M17: □
A18: 개인정보보호법 제3조(개인정보 보호 원칙), 제15조(개인정보의 수집ㆍ이용), 제17조(개인정보의 제공), 제22조(동의를 받는 방법)에 의거 개인정보 수집 및 이용에 동의합니다.
A19: ='서식 8'!A21:N21 -> 2025년 월 일
I20: 대표자 | J20: =서식1!C6 -> 0 | M20: (인)
A21: 강원특별자치도지사·철원군수 귀하

Sheet 정리표(기업 작성부분 아님-자동작성)
A1: 2021 경기도일자리우수기업 고용환경 개선사업 서류심사 자료
A3: 접수번호 | B3: 기업명 | C3: 대상지역 | D3: 서류점수 | E3: 운영기간점수 | F3: 고용증가점수 | G3: 증가율점수 | H3: 자부담점수 | I3: 사전동의 | J3: 주소 | K3: 대표자 | L3: 설립일 | M3: 인증일 | N3: 업종 | O3: 주생산품 | P3: 매출액(2019) | Q3: 근로인원 | R3: 증가인원 | S3: 증가율 | T3: 공사명 | U3: 지원분야 | V3: 환경 | W3: 대상구분 | X3: 대상 | Y3: 소유형태 | Z3: 소유 | AA3: 총예산 | AB3: 도비 | AC3: 자부담 | AD3: 자부담률 | AE3: 운영기간 | AF3: 운영 연 | AG3: 담당자 | AH3: 전화 | AI3: 휴대전화 | AJ3: 이메일
B4: =서식1!C3 -> 0 | C4: =서식1!K10 -> 0 | D4: =SUM(E4:I4) -> #REF! | E4: =IF(AF4>=10,5,IF(AF4>=8,4,IF(AF4>=6,3,IF(AF4>3,2,1)))) -> #REF! | F4: =IF(R4>=11,20,IF(R4>=9,16,IF(R4>=7,14,IF(R4>=5,12,10)))) -> #REF! | G4: =IF(S4>=25%,20,IF(S4>=20%,16,IF(S4>=15%,14,IF(S4>=10%,12,10)))) -> #REF! | H4: =IF(AD4>=0.5,10,IF(AD4>=0.45,8,IF(AD4>0.4,6,IF(AD4>=0.35,4,2)))) -> 2 | I4: =IF(Z4="임대",5,"동의서") -> 5 | J4: =서식1!H11 -> 공사현장주소 (상세위치) | K4: =서식1!C6 -> 0 | L4: =서식1!K4 -> 0 | M4: =서식1!#REF! -> #REF! | N4: =서식1!C5 -> 0 | O4: =서식1!C4 -> 0 | P4: =서식1!K6 -> 총 명(남 O명, 여 O명) | Q4: =서식1!F23 -> 0 | R4: =서식1!#REF! -> #REF! | S4: =서식1!#REF! -> #REF! | T4: =서식1!C15 -> 0 | U4: =서식1!M5 -> 0 | V4: =IF(U4=1,"작업환경","복지환경") -> 복지환경 | W4: =서식1!E11 -> 0 | X4: =IF(W4=1,"본사",(IF(W4=2,"생산","지사"))) -> 지사 | Y4: =서식1!E10 -> 0 | Z4: =IF(Y4=1,"자가","임대") -> 임대 | AA4: =서식1!C14 -> 25000000 | AB4: =서식1!F14 -> 20000000 | AC4: =서식1!I14 -> 5000000 | AD4: =서식1!L14 -> 0.2 | AE4: =서식1!#REF! -> #REF! | AF4: =AE4/12 -> #REF! | AG4: =서식1!C28 -> 0 | AH4: =서식1!K28 -> 0 | AI4: =서식1!C29 -> 0 | AJ4: =서식1!K29 -> 0
A8: - 작성불요
