Workbook

Sheet 기업현황조사표(기업작성용)
A1: [양식6] 2025년 우수인재 유치 및 우수경력자 인건비 지원사업 현황조사표
A3: ★ 사업신청서 및 계획서 상의 내용과 반드시 일치하여야 함. 기업현황조사표(기업작성용) 탭만 작성 완료하시면 됩니다. (이메일 제출용, 원본서류로 프린트 제출X)
A4: 구분 | B4: 신청기업 기본정보 | R4: 총 신청 인원 | S4: 총 신청 금액 | T4: 기업 현황 | AH4: 지원신청내용 (* 지원분야별 세부 내역 나눠서 작성) | AQ4: 지원신청내용 (* 지원분야별 세부 내역 나눠서 작성) | AZ4: 지원신청내용 (* 지원분야별 세부 내역 나눠서 작성)
B5: 기업명 | C5: 대표자 | D5: 사업자번호 | E5: 법인등록번호 | F5: 설립일 | G5: 주소 | H5: (인력근무지상이할 경우) 인력근무지주소 | I5: 주생산품 | J5: 대표자 | M5: 사업 실무담당자 | R5: 우수경력자 | S5: 우수경력자 | T5: 매출액(원) | W5: 종업원 수(명) | Z5: 부채비율(2024년 재무제표 기준) | AC5: 유동비율(2024년 재무제표 기준) | AF5: 자본잠식(2024년 재무제표 기준) | AH5: 지원유형 | AI5: 성명 | AJ5: 생년월일 | AK5: 연락처 | AL5: 입사일 (4대보험 자격득실확인서기준) | AM5: 2024년 연봉 | AN5: 2025년 연봉 | AO5: 지원금 신청액 | AP5: 지원신청가능금액 | AQ5: 지원유형 | AR5: 성명 | AS5: 생년월일 | AT5: 연락처 | AU5: 입사일 | AV5: 2024년 연봉 | AW5: 2025년 연봉 | AX5: 지원금 신청액 | AY5: 지원신청가능금액 | AZ5: 지원유형 | BA5: 성명 | BB5: 생년월일 | BC5: 연락처 | BD5: 입사일 (4대보험 자격득실확인서기준) | BE5: 2024년 연봉 | BF5: 2025년 연봉 | BG5: 지원금 신청액 | BH5: 지원신청가능금액
J6: 이름 | K6: 휴대폰 | L6: 이메일 | M6: 이름 | N6: 직위 | O6: 내선번호 | P6: 휴대폰 | Q6: 이메일 | R6: *자동산출 | S6: *자동산출 | T6: 2022년 | U6: 2023년 | V6: 2024년 | W6: 2022년 | X6: 2023년 | Y6: 2024년 | Z6: 자본총액(원) | AA6: 부채총액(원) | AB6: 비율(%) *자동산출 | AC6: 유동자산(원) | AD6: 유동부채(원) | AE6: 비율(%) *자동산출 | AF6: 자본금(원) | AG6: 비율(%) *자동산출 | AM6: (단위:원) | AN6: (단위:원) | AO6: (단위:원) | AP6: *자동산출(참고) | AU6: (4대보험 자격득실확인서기준) | AV6: (단위:원) | AW6: (단위:원) | AX6: (단위:원) | AY6: *자동산출(참고) | BE6: (단위:원) | BF6: (단위:원) | BG6: (단위:원) | BH6: *자동산출(참고)
A7: 1 | B7: ㈜000000 | D7: "-" 포함 숫자 기입 | E7: "-" 포함 숫자 기입 | F7: 0000.00.00 | R7: =COUNTA(AI7,AR7,BA7) -> 0 | S7: =AP7+AY7+BH7 -> 0 | AB7: =+AA7/Z7*100 -> #DIV/0! | AE7: =+AC7/AD7*100 -> #DIV/0! | AG7: =(AF7-Z7)/AF7 -> #DIV/0! | AH7: 우수경력자1 | AJ7: 2000.01.02 | AK7: 010-1234-5678 | AL7: 43831 | AP7: =ROUNDDOWN((IF((AN7-AM7)>6000000,6000000,(AN7-AM7))),-3) -> 0 | AQ7: 우수경력자2 | AS7: 2000.01.03 | AT7: 010-1234-5678 | AU7: 43862 | AY7: =ROUNDDOWN((IF((AW7-AV7)>6000000,6000000,(AW7-AV7))),-3) -> 0 | AZ7: 우수경력자3 | BB7: 2000.01.04 | BC7: 010-1234-5678 | BH7: =ROUNDDOWN((IF((BF7-BE7)>6000000,6000000,(BF7-BE7))),-3) -> 0
A8: ※ 작성 후 빨간색 글씨는 변경하여 제출

Sheet (자동반영_삭제금지)
A1: 아래 서식의 경우 "기업현황조사표" 내용으로 자동 반영 되므로 수정 금지
A2: 기업명 | B2: 대표자명 | C2: 설립일 | D2: 지원유형 | E2: 성명 | F2: 생년월일 | G2: 연락처 | H2: 기본자격해당여부(해당분야에 체크, 중복시 평가 자격으로 선택) | J2: 입사(예정)일 | K2: 2024년 연봉 | L2: 2025년 연봉 | M2: 지원금 신청액 | N2: 신청가능금액
H3: 석박사소지자 | I3: 관련직무3년이상 | K3: (단위:원) | L3: (단위:원) | M3: (단위:원) | N3: *자동산출(참고)
A4: ='기업현황조사표(기업작성용)'!B7 -> ㈜000000 | B4: ='기업현황조사표(기업작성용)'!C7 -> 0 | C4: ='기업현황조사표(기업작성용)'!F7 -> 0000.00.00 | D4: 우수인재 | E4: ='기업현황조사표(기업작성용)'!#REF! -> #REF! | F4: ='기업현황조사표(기업작성용)'!#REF! -> #REF! | G4: ='기업현황조사표(기업작성용)'!#REF! -> #REF! | H4: ='기업현황조사표(기업작성용)'!#REF! -> #REF! | I4: ='기업현황조사표(기업작성용)'!#REF! -> #REF! | J4: ='기업현황조사표(기업작성용)'!#REF! -> #REF! | L4: ='기업현황조사표(기업작성용)'!#REF! -> #REF! | M4: ='기업현황조사표(기업작성용)'!#REF! -> #REF! | N4: ='기업현황조사표(기업작성용)'!#REF! -> #REF!
A5: ㈜000000 | B5: 0 | C5: 0000.00.00 | D5: 우수경력자 | E5: ='기업현황조사표(기업작성용)'!AI7 -> 0 | F5: ='기업현황조사표(기업작성용)'!AJ7 -> 2000.01.02 | G5: ='기업현황조사표(기업작성용)'!AK7 -> 010-1234-5678 | J5: ='기업현황조사표(기업작성용)'!AU7 -> 43862 | K5: ='기업현황조사표(기업작성용)'!AV7 -> 0 | L5: ='기업현황조사표(기업작성용)'!AW7 -> 0 | M5: ='기업현황조사표(기업작성용)'!AX7 -> 0 | N5: ='기업현황조사표(기업작성용)'!AP7 -> 0
A6: ㈜000000 | B6: 0 | C6: 0000.00.00 | D6: 우수경력자 | E6: ='기업현황조사표(기업작성용)'!AR7 -> 0 | F6: ='기업현황조사표(기업작성용)'!AS7 -> 2000.01.03 | G6: ='기업현황조사표(기업작성용)'!AT7 -> 010-1234-5678 | J6: ='기업현황조사표(기업작성용)'!AU7 -> 43862 | K6: ='기업현황조사표(기업작성용)'!AV7 -> 0 | L6: ='기업현황조사표(기업작성용)'!AW7 -> 0 | M6: ='기업현황조사표(기업작성용)'!AX7 -> 0 | N6: ='기업현황조사표(기업작성용)'!AY7 -> 0
A7: ㈜000000 | B7: 0 | C7: 0000.00.00 | D7: 우수경력자 | E7: ='기업현황조사표(기업작성용)'!BA7 -> 0 | F7: ='기업현황조사표(기업작성용)'!BB7 -> 2000.01.04 | G7: ='기업현황조사표(기업작성용)'!BC7 -> 010-1234-5678 | J7: ='기업현황조사표(기업작성용)'!BD7 -> 0 | K7: ='기업현황조사표(기업작성용)'!BE7 -> 0 | L7: ='기업현황조사표(기업작성용)'!BF7 -> 0 | M7: ='기업현황조사표(기업작성용)'!BG7 -> 0 | N7: ='기업현황조사표(기업작성용)'!BH7 -> 0
