Workbook

Sheet 사용설명서
B2: [자가진단 사용설명서(요약 매뉴얼)]
B3: 1. 자가진단서 구성 이해
C4: 가. 파일 구조 이해 하기 : 파일은 아래와 같이 6개 Sheet로 구성되어 있음.
D15: 1) | E15: 사용설명서 : 본 사용매뉴얼을 요약해서 작성 방법을 설명
D16: 2) | E16: 종합-평가 : 지표별 평균점수 분포(그래프), ESG 분야별 평점, 종합평점, 종합등급(7등급), 등급정의로 구성(검색만 할 수 있도록 비활성화 시킴)
D17: 3) | E17: P-공시 : 공시 영역(4개)에 대한 지표별 자가진단용 점검항목(체크리스트) 및 요약정의서 (항목설명/성과점검/추가설명)로 구성되어 있음.
D18: 4) | E18: E-환경 : 환경 영역(18개)에 대한 지표별 자가진단용 점검항목(체크리스트) 및 요약정의서 (항목설명/성과점검/추가설명)로 구성되어 있음.
D19: 5) | E19: S-사회 : 사회 영역(32개)에 대한 지표별 자가진단용 점검항목(체크리스트) 및 요약정의서 (항목설명/성과점검/추가설명)로 구성되어 있음.
D20: 6) | E20: G-지배구조 : 지배구조 영역(6개)에 대한 지표별 자가진단용 점검항목(체크리스트) 및 요약 정의서(항목설명/성과점검/추가설명)로 구성되어 있음.
C21: 나. P/E/S/G 영역별 Sheet 구성 이해 하기
D22: 각 Sheet는 “1)범주, 2)분류번호, 3)진단항목, 4)단계(평가단계), 5)점검기준(질문내용-체크리스트), 6)참고(평가기준), 7)Check(평가자 입력), 8)요약정의서(항목설명, 성과점검, 추가설명)” 등 10개 항목으로 구성됨.
D35: 1) | E35: 범주/분류번호 : 평가지표를 구분하기 위해 참조하도록 분류한 것임.
D36: 2) | E36: 진단항목/단계(평가단계) : 자가진단을 실시할 진단항목과 진단항목별 평점을 부여할 단계를 의미
E37: (예시)- 1단계: 0점, 2단계: 25점, 3단계: 50점, 4단계: 75점, 5단계: 100점을 부여
D38: 3) | E38: 점검기준(질문내용-체크리스트) : 진단항목별로 평점을 부여할 단계를 세부적으로 설명하고 있는 점검기준
D39: 4) | E39: 참고(평가기준) : 체크할 진단항목이 중복으로 있을 경우 해당되는 개수에 참고하여 평점을 부여할 단계(요건)를 의미
E40: 1단계: 5개 점검기준 중 1개 이하 충복, 2단계: 5개 점검기준 중 2개 중복,
E41: 3단계: 5개 점검기준 중 3개 중복, 4단계: 5개 점검기준 중 4개 중복,
E42: 5단계: 5개 점검기준 중 5개 중복)
D43: 5) | E43: Check(평가자 입력) : 점검기준(질문내용)별로 평가회사의 상황과 일치하는 항목에 Check하는 범위(Box)임.
D44: 6) | E44: 요약정의서(항목설명/성과점검/추가설명) : 진단항목별로 단계(평가)을 부여(Check)할 기준을 자세히 설명하는 내용으로 평가자는 이곳의 내용을 참고하여 해당 항목의 단계를 분석해야 함.
E45: -항목설명 : 점검 및 확인할 사항에 대한 항목범위(종류) 및 판단기준을 기술
E46: -성과점검 : 점검항목, 측정결과가 수록되어 있을 자료종류 및 분석데이터기준(원천,기간,범위,산식)을 기술
E47: -추가설명 : ‘항목설명 및 성과점검“에서 설명할 내용에 대해 추가적인 내용 설명을 기술
B49: 2. 자가진단서 작성(check) 하기
C50: 가. 파일 불러오기
E51: : PC(or USB)에 저장된 자가진단용 ‘콘크리트 2차 제품 기업의 ESG 사전진단용 Excel’ 파일을 불러(열기: open) 오기
C52: 나. 체크리스트 작성시 유의사항
E53: : 질문항목별 해당 칸(Cell) 에 Check<숫자 "1" 입력>하려면 객관적으로 확인할 수 있는 해당 증빙(문서화, 데이터 등)이 확보되어야 함.
C54: 다. 체크리스트 작성
E55: : Check 열( "I" Column ) 에 기입되어 있는 숫자를 모두 삭제(Del Key)시켜 빈칸(공란)이 되게 만든다. (문자도 제거)
E56: : 빈칸(cell)에 문자가 입력되지 않도록 하고, 단계별로 해당하는 입력 칸(cell)에 반드시 숫자 "1"을 기입해야 한다.
E57: : 파일 내 4개 영역별로 구분된 Sheet(P-공시, E-환경, S-사회, G-지배구조 영역)별 ( )의
E58: 각 해당 영역(Sheet)을 클릭한 후, 점검(평가)할 해당 진단항목별 “Check(살구색)”의 Box(적색선) 안<cell>에 반드시
E59: 숫자 “1”을 입력한다.
E60: : 체크할 "단계(E column)"에 해당하는 "점검기준(질문내용)"이 없을 경우 숫자 "1"을 입력하지 않고 빈칸(공란)으로 둔다.
C74: 라. Check [점검 책임자<담당자>가 입력하는 범위]
D75: 1) | E75: 진단항목에 대한 단계(평가)별 Check 기준을 자세히 설명하는 3개 열(K/L/M Column)에 있는 요약정의서(항목설명/성과점검/추가설명)의 설명을 이해하고,
D76: 2) | E76: 사전진단(평가) 담당자는 점검기준(질문내용)별<F Column>로 점검회사의 상황에 해당하는 단계별 행(Row)의 Check열<I Column>에 숫자 "1"입력함.
E77: ※ “해당 점검기준(질문내용)의 해당 사항이 있는 단계별 열(Row)의 칸(cell)에 반드시 숫자 “ 1 ” 을 입력해야 함.
...

Sheet 종합-평가
B1: [종합분석 결과]
B2: 구분 | C2: 항목별 분포
B3: P 공시 | D3: =참고!AF6 -> #DIV/0!
B9: E 환경 | D9: =참고!AF7 -> #DIV/0!
B15: S 사회 | D15: =참고!AF8 -> #DIV/0!
B21: G 지배구조 | D21: =참고!AF9 -> #DIV/0!
B27: 평점 및 등급
D29: =참고!AF11 -> #DIV/0!
D31: ="총평점"&": "&ROUND(SUM(D3:D26),1) -> #DIV/0!
B36: [등급 정의]
B37: 구분 | C37: 등급정의
B38: 1등급 | C38: 환경(E), 사회(S), 지배구조(G) 부분에서 위험 요인을 매우 적극적으로 관리하고 있으며, 향후 ESG 리스크 관리를 통한 ESG 기반의 기업가치 증진 가능성이 평균보다 매우 우수함.
B39: 2등급 | C39: 환경(E), 사회(S), 지배구조(G) 부분에서 위험 요인을 적극적으로 관리하고 있으며, 향후 ESG 리스크 관리를 통한 ESG기반의 기업가치 증진 가능성이 평균보다 평균보다 우수함.
B40: 3등급 | C40: 환경(E), 사회(S), 지배구조(G) 부분에서 위험 요인을 관리하고 있으며, 향후 ESG 리스크 관리를 통한 ESG기반의 기업가치 증진 가능성이 평균보다 양호함.
B41: 4등급 | C41: 환경(E), 사회(S), 지배구조(G) 부분에서 위험 요인의 관리 노력이 필요하며, 향후 ESG 리스크 관리를 통한 ESG기반의 기업가치 증진 가능성이 보통 수준임.
B42: 5등급 | C42: 환경(E), 사회(S), 지배구조(G) 부분에서 위험 요인의 개선 노력이 필요하며, 향후 ESG 리스크 관리를 통한 ESG기반의 기업가치 증진에 불확실성이 평균보다 미흡함.
B43: 6등급 | C43: 환경(E), 사회(S), 지배구조(G) 부분에서 위험 요인의 개선 활동이 필요하며, 향후 ESG 리스크 관리를 통한 ESG기반의 기업가치 증진에 불확실성이 평균보다 매우 미흡함.
B44: 7등급 | C44: 환경(E), 사회(S), 지배구조(G) 부분에서 위험 요인의 적극적인 개선 활동이 매우 필요하며, 향후 ESG 리스크 관리를 통한 ESG기반의 기업가치 증진에 불확실성이 매우 높음.

Sheet P-공시
B2: 영역 : 정보공시(P) | K2: 설명자료
B3: 범주 | C3: 분류번호 | D3: 진단항목 | E3: 단계 | F3: 점검기준(질문내용) | H3: 참고 | I3: check | K3: 항목설명 | L3: 성과점검 | M3: 추가설명 | N3: 기타
B4: 정보공시 형식 | C4: P-1-1 | D4: ESG 정보공시 방식 | E4: 1 | F4: 조직이 어떠한 방식으로든 ESG 정보를 공시하지 않는 경우 | K4: ▶ 정보 수요자의 접근성을 고려한 ESG 정보공시 방식을 정립하고 있는지 점검 ▶ 온/오프라인 채널 운영 및 외부 확산/전파 등 정보 접근성 향상을 위한 노력을 확인 | L4: 홈페이지, 지속가능경영보고서, 사업보고서, 기타 간행물 등에 ESG 정보가 종합적으로 수록되어 있는지, ESG 정보공시 여부를 대외에 알리는지 측정 [데이터 원천] 홈페이지, 지속가능경영보고서, 사업보고서, 기타 간행물, 전자공시시스템 上 ‘자율공시’ [데이터 기간] 직전 회계연도 기준 | M4: ▶ 정기적으로 특정한 정보공시 창구(홈페이지, 사업보고서, 지속가능경영보고서, 기타 간행물 등)에 ESG 관련 정보를 종합적으로 수록하고 있으며, 정보공시 여부를 대내외에 알리는 행위를 한 경우 ESG 정보공시를 하였다고 정의
E5: 2 | F5: 조직의 홈페이지, 지속가능경영보고서, 사업보고서, 기타 간행물 등에 ESG 정보를 분산하여 공시하고 있는 경우
E6: 3 | F6: 조직의 홈페이지, 지속가능경영보고서, 사업보고서, 기타 간행물 등에 ESG 정보를 통합하여 공시하고 있는 경우
E7: 4 | F7: 통합된 ESG 정보가 담긴 조직의 홈페이지, 지속가능경영보고서, 사업보고서, 기타 간행물 등을 지정된 장소에 비치하거나, 특정 URL에 담고 있는 경우
E8: 5 | F8: 통합된 ESG 정보가 담긴 조직의 홈페이지, 지속가능경영보고서, 사업보고서, 기타 간행물 등의 발행여부를 ‘전자공시시스템-자율공시’ 사항으로 알리는 경우
C9: P-1-2 | D9: ESG 정보공시 주기 | E9: 1 | F9: ESG 정보공시 주기를 특정할 수 없거나, 명시하고 있지 않는 경우 | K9: ▶ 정보 수요자의 의사결정 및 가치판단에 필요한 ESG 정보를 적시에 제공하고 있는지 점검 ▶ ESG 데이터 취합/분석/마감 기간을 고려하여 1년 단위로 ESG 정보공시 주기를 설정하고 있는지 확인 | L9: ESG 정보공시 일자 또는 지속가능경영보고서 상 ‘발간 주기’를 확인하여 조직이 1년 단위로 ESG 정보를 공시하고 있는지 측정 [데이터 원천] ESG 공시 일자, 지속가능경영보고서 발간 주기 [데이터 기간] 최근 5개년 회계연도 | M9: ▶ ESG 정보를 효과적으로 활용하기 위해서는 ESG 정보를 주기적으로 공시하는 것이 중요함. ▶ ESG 정보공시 주기를 자율적으로 정할 수 있다. 규제 및 표준을 제정하는 기관은 공시 주기를 1년 단위로 제시
E10: 2 | F10: 2년 단위로 보고서 발간 및 ESG 정보를 공시하는 경우
E11: 3 | F11: 1년 단위로 보고서 발간 및 ESG 정보를 공시하는 경우
C12: P-1-3 | D12: ESG 정보공시 범위 | E12: 1 | F12: ESG 정보공시 범위를 특정할 수 없거나, 명시하고 있지 않는 경우 | K12: ▶ ESG 활동 및 성과를 충분히 대표할 수 있는 정보가 공시되고 있는지 점검 ▶ 영향력과 통제력이 미치는 사업장(자회사 포함)의 ESG 정보가 최대한 공시되고 있는지 확인 | L12: ESG 정보공시에 필요한 데이터를 취합하는 사업장 등의 범위를 비율(%)로 계산(매출액, 직원 수, 생산량 등을 모수로 활용) [데이터 원천] 홈페이지, 지속가능경영보고서, 사업보고서, 전자공시시스템 上 ‘자율공시’ [데이터 기간] 직전 회계연도 기준 [데이터 범위] 사업적 영향력과 통제력을 행사하는 사업장 및 기타 연결실체 [데이터 산식] ESG 정보공시에 포함된 사업장 등(매출액 등)/전체 조직(매출액 등) | M12: ▶ ‘영향력’과 ‘통제력’이 행사되는 범위에서 발생하는 환경,사회,지배구조 관련 정보 공시 필요(예; US GAAP, IFRS회계지침에는 20% 이상 지분을 보유한 조직을 상당한 영향력이 행사되는 조직으로 간주) ▶ 본 ‘ESG 정보공시 범위’ 항목 정의서에서 제시하는 ESG정보공시 최대범위는 1)직접 소유 및 관리 사업장, 2)지분율 상 상당한 영향력을 행사하는 조직(자회사 등), 3)기타 운영구조 상 상당한 통제력을 행사하는 조직(연결법인 등) 등으로 함.
E13: 2 | F13: 조직이 법적으로 직접 소유하고 있는 사업장(ex. 별도재무제표 기준)의 일부 또는 모든 ESG 정보를 공시하고 있는 경우
E14: 3 | F14: 조직의 영향력과 통제력 범위에 있는 곳(자회사, 종속법인, 연결실체 등)의 일부 ESG 정보를 공시하고 있는 경우
E15: 4 | F15: 조직의 영향력과 통제력 범위에 있는 곳(자회사, 종속법인, 연결실체 등)의 일부 ESG 정보를 공시하고 있는 경우. 단, 조직의 영향력과 통제력 범위로 ESG 정보공시 범위를 확대한다는 계획을 제시하고 있는 경우
E16: 5 | F16: 조직의 영향력과 통제력 범위에 있는 곳(자회사, 종속법인, 연결실체 등)의 모든 ESG 정보를 공시하고 있는 경우
C17: P-1-4 | D17: ESG 정보공시 검증 | E17: 요건1 | F17: 검증의견서에 검증기관(또는 검증인)이 명시되어 있는 경우 (또는, 검증기관이 License Number를 보유하고 있는 경우) | H17: 1개 이하충복 | K17: ▶ 대외 공시하는 ESG 정보가 타당성/신뢰성/투명성을 확보하고 있는지 확인 ▶ 대외 공시하는 정보에 관해 제3자 기관으로부터 검증을 받는 경우 해당 검증의견이 갖추어야 할 형식적 요건을 점검 | L17: ESG 정보 검증의견서가 갖추어야 할 요건인 ‘검증기관의 적격성’, ‘검증기관과의 독립성’, ‘검증방법론의 합리성’, ‘검증수준의 명확성’, ‘검증지표의 구체성’이 충족되고 있는지 측정 [데이터 원천] ESG 정보 검증의견서, 지속가능경영보고서 검증의견서 [데이터 기간] 직전 회계연도 기준 | M17: ▶ ESG 정보공시 지표 및 기준을 자율적으로 선택할 수 있으며, ESG 정보가 갖추어야 할 신뢰성을 강제할 수 있는 법적/제도적 장치도 마련되어 있지 않아 ESG 정보 검증으로 공시하는 ESG 정보의 신뢰성을 확보하는 수단으로 인정받고 있음. ▶ 제3자 검증기관은 합리적이고 신뢰할 수 있는 방식으로 검증을 수행해야 하며, 검증을 받는 조직도 글로벌 검증표준 등에 부합하여 ESG 정보가 검증되었는지 점검할 필요가 있음.
E18: 요건2 | F18: 검증의견서에 검증기관과의 독립성 성명이 포함되어 있는 경우 (즉, 검증기관과 검증받는 조직간 이해관계 상충이 없음을 선언한 경우) | H18: 2개 충족
E19: 요건3 | F19: 검증의견서에 검증표준(방법론)이 제시되어 있는 경우 (AA1000AS, ISAE3000, 또는 제3자 검증기관이 개발한 자체 검증표준 등) | H19: 3개 충족
E20: 요건4 | F20: 검증의견서에 ESG 정보 검증수준을 공개하고 있는 경우 (Type1/Type2, Moderate/High, 제한적/합리적 등) | H20: 4개 충족
E21: 요건5 | F21: 검증의견서에 제3자 검증기관이 검증한 정보공시 지표가 적시되어 있는 경우 (즉, 조직의 모든 ESG 정보 중 어떠한 정보를 검증하였는지 명시하는 경우) | H21: 5개 충족

Sheet E-환경
B2: 영역 : 환경(E) | K2: 설명자료
B3: 범주 | C3: 분류번호 | D3: 진단항목 | E3: 단계 | F3: 점검기준(질문내용) | H3: 참고 | I3: check | K3: 항목설명 | L3: 성과점검 | M3: 추가설명 | N3: 기타
B4: 환경경영 체계 | C4: E-1-1 | D4: 환경경영 추진체계 | E4: 요건1 | F4: 환경경영 추진을 위한 전담조직 구성 및 직원대상 교육실시 등 | H4: 1개 이하 충족 | K4: ▶ 환경성과 향상과 환경 개선 등 경영활동을 통해 환경영향을 관리하는지 여부와 원부자재/에너지/폐기물 등의 효율적인 관리하는지 점검 ▶ 이해관계자의 환경지표 개선 요구 대응을 위해 체계적으로 환경경영을 추진하고 있는지 점검 ▶ 국내외 제시하는 환경경영시스템 구성요건을 따르거나, 준용하여 환경경영 추진체계를 갖추고 있는지 확인 ▶ 환경경영 추진을 위한 전담조직 구성 및 직원대상 교육실시 확인 7) 전담조직 구축 및 컨설팅 교육하는 방안 | L4: 환경경영을 체계적으로 추진하기 위해 ‘전사 거버넌스’, ‘전사 전담조직’, ‘자원 및 역량’, ‘이행현황 점검시스템’, ‘구성원 성과평가 지표‘를 구축하였는지 측정 [데이터 원천] 환경경영시스템, 환경경영 정책, 환경경영 가이던스 [데이터 기간] 직전 회계연도 기준 | M4: ▶ 환경경영 체계란 환경경영을 효과적으로 추진하기 위해 환경방침 개발, 이행, 달성, 검토 및 유지관리 할 수 있는 조직, 책임, 자원, 절차, 과정 및 성과관리 등을 종합적으로 구축한 것을 의미. 1) 조직은 목표 달성과 관련된 제반업무를 관장하는 거버넌스 및 업무분장 체계를 구축해야 한다. 2) 목표 달성을 위한 추진과제와 실행계획을 수립해야 한다. 3) 목표 달성에 필요한 새로운 기술 및 활동을 발굴하고 투자해야 한다. 4) 목표 대비 이행현황을 점검 및 피드백할 수 있는 기능을 도입해야 한다. 5) 목표 이행현황을 경영진 및 구성원의 성과지표(KPIs)에 반영해야 한다.
E5: 요건2 | F5: 환경경영 추진을 위한 전사 거버넌스 체계를 구축하고 있는 경우 (전담조직, 실무협의회, 경영회의 및 내부점검체계 등) | H5: 2개 충족
E6: 요건3 | F6: 환경경영 추진을 위한 전사 전담조직을 운영하고 있는 경우 (전사 환경경영 기획, 점검, 성과관리 등 실행업무 담당) | H6: 3개 충족
E7: 요건4 | F7: 환경경영 과제 실행에 필요한 자원을 투입하고 있는 경우 (환경투자 예산, 역량강화 교육, 내외부 전문인력 등) | H7: 4개 충족
E8: 요건5 | F8: 환경경영 추진 현황을 점검/분석/평가시스템을 구축하고 경영진 포함 관련 구성원의 성과평가지표(KPIs)에 반영하고 있는 경우 (IT기반 모니터링 시스템, 과제점검 회의, 제3자 의견수렴 등) | H8: 5개 충족
C9: E-1-2 | D9: 환경경영시스템 인증 비율 | E9: 1 | F9: 환경경영시스템 인증서를 보유하지 않음 | K9: ▶ 환경경영시스템을 구축 및 실행하고, 성과평가와 보상에 환경적 요소를 고려하는지 여부를 점검 ▶ 회계부문의 환경적 요소를 조직 사정에 맞게 고려하여 의사결정과정에 반영하는 시스템 및 환경심사 시스템, 환경교육 시스템 등이 갖추어져 있는지 확인 ▶ 환경경영시스템이 일부 부서나 사업장에 국한되어 구축된 것이 아니라 전사적으로(전 사업장과 전 부서) 일상적 업무에 반영되어 수준 높은 지속가능경영이 이루어지고 있는지 확인 | L9: 국내외 제3자 인증기관(IAF에서 인정)으로부터 환경경영시스템 인증을 획득하였는지 확인하며, 인증서의 인증유효기간이 적합하고 해외를 포함하여 다수의 사업장을 보유한 경우에는 사업장별 개별 인증서 또는 통합 인증서로 확인이 가능한지 측정 [데이터 원천] 사업장의 환경경영시스템(ISO 14001) 인증서 [데이터 산식] 인증비율=시스템 인증보유사업장 수 / 전체 사업장 수 | M9: ▶ 외부로부터 환경경영시스템 규격에 대한 인증(ISO 14001)을 획득하여 성공적으로 실행하고 있음을 입증함으로써 적절한 환경경영시스템이 유지되고 있다는 사실 분석 ▶ 사업장의 수는 사업자등록증, 법인등기부등본 등 객관적으로 입증 가능한 근거에 의하여 산정 ▶ 웹사이트(IAF-CertSearch.org)를 통해 모든 국가에서 개별적으로 인정된 인증서를 실시간으로 확인할 수 있음.
E10: 2 | F10: 국내 및 해외 사업장에 대한 환경경영시스템 인증을 50% 미만으로 보유함
E11: 3 | F11: 국내 및 해외 사업장에 대한 환경경영시스템 인증을 50% 이상 75% 미만으로 보유함
E12: 4 | F12: 국내 및 해외 사업장에 대한 환경경영시스템 인증을 75% 이상 100% 미만으로 보유함
E13: 5 | F13: 국내 및 해외 제조 사업장과 비제조시설(본사, 연구소, 고객센터)까지 환경경영시스템 인증을 보유함 (국내 및 해외 사업장에 대한 환경경영시스템 인증을 100% 보유함)
C14: E-1-3 | D14: 환경정책 수립 | E14: 1 | F14: 환경경영을 추진하기 위한 연간 환경정책, 정량적 환경목표가 수립되어 있지 않음. | K14: ▶ 고유한 제품, 생산 및 서비스 활동에 의해 필연적으로 발생하는 부정적인 환경영향을 최소화하면서 환경적으로 건전하고 지속 가능한 성장을 위해 조직 특성을 고려한 환경정책이 수립되어 운영되는지 점검 ▶ 환경경영에 필요한 내외부 이슈를 파악한 후 이슈를 해결하기 위해 체계적으로 환경정책이 수립 및 운영되고 있는지 점검 ▶ 환경개선을 위한 투자 등 공정개선 노력을 점검 (아래 항목 참조) 1) 클링커의 비율을 줄이고 대체 재료를 사용(배합비율 개선 등)하는 방안 2) 양생실 온도 유지를 위한 LPG 사용 감소 방안 3) 등유 보일러에서 액화석유(LPG)로 전환하는 방안 : 석유화학제품->천연가스(LPG) 4) 재생(가능) 에너지, 폐기물 등을 재활용(플라이 에쉬 등)하는 방안 5) 양생시 광물 탄산화 주입하는 방안 (이산화탄소 흡착 재료를 사용) 6) 믹셔 및 Co₂ 탱크 설치하는 방안 | L14: 환경경영을 위해 중장기 환경정책에 따른 실천적 목표와 세부적인 계획을 제시하고 있으며, 주기적으로 성과를 모니터링하는지를 측정 or 공정개선 성과를 측정 [데이터 원천] 환경경영시스템, 중장기 환경정책, 연간 환경정책 관련 계획 및 보고서 [데이터 기간] 직전 회계연도 기준 | M14: ▶ 환경경영 정책 수립 시 사업장의 위치, 제품의 특성 등은 물론 경영자와 임직원의 의견을 충분히 반영하여 공감대가 형성되도록 해야 하며, 단어나 문장은 추상적인 표현보다는 구체적이고 정량적인 문구로 작성하는 것이 합리적임. ▶ 환경경영 목표 및 세부목표 설정 시 고려사항 - 목표 및 세부목표는 가능한 정량적 설정, 환경정책(방침)과의 일관성, 법적 요구사항 등, 중대한 환경적 측면을 고려, 기술적/재정적/운영적 측면과 사업상 이해관계자를 고려, 모니터링되고 의사소통되고, 필요한 경우 최신화 ▶ 환경경영 추진계획 수립 시 고려사항 - 조직 내 관련 기능 및 계층별로 책임 지정, 목표 및 세부목표 달성을 위한 수단 및 일정, 조직의 목적과 에너지 사용규모에 적합, 필요한 자원(인적/물적자원 및 예산)과 결과에 대한 평가방안 등 ▶ 환경개선 활동은 탄소중립을 실천하기 위한 공정개선에 대한 시설투자 활동을 의미 (예시) - 에너지 사용을 줄이기 위해 제조공정 개선에 투자 (자동화된 혼합시스템 등 공정설비 자동화 및 최적화, 품질관리 시스템 개선, 보일러 교체 공사<LNG> 등 - 친환경 재료 및 재활용 산업 부산물을 활용(플라이 에쉬 등)하기 위한 투자 (탄소배출 감소, 폐기물 감소, 에너지 절감, 원가절감 등) - 탄산화 양생을 위한 투자 (콘크리트 양생 과정에 이산화탄소를 활용하여 탄소배출 감소와 부가가치 창출 등)
E15: 2 | F15: 연간 환경정책, 정량적 환경목표 및 환경경영계획은 수립되어 있으나 방침 및 목표, 계획에 대한 관련 근거가 없이 형식적으로 수립되어 있음.
E16: 3 | F16: 연간 환경정책, 정량적 환경목표 및 추진계획이 조직의 외부 및 내부 이슈를 고려하여 체계적으로 수립되어 있으며 조직이 이를 모니터링, 측정, 분석 및 평가하고 있음.
E17: 4 | F17: 예산을 반영한 중장기 환경정책, 정량적 환경목표 및 추진계획을 체계적으로 수립하였으며 정기적으로 모니터링, 측정, 분석 및 평가하여 피드백을 통한 환경성과 및 개선활동 실적을 보유하고 있음.
E18: 5 | F18: 4단계 + 조직의 영향력과 통제력 범위에 있는 사업장(자회사, 종속법인, 연결실체)까지를 포함.
E19: 1 | F19: 환경개선을 위한 투자를 고려하고 있지 않음. | N19: 연구개발 저감시설투자
E20: 2 | F20: 환경 개선을 위한 투자를 계획하고 있으나, 향후 3년 내에 실행할 수 없음.
E21: 3 | F21: 환경 개선을 위한 투자를 계획하고 있으며, 향후 2년 내에 투자를 이행할 수 있음.
E22: 4 | F22: 환경개선을 위한 투자를 이행하고, 향후 1년 내에 개선 성과를 달성할 것으로 예상함.
E23: 5 | F23: 과거 5년 전부터 환경 개선에 대한 투자를 실시한 후, 개선 성과를 측정하고 있음.
C24: E-1-4 | D24: 환경 인허가 획득 | E24: 1 | F24: 조직이 사업장과 관련된 환경 인허가 대상을 명확하게 파악하지 못함 | K24: ▶ 대기 배출물, 폐수, 폐기물, 원료 사용, 에너지, 용수, 생물 다양성 등 조직과 관련된 모든 유형의 환경요인에 대한 인허가 규제사항을 파악하여 인허가를 획득하는지를 점검 ▶ 조직에 요구되는 환경 관련 모든 인허가를 획득하고 등록하여 현행상태로 유지하며, 운영 및 보고 요구사항을 준수하고 있는지 점검 | L24: 환경 관련 모든 인허가를 처리할 수 있는 절차를 보유하고 있는지 확인하고, 환경시설에 대한 인허가 획득과 운영, 모니터링 상태를 측정 [데이터 원천] 환경영향평가 실적, 환경인허가 처리근거 및 배출량 모니터링 실적 [데이터 기간] 직전 회계연도 기준 [데이터 범위] 국내외 사업장 및 기타 연결 실체 | M24: ▶ 조직과 관련된 모든 환경 인허가에 대한 규제 요구사항을 준수함으로써 재무적 또는 명성의 훼손과 같은 직·간접적인 재무 위험을 줄임. ▶ (통합환경허가관리);환경오염시설의 통합관리에 관한 법률, (분야별환경허가관리):대기환경보전법/물환경보전법/악취방지법/폐기물 관리법/화학물질관리법/소음·진동 관리법
E25: 2 | F25: 조직이 사업장과 관련된 환경 인허가 대상을 파악하고 있으며, 인허가 처리를 위한 근거 및 절차를 보유함. (배출시설 및 방지시설 명세서를 보유하고 있음)
E26: 3 | F26: 환경 인허가 대상의 변경유무를 정기적으로 검토하고 있으며, 검토결과를 반영하여 인허가를 갱신 및 관리함
E27: 4 | F27: 환경 관련 인허가 대상물질의 배출량(발생량)을 모니터링하고 있으며, 그 결과를 보유함
E28: 5 | F28: IT 기반 정보시스템을 활용하여 환경 관련 인허가 대상물질의 배출량(발생량)을 모니터링함
B29: 자원 | C29: E-2-1 | D29: 폐제품 수거 및 재활용 | E29: 요건1 | F29: 조직은 전기·전자제품의 제조회사로 폐제품(폐기물)의 회수·인계·재활용의무 대상여부를 파악하고 있음 | H29: 1개 이하 충족 | K29: ▶ 전기·전자제품의 재활용을 촉진하기 위하여 유해물질의 사용을 억제하고 재활용이 쉽도록 제조하며, 그 폐기물을 적정하게 재활용하도록 하여 자원을 효율적으로 이용하는 자원순환체계를 구축하고 있는지 점검 | L29: 폐제품(폐기물)의 회수 절차를 거쳐 조직 내/외부에서 2차 자원으로 재활용하고 있는지 그리고 재활용률을 높이기 위해 재질, 구조 등 제품설계를 개선, 유해물질 사용을 억제, 의무사항을 준수하고 있는지 점검 [데이터 원천] 폐제품(폐기물) 대상 List, 재활용의무이행계획서, 재활용의무이행결과보고서, 유해물질 검증보고서, 제품설계 개선실적 [데이터 기간] 직전 회계연도 기준 [데이터 범위] 국내 사업장 | M29: ▶ 환경성보장제도 대상 전기·전자제품은 크기 및 용도에 따라 대형기기, 중형기기, 소형기기, 통신·사무기기로 구분됨(현재 사용량이 많은 49개 품목을 우선 관리하며, 단계적 확대될 것으로 보임). ▶ 제재 법률: 자원의 절약과 재활용촉진에 관한 법률, 폐기물관리법, 전기·전자제품 및 자동차의 자원순환에 관한 법률, 제품의 포장재질·포장방법에 관한 기준 등에 관한 규칙
E30: 요건2 | F30: 폐제품(폐기물)의 직접 회수 또는 위탁에 의한 회수를 실시하고 , 관련 기록을 보유하고 있음 | H30: 2개 충족
E31: 요건3 | F31: 재활용의무이행계획서를 제출하고 있으며, 승인된 재활용의무이행결과보고서를 보유하고 있음 | H31: 3개 충족
E32: 요건4 | F32: 전기·전자제품의 재활용을 용이하게 하고 환경에 미치는 유해성을 최소화하기 위하여 환경에 미치는 유해성이 높은 중금속·난연제(難燃劑) 등 정부가 정한 유해물질의 함유기준을 준수하며, 관련 근거를 보유하고 있음 | H32: 4개 충족
E33: 요건5 | F33: 전기·전자제품의 재활용을 용이하게 하는 재질·구조개선에 관한 정부의 지침을 준수하고 있거나 재활용이 쉬운 재질을 사용, 재질의 단순화 및 재질정보 표시, 분리·해체의 용이성 제고 등 재질·구조 개선활동을 수행하고 있음 | H33: 5개 충족
C34: E-2-2 | D34: 원부자재 사용량 | E34: 1 | F34: 원단위 원부자재 사용량을 관리하지 않는 경우 또는 지난 5개년 원단위 원부자재 사용량 증가 추세 | K34: ▶ 이윤을 창출하기 위해 재화를 생산하는 과정에서 자연으로부터 가져온 원부자재를 효율적으로 관리하고 있는지 점검 ▶ 조직 간 규모 차이(매출액, 생산량 등) 또는 사업 변동(구조조정, 인수합병 등)을 고려하여 상대적 비교 가능성이 높은 ‘원단위’ 개념을 기반으로 원부자재 사용량을 점검 | L34: 지난 5개년 간 조직의 원단위 원부자재 사용량이 감소 추세에 있는지 측정 [데이터 원천] 지속가능경영보고서, 한국환경공단‘>자원순환정보시스템>연도별 전국 폐기물 발생 및 처리 현황 [데이터 범위] 국내외 사업장 및 기타 연결실체 [데이터 산식] 총 원단위 원부자재 사용량 = 총 원부자재 사용량(재생 불가능한, 재생 가능한, 재생/재활용) /원단위 활용 분모 (매출액 등) | M34: ▶ 원부자재는 기본적으로 재생 가능 여부에 따라 재생 가능한 원부자재, 재생 불가능한 원부자재로 분류되며, 해당 원부자재의 원천(Source)에 따라 재생/재활용 원부자재, 천연 원부자재로 분류된다. ▶ 대량 생산하는 광업, 제조업, 건설업, 전기/가스/증기업 등으로 한정할 수 있으나, 넓은 범위로 해석한다면 서비스를 운용/제공하는 과정에서 광물, 종이, 플라스틱 등을 사용하는 도매/소매, 운수/창고, 정보통신, 금융/보험, 기타 전문 서비스업으로 확대할 수 있음. ▶ ‘조직별 홈페이지’ 上 지속가능경영보고서, ‘한국환경공단‘>자원순환정보시스템>연도별 전국 폐기물 발생 및 처리현황
E35: 2 | F35: 지난 5개년 원단위 원부자재 사용량 변동 없음
E36: 3 | F36: 지난 5개년 원단위 원부자재 사용량 감소 추세
B37: 에너지 및 온실가스 | C37: E-3-1 | D37: 에너지 절감 및 온실가스 감축 | E37: 1 | F37: 전년 대비 에너지 사용량 원단위 증가 | K37: ▶ 사업장 내에서 직접 생산하거나, 외부로부터 구매하는 에너지 사용량을 절감하고 온실가스 배출(Scope1 & Scope2)을 감축하고 있는지 점검 ▶ 조직의 규모 차이(매출액, 생산량 등) 또는 각 조직의 사업 변동(구조조정, 인수합병 등)을 고려하여 상대 비교가 용이한 ‘원단위’를 기반으로 에너지 사용량과 온실가스 배출량을 확인 ▶ 환경개선 투자로 인한 에너지 절감 및 온실가스 감축 효과를 점검(아래 항목 참조) 1) 클링커의 비율을 줄이고 대체 재료를 사용(배합비율 개선 등)하는 방안 2) 양생실 온도 유지를 위한 LPG 사용 감소 방안 3) 등유 보일러에서 액화석유(LPG)로 전환하는 방안 : 석유화학제품->천연가스(LPG) 4) 재생(가능) 에너지, 폐기물 등을 재활용(플라이 에쉬 등)하는 방안 5) 양생시 광물 탄산화 주입하는 방안 (이산화탄소 흡착 재료를 사용) 6) 믹셔 및 Co₂ 탱크 설치하는 방안 | L37: 최근 2개년 원단위 에너지 사용량이 절감 추세에 있는지와 최근 2개년의 원단위 온실가스 배출량(Scope1 & Scope2)이 감축 추세에 있는지 측정 [데이터 원천] 최근 2개년의 월별, 연차별 에너지 사용량 및 온실가스 발생량 원단위 관리 D/B, 온실가스 인벤토리, 월간보고서(매출액, 생산량, 종업원 수 포함) [데이터 기간] 최근 2개 회계연도 [데이터 산식] : 에너지 절감률=(당해 연도 에너지 원단위 전년도 에너지 원단위)÷당해 연도 에너지 원단위 x 100, 온실가스 감축률=(당해 연도 온실가스 원단위 전년도 온실가스 원단위)÷당해 연도 온실가스 원단위 x 100 | M37: ▶ 에너지 사용량 = ‘직접 사용한 화석연료’ + ‘직접 사용한 재생연료’ + ‘외부 구입 전기, 열 등’ + ‘조직에서 생산한 전기,열(스팀) 등’ - ‘사용하지 않고 외부로 판매한 전기, 열 등’ ▶ (고체, 기체, 액체 연료) 에너지 사용량 환산방법 = 연료 사용량 × 총 발열량 ▶ (전기) 에너지 사용량 환산방법 = 전력 사용량 × 발열량(소비) ▶ Scope1 온실가스 배출량 산정방법 = Σ[고정연소, 이동연소, 공정배출, 탈루배출, 폐기물 처리] ▶ Scope2 온실가스 배출량 산정방법 = Σ[구매전기, 구매 열(온수, 스팀 등)] ▶ 온실가스 원단위 = [연간 총 CO2 배출량(톤CO2) / 기준량(제품 생산량 등] ▶ 에너지 원단위 = [연간 총 에너지 사용량(MJ) / 기준량(제품 생산량 등)] ▶ 환경개선 활동은 탄소중립을 실천하기 위한 공정개선에 대한 시설투자 활동을 의미 (예시) - 에너지 사용을 줄이기 위해 제조공정 개선에 투자 (자동화된 혼합시스템 등 공정설비 자동화 및 최적화, 품질관리 시스템 개선, 보일러 교체 공사<LNG> 등 - 친환경 재료 및 재활용 산업 부산물을 활용(플라이 에쉬 등)하기 위한 투자 (탄소배출 감소, 폐기물 감소, 에너지 절감, 원가절감 등) - 탄산화 양생을 위한 투자 (콘크리트 양생 과정에 이산화탄소를 활용하여 탄소배출 감소와 부가가치 창출 등) | N37: 연구개발 저감시설투자
E38: 2 | F38: 전년 대비 에너지 사용량 원단위 절감률 0% 이상 1% 미만
E39: 3 | F39: 전년 대비 에너지 사용량 원단위 절감률 3% 이상 5% 미만
E40: 4 | F40: 전년 대비 에너지 사용량 원단위 절감률 5% 이상 10% 미만
E41: 5 | F41: 전년 대비 에너지 사용량 원단위 절감률 10% 이상
...

Sheet S-사회
B2: 영역 : 사회(S) | K2: 설명자료
B3: 범주 | C3: 분류번호 | D3: 진단항목 | E3: 단계 | F3: 점검기준(질문내용) | H3: 참고 | I3: check | K3: 항목설명 | L3: 성과점검 | M3: 추가설명 | N3: 기타
B4: 노동 | C4: S-1-1 | D4: 정규직 비율 | E4: 1 | F4: 한시적 근로자, 기간제 근로자, 단시간 근로자, 파견·용역·호출 등의 형태로 종사하는 근로자 현황이 관리되지 않는 경우 또는 최근 5개년 간 정규직 비율 데이터가 관리되지 않는 경우 | K4: ▶ 정규직 확대를 통해 지역사회의 고용안정성 증가와 비정규직 근로자 문제에 기여하고 있는 정도를 확인 ▶ 전체 인력 대비 정규직 비율을 점검 | L4: 국내외 모든 사업장을 기준으로 정규직 비율을 확인 [데이터 원천] ‘전자공시시스템’ 上 사업보고서, 조직별 홈페이지’ 上 지속가능경영보고서 [데이터 기간] 최근 5개 회계연도 [데이터 범위] 국내 및 해외 사업장 [데이터 산식] 정규직 비율=(해당연도 말 기준 총근로자 수–한시적 근로자 또는 기간제 근로자–단시간 근로자–파견·용역·호출 등의 형태로 종사하는 근로자) / 해당연도 말 기준 총근로자 수 | M4: ▶ 정규직 정의는 통계청 경제활동인구조사 근로형태에 따라 1) 한시적 근로자, 2) 시간제 근로자, 3) 비전형 근로자(파견·용역 등) 등 비정규직을 제외한 기간의 정함이 없는 임금근로자를 통칭 ▶ 전체근로자 중 정규직 근로자의 비율을 확인함으로써 조직이 사회적 고용안정성 증진에 얼마나 기여하고 있는지 확인하는 것을 목적으로 설계 ▶ 법률제재: ｢기간제 및 단시간근로자 보호 등에 관한 법률｣, ｢파견근로자보호 등에 관한 법률｣, ｢노동위원회법｣ 등
E5: 2 | F5: 조직의 정규직 비율이 40%인 이하인 경우
E6: 3 | F6: 조직의 정규직 비율이 40% 초과 60% 이하인 경우
E7: 4 | F7: 조직의 정규직 비율이 60% 초과 80% 이하인 경우
E8: 5 | F8: 조직의 정규직 비율이 80%를 초과하는 경우
C9: S-1-2 | D9: 결사의 자유 보장 | E9: 1 | F9: 노동조합 가입‧설립, 노사협의회 설치 관련 정보가 모두 없음(노조 가입‧신설 관련 부 당노동행위로 노동위 판정 또는 법원 판결이유죄로 확정된 경우) | K9: ▶ 직원이 유엔 세계인권선언에서 제시하는 결사의 자유를 보장받을 수 있는지, 근로자 이해 대변 및 협력적 노사관계 형성·유지를 위한 협의기구가 있는지 확인 - (결사의 자유 보장) 근로자가 주체가 되어 조직하는 노동조합의 설립과 정당한 노동조합 활동을 보장하고 있는지를 점검 - (노사협력) 노사 협의기구인 노사협의회의 설치 여부 및 실질적인 운영을 통한 노사 파트너십 수준을 점검 | L9: 노동조합 가입, 조직 및 단체협약 체결, 체결된 단체협약의 성실한 이행 등을 측정하고, 노사협의회의 설치 및 관리 여부와 정기회의 개최 등 실질적인 운영 수준 등을 측정 [활용 데이터] 노동조합 가입·설립, 단체교섭 및 단체협약 체결, 단체협약 위반 여부, 노사협의회 설치 및 정기회의 개최, 노사협의회 의결(합의) 여부 등 [데이터 기간] 최근 3개 회계연도(단, 노동조합 가입·설립 또는 노사협의회 설치 시점이 3개 회계연도 이내인 경우에는 그 기간) [데이터 범위] 국내 사업장 | M9: ▶ 근로자가 자발적으로 노동조합을 조직하지 않거나 이에 가입하지 않은 경우에는 ’노사협의회 설치·운영’을 대체지표로 사용 가능하다. ▶ 노사협의회는 노사 간 협의기구로서, ｢근로자참여 및 협력증진에 관한 법률｣에 따라 근로조건에 대한 결정권이 있는 상시 30명 이상의 근로자를 사용하는 사업이나 사업장은 의무적으로 설치·운영해야 함. - 사용자 및 근로자 위원을 각 3인 이상 10인 이하의 범위에서 동수로 선출 또는 위촉하여 구성 - 노사협의회 규정을 제정하고 고용노동부장관에게 신고(15일 이내) - 의결사항 등에 대해 3개월마다 정기회의를 개최해야 함. - 회의의 개최 일시 및 장소, 출석 위원, 협의 내용 및 의결된 사항, 토의 사항을 기록한 회의록을 작성하여 3년간 보존해야 함.  제재법률: 노동조합 및 노동관계조정법, 근로자참여 및 협력증진에 관한 법률
E10: 2 | F10: 노동조합 가입‧설립 또는 상시근로자 30인 이상인 경우 노사협의회 설치 (위원 선임, 협의회규정 제정 등)
E11: 3 | F11: 2단계 + 과거 또는 현재 적법한 교섭당사자로서의 노동조합과 단체교섭 진행 + 3개월마다 노사협의회 정기회의 개최(회의록 작성·비치)
E12: 4 | F12: 3단계 + 노동조합과 단체협약(임금협약 포함) 체결 + 노사협의회 정기회의 외 추가 임시회의(노사 실무협의 포함) 개최
E13: 5 | F13: 4단계 + 체결된 단체협약의 성실한 이행(단체협약 위반 시 불이행으로 간주) + 노사협의회 의결(합의) 여부
C14: S-1-3 | D14: 단체교섭 및 집회 참여 | E14: 요건1 | F14: 회사가 정기적으로 노동자의 대표와 단체교섭 사항에 대해 협의하여 결정하고 있는 경우 | H14: 1개 이하 충족 | K14: ▶ 단체교섭과 집회 자유에 관한 모든 법적 권리를 존중하는 노력(참여하거나 참여하지 않을 권리 존중) ▶ 노동조합, 노사협의회 등 노동자로부터 위임을 받은 자와 회사가 성실하게 협의하려는 노력 ▶ 노동자가 자유의사에 기반하여 자유롭게 모임 및 집회를 가질 수 있고, 노동자가 근로조건 등에 대해 자유롭게 회사 측과 소통할 수 있도록 적극적으로 지원하는 노력을 점검 | L14: “임금 및 단체협약 등에 관한 합의서”, 노동조합 및 노동관계조정법, 조직의 내부규정을 점검 [데이터 원천] “임금 및 단체협약 등에 관한 합의서”, 조직의 내부규정 [데이터 기간] 직전 회계연도 기준 [데이터 범위] 국내 사업장 | M14: ▶ 단체교섭에서는 임금, 노동시간, 근로조건 등 노사 간 이해가 대립되는 것을 다룸. ▶ 노사협의회에서는 생산성의 향상, 근로자 복지, 고충의 처리 등을 다루게 됨. ▶ 국내법상(현지법상) 근로자들의 단체 교섭권을 존중해야 하며, 회사는 단체교섭을 의도적으로 거부하거나 방해하지 말고, 유효한 단체협약을 준수하도록 노력해야 함. ▶ 제재법률: 노동조합 및 노동관계조정법
E15: 요건2 | F15: 단체교섭의 계약조건이 이행되고 있는 현황을 공개하고 있는 경우 | H15: 2개 충족
E16: 요건3 | F16: 단체교섭 및 집회의 자유 관련 사항을 회사 내부규정(단체협약, 인권경영 규정 등)에 반영하고 있거나, 지침으로 표명하고 있는 경우 | H16: 3개 충족
E17: 요건4 | F17: 회사가 노동 관련 문제를 자유롭게 논의할 수 있도록 공간 등의 편의를 제공하고 있는 경우 | H17: 4개 충족
E18: 요건5 | F18: 근로자가 개인적으로나 또는 집단적으로 우려하는 사항에 대해 아이디어를 제시할 수 있는 내부 소통채널이 존재하는 경우 | H18: 5개 충족
B19: 인권 | C19: S-2-1 | D19: 인권정책 수립 | E19: 1 | F19: 조직의 대외공식적 인권정책이 수립되지 않은 경우. 또는, 인권정책이 있으나, 상기의 이슈 중 1~2개에 대한 조직의 정책적 접근방향이 설명되어 있는 경우 | K19: ▶ UN의 ‘세계인권선언‘ 및 ‘기업과 인권 이행원칙‘, ILO ’핵심협약‘, OECD ’책임있는 사업을 위한 실사 가이드라인‘ 등에 기반하여, 인권경영 추진을 선언하는 대외공식적 정책을 제시하고 있는지 확인 ▶ 조직이 인권정책을 통해 인권보호가 필요한 이슈에 대해 어떠한 정책적 접근을 하고 있는지 점검 | L19: [데이터 원천] 인권정책에서 어떠한 이슈를 다루는지 측정 1)차별 금지, 2)근로조건 준수, 3)인도적 대우, 4)강제근로 금지, 5)아동노동 착취 금지, 6)결사 및 단체교섭의 자유, 7)산업안전 보장, 8)지역주민 인권 보호, 9)고객의 인권 보호, 10)기타 [데이터 기간] 직전 회계연도 기준 | M19: ▶ UN, ILO, OECD 등에서 제시하는 인권 분야 이슈에 대해 조직이 공식적인 입장을 제시하고 있는지 확인 (차별 금지, 근로조건 준수, 인도적 대우, 강제근로 금지, 아동노동 착취 금지, 산업안전 보장, 지역주민 인권 보호, 고객 인권 보호) ▶ 조직의 인권정책은 ‘인권 이슈에 대한 조직의 정책적 접근방향’을 명확히 설명하는 것 이외에, 추가적으로 아래와 같은 형식적/내용적 요건들을 갖출 필요가 있음. - 인권경영 추진에 대한 최고의사결정권자의 공식적 성명서, 인권리스크 저감을 위한 리스크 관리 프레임워크를 설명, 인권경영 추진을 위한 거버넌스, 담당조직과 그 역할, 인권침해 관련 고충처리 프로세스, 인권정책 제/개정일자, 정책문서 관리번호, 정책문서 담당자 및 승인자 등 ▶ 제재법률: 헌법, 근로기준법
E20: 2 | F20: 상기의 이슈 중 3~4개에 대한 조직의 정책적 접근방향이 설명되어 있는 경우
E21: 3 | F21: 상기의 이슈 중 5~6개에 대한 조직의 정책적 접근방향이 설명되어 있는 경우
E22: 4 | F22: 상기의 이슈 중 7~8개에 대한 조직의 정책적 접근방향이 설명되어 있는 경우
E23: 5 | F23: 상기의 이슈 중 9개 이상에 대한 조직의 정책적 접근방향이 설명되어 있는 경우
C24: S-2-2 | D24: 강제근로 금지 | E24: 1 | F24: 모든 형태의 입사자(정규직, 계약직)와 근로계약서를 작성하고, 근로계약서 세부조항에 강제근로금지에 대해 회사가 공식적으로 밝히고 있는 경우 | K24: ▶ 노동자가 원하지 않는 의무적 초과노동을 강요하지 않는지, 상호 간 정확하게 합의한 근로조건을 계약사항에 반영하여 근로를 실시하고 있는지를 점검 ▶ 특정 조건, 상황의 노동자에게 근로와 관련된 불리한 조건을 강요하지 않는지 확인 | L24: 모든 입사자와 근로계약서를 작성하고 근로계약서 세부조항을 통해 강제근로금지 규정을 설명하고 있는지 확인 [데이터 원천] 채용서류, 근로계약서, 취업규칙, 출입통제 상황 [데이터 기간] 직전 회계연도 기준 [데이터 범위] 국내 사업장 | M24: ▶ ‘강제근로’란, 폭행, 협박, 감금 등의 수단 외에 이에 준하는 정신적 또는 신체적 구속에 의한 근로로서 사회통념상 부당한 것으로 인정되는 방법에 의하여 근로자에게 근로를 강요하는 일체의 경우(최근 유럽 등에서 Modern Slavery 개념도 포함: 휴가사용 제약, 근무시간 외 업무지시(SNS 등) ▶ 특히 외국인 노동자의 경우를 포함하여 근로자의 외출 시 감시자를 동반하게 한다든지, 근로자의 신분증, 취업허가증과 같은 문서를 보유·파기·은폐·압수하거나 협박, 폭행 등의 행위로 도망갈 수 없게 하는 것 등은 강제근로에 해당함. ▶ 모든 근로자를 대상으로 채용절차 상 발생하는 비용지불을 요구하지 말아야 하며, 외국인 이주노동자에게도 현지인 근로자와 동일한 비용 지불기준을 적용해야 함 ▶ 부당하게 구속하는 수단으로 근로자의 자유의사에 어긋나는 모든 종류의 근로를 강요하지 못하며, 근로자가 원하지 않는 의무적 초과노동을 실시하지 않는다 ▶ 제재법률: 헌법, 근로기준법
E25: 2 | F25: 1단계 + 직원채용 시 제출해야 할 서류를 명시하고, 해당 서류만 제출하도록 규정상 명시하고 있는 경우
E26: 3 | F26: 2단계 + 근로자의 이동의 자유 및 기본욕구 해소를 위한 활동에 불합리한 제한을 두고 있지 않는 경우
E27: 4 | F27: 3단계 + 근로계약서에 법에서 규정한 항목이 빠짐없이 포함되어 있으며, 근로계약서는 근로자가 이해 가능한 언어로 서면으로 작성되고, 관련 내용을 모국어로 충분히 설명하고 있는 경우
E28: 5 | F28: 4단계 + 채용 관련 근로자의 비용 부담을 금지하고 있으며, 근로자에게 부과되는 수수료가 모두 공개되어 있는 경우
C29: S-2-3 | D29: 아동노동 금지 | E29: 요건1 | F29: 만 15세 이상 18세 미만의 자를 고용할 시, 근로조건 명시 및 1일 7시간, 1주일 40시간을 초과하지 않는 것을 명시한 경우 | H29: 1개 이하 충족 | K29: ▶ 15세 미만의 연소자를 고용하지 않는지 확인 ▶ 18세 미만의 연소자가 노동기관/계약자를 통해 직간접적으로 고용되지 않도록 적절한 프로세스가 있는지 확인 ▶ 만 15세 이상 18세 미만의 연소자를 고용하는 경우, 친권자나 후견인의 동의를 받았는지 확인 ▶ 만 15세 이상 18세 미만의 연소자를 고용하는 경우, 건강이나 안전, 도덕의식에 해로운 작업을 규정한 정책 수립 내용을 확인 | L29: 서류를 통해 근로자의 나이를 확인한 후에 고용조건, 근로조건 및 신분증명서 확인 [데이터 원천] 근로계약서, 사진이 부착된 신분증, 근로자명부, 의료파일, 작업시간 기록 [데이터 기간] 직전 회계연도 기준 [데이터 범위] 회사가 직·간접적(파견/용역/도급/위탁 등을 포함)으로 고용한 모든 근로자 | M29: ▶ 세계인권선언에서 아동에 대한 특별한 보호에 대해 “모든 어린이는 부모의 혼인 여부에 관계없이 동등한 사회적 보호를 향유한다”고 선언. ▶ 기업은 15세 이하의 연소자를 고용하여 노동하도록 해서는 안 된다. 합법적으로 만 15세 이상 18세 미만의 연소자에게 노동을 시킬 경우 이들에게 교육기회의 보장과 안전에 대한 별도의 배려를 해야 한다(회사가 직·간접적으로 고용한 범위에는 계약직, 아르바이트, 직업훈련을 위해 근로하는 학생도 포함). ▶ 제재법률: UN 글로벌 콤팩트, 헌법, 근로기준법, ILO협약
E30: 요건2 | F30: 청소년 근로자는 위험한 업무나 야근을 하지 않음을 정책적으로 규정한 경우 | H30: 2개 충족
E31: 요건3 | F31: 아동노동 금지를 위한 연령검증 절차가 채용절차서에 명시되어 있는 경우 | H31: 3개 충족
E32: 요건4 | F32: 연령에 관한 증명 문서를 확인하기 위해 최소 2개 이상의 신뢰 가능한 공식 문서를 대조하여 확인하는 프로세스가 있는 경우 | H32: 4개 충족
E33: 요건5 | F33: 다른 사람의 ID카드 활용을 막기 위해, 지문, 사진이 포함된 ID카드를 기반으로 하는 출입통제 체계를 갖추고 있는 경우 | H33: 5개 충족
C34: S-2-4 | D34: 근무시간 준수 | E34: 1 | F34: 근로시간은 1일 8시간, 1주일 40시간을 초과하지 않는다. | K34: ▶ 근로계약서에 근로시간은 긴급상황이나 비정상적인 상황을 제외하고, 1일 8시간 1주 40시간을 초과할 수 없다는 규정이 존재하는지 확인 ▶ 초과근로시간이 너무 지나치면 근로자의 건강을 위협하므로, 법에 의한 한도인 주 12시간을 초과하고 있지 않은지 확인 ▶ 근로자의 정규 및 초과 근무시간에 대한 상세한 기록을 포함하여, 적정한 시스템 또는 의사소통, 기록관리가 되어있는지 확인 | L34: 근로 관련 서류를 통해 근로자의 근로시간이 법률에서 정한 최대시간을 초과하지 않는지 확인 [데이터 원천] 근로계약서, 작업시간 기록, 취업규정, 연장근로 계획서 등 [데이터 기간] 직전 회계연도 기준 [데이터 범위] 국내사업장 | M34: ▶ 근로기준법에서는 법정근로시간이 1주간 40시간을, 1일 8시간을 초과할 수 없다고 규정하고 있고, 여기에 1주 12시간을 한도로 연장근로를 할 수 있다고 명시함으로써 사회적으로 ‘주 52시간제’라는 용어가 통용되고 있음. ▶ 유해·위험작업에 종사하는 근로자는 1일 6시간, 1주 34시간, 연소자근로자는 1일 7시간, 1주 35시간의 근로시간을 초과할 수 없다. ▶ 근로시간 4시간마다 30분 이상의 휴게시간을 부여해야 하며, 휴게시간을 부여하지 않을 경우에는 근로기준법 제110조에 따라 2년 이하의 징역 또는 1천만원 이하의 벌금이 부과된다. ▶ 유연근로시간제를 도입할 경우 취업규칙 변경 또는 근로자대표와의 서면 합의 등 요건을 확인하여 적법한 절차에 따른다. 3개월 이내 또는 3~6개월 탄력적 근로시간제 도입 시 근로자대표와의 서면합의가 필요하며, 선택적 근로시간제의 경우 취업규칙의 근거 및 근로자대표와의 서면합의가 모두 필요
E35: 2 | F35: 1단계 + 근로자의 정규 및 초과근무 시간에 대한 신뢰할 수 있는 정책과 프로세스가 수립되어 있다.
E36: 3 | F36: 2단계 + 근로자가 병가, 출산휴가 등을 위한 휴가신청 시 유급 및 휴가가 보장되고 있다.
E37: 4 | F37: 3단계 + 임산부 또는 출산 후 1년 미만 여성근로자에 대한 근로시간 제한이 수립되어 있고, 이를 이행하고 있다. (단 근로계약 시 연장근무에 대한 합의가 적법한 절차에 따라 수립되어있는 경우는 제외함)
E38: 5 | F38: 4단계 + 연장근로 시, 근로자 개인과 회사의 상호합의가 선행되며, 일수, 시간, 연장근무 거부에 대한 구체적 사항은 근로계약 시 미리 정하거나, 회사의 결정에 포괄적으로 합의할 수 있고, 일정 기간 앞서서 사전통지를 통해 근로자 개인의 일정을 조절할 수 있도록 지원하고 있다.
C39: S-2-5 | D39: 임금산정 및 지급 | E39: 요건1 | F39: 근로계약서에 명시한 대로 통상임금이 정기적 일률적으로 지급되고 있는 경우 | H39: 1개 이하 충족 | K39: ▶ 근로계약서에 근로자 임금의 구성항목, 계산방법, 지급방법이 구체적으로 명시되어 있는지 확인 ▶ 급여주기에 따라 근무한 시간에 정확히 맞는 보상임이 증명되도록 총 근무시간, 초과근무시간, 구체적인 공제 내역 등 충분한 정보가 포함된 급여명세서를 제공하고 있는지 확인 | L39: 회사가 근로자에게 지급하는 임금과 관련된 일체의 기록을 점검 [데이터 원천] 표준근로계약서, 임금지급확인서, 임금지급 확인시스템 [데이터 기간] 직전 회계연도 기준 [데이터 범위] 국내사업장 및 해외사업장 | M39: ▶ 통상임금은 근로자가 통상적으로 지급받는 임금으로 연장근로 등에 대한 가산임금 등 법정 수당 산정의 기준이 됨. ▶ 통상임금의 산정기초가 되는 임금은 근로계약이나 취업규칙 또는 단체협약 등을 통해 소정근로시간(소정근로시간이 없는 경우에는 법정근로시간)에 대해 근로자에게 지급하기로 정한 기본급 임금과 정기적·일률적으로 임금산정기간에 지급하기로 정한 고정급 임금으로 한다. ▶ 제재법률: 근로기준법
E40: 요건2 | F40: 정규 및 초과근무에 대한 산출내역이 기재되어 정확하게 지급되고 있는 경우 | H40: 2개 충족
E41: 요건3 | F41: 근로자가 정해진 시기에 단위 급여기간(주간 혹은 월간)에 대한 급여를 받고, 수행한 작업에 대한 정확한 보상을 확인할 수 있는 프로세스가 있는 경우 | H41: 3개 충족
...

Sheet G-지배구조
B2: 영역 : 지배구조(G) | K2: 설명자료
B3: 범주 | C3: 분류번호 | D3: 진단항목 | E3: 단계 | F3: 점검기준(질문내용) | H3: 참고 | I3: check | K3: 항목설명 | L3: 성과점검 | M3: 추가설명 | N3: 기타
C4: G-1-1 | D4: 윤리헌장 및 실천규범 | E4: 요건1 | F4: 경영자가 윤리경영 의지를 발표한 경우 | H4: 1개 이하 충족 | K4: ▶ 기업이 윤리경영을 선언하고, 이를 실천하기 위한 헌장 및 규범을 갖추고 있는 지 확인 ▶ 내부 구성원을 대상으로 윤리경영을 확산하기 위한 교육 및 정책을 수립하고 있는지 점검 ▶ 윤리경영 방침 및 결과를 문서화하여 대내외적으로 공개하고 있는지 확인 | L4: [데이터 원천] 윤리경영 헌장/규범/방침 등, 윤리경영 교육 프로그램, 윤리경영 평가 체계 [데이터 기간] 직전 회계연도 기준 [데이터 범위] 국내 사업장 | M4: ▶ “윤리경영”은 기업이 경영 및 사업활동에 있어 ‘기업의 윤리적 책임’을 최우선의 가치로 생각하여 투명하고 공정하며 합리적인 업무수행을 위한 정책을 수립하는 것을 의미한다. ▶ 윤리경영 의지 발표 : 경영자는 윤리경영에 대한 의지를 밝히고 모든 의사결정 과정에서 윤리적 요소를 고려 (예시) 깨끗한 기업문화 조성방안 / 전 직원 반부패 문화 확산 ▶ 윤리경영 헌장/규범/방침의 제정 : 국내외 윤리경영 관련 제도 및 주요 이슈를 파악하면 구체적인 제정에 도움이 된다. 기업이 속한 산업과 환경을 고려하여 이전에 발생한 적이 있는 또는 발생할 가능성이 있는 윤리경영 이슈를 먼저 조사하도록 한다. 청탁금지법, 국내외 동종 산업 기업윤리강령 및 행동지침, 임직원행동강령, 윤리헌장 및 실천 서약 등을 참고
E5: 요건2 | F5: 윤리경영 실천을 위한 계획을 수립하고 규범을 갖추고 있는 경우 | H5: 2개 충족
E6: 요건3 | F6: 윤리/인권/경영투명성 등의 임직원 교육을 정기적으로 실시하고 있는 경우 | H6: 3개 충족
E7: 요건4 | F7: 기업의 의사결정 과정에 준법 및 윤리성을 점검할 수 있는 체계와 조직을 갖추고 있는 경우 | H7: 4개 충족
E8: 요건5 | F8: 윤리경영 방침 및 결과를 문서화하여 대내외적으로 공개하고 있는 경우 | H8: 5개 충족
C9: G-1-2 | D9: 비윤리 행위 예방 조치 | E9: 요건1 | F9: ISO37001(부패방지경영시스템) 인증을 받은 경우 | H9: 1개 이하 충족 | K9: ▶ 기업의 경영활동 중에 발생할 수 있는 부패, 뇌물수수, 부정청탁 등 비윤리적 행위에 대한 관리 기준을 마련하였는지 점검 ▶ 기업 내부에 비윤리적 행위 발생 시 사후조치를 통해 개선하는 체계를 갖추었는지 확인 ▶ 비윤리적 행위를 관리하고 개선하는 내용을 공개하는 체계를 갖추어 전 임직원에 윤리적 행위를 장려하고 있는지 확인 | L9: [데이터 원천] 비윤리적 행위 예방 지침(윤리헌장, 윤리규정 등), 비윤리적 행위 감시 체계 및 감시 결과, 비윤리 행위 적발 또는 신고 내역 [데이터 기간] 직전 회계연도 기준 [데이터 범위] 국내 사업장 | M9: ▶ 비윤리 행위 유형의 파악 : 공통적으로는 부패, 횡령, 갑질, 뇌물수수, 사기 및 도용, 채용 비리, 자금세탁, 부정청탁이 있을 수 있으며, 기업이 속한 산업과 환경에 따라 이슈가 될 수 있는 비윤리적 행위의 유형을 파악 ▶ 비윤리 행위 관련 내부 기준의 설정 : 비윤리 행위 관련 체계를 갖추기 위해서는 아래 비윤리 행위 관련 법규 및 ISO인증 항목을 고려하여 비윤리 행위에 대한 기업의 내부적 기준을 설정해야 한다. - Foreign Corrupt Practices Act(FCPA)(1977), OECD 부패방지협약(1997), 국제상거래에 있어서 외국공무원에 대한 뇌물방지법(1998), UN 반부패협약(2003), 부정청탁 및 금품 등 수수의 금지에 관한 법률(2015), ISO37001(반부패경영시스템인증) ▶ ISO 37001은 기업이나 공공기관과 같은 조직에서 반부패경영시스템을 수립하여 실행하며 부패방지 관리 성과를 개선하기 위한 요구사항을 규정하고 있다.
E10: 요건2 | F10: 비윤리 행위에 대한 내부신고 및 모니터링 체계를 갖추고 있는 경우 | H10: 2개 충족
E11: 요건3 | F11: 비윤리 행위 예방을 위한 교육 및 훈련이 이루어지고 있는 경우 | H11: 3개 충족
E12: 요건4 | F12: 비윤리 행위 발생 시 징계 등 조치 및 개선을 위한 프로세스를 갖추고 있는 경우 | H12: 4개 충족
E13: 요건5 | F13: 비윤리 행위 발생 및 사후조치에 관한 정보공개 체계를 갖추고 있는 경우 | H13: 5개 충족
C14: G-1-3 | D14: 반경쟁 행위 예방 조치 | E14: 요건1 | F14: 공정거래를 위한 업무처리 기준과 지침(공정거래 자율준수 편람)을 마련하고 있는 경우 | H14: 1개 이하 충족 | K14: ▶ 기업에 적용되는 국내외 불공정경쟁행위의 규제체계(경쟁법, competition law)를 파악하고 있는지 점검 ▶ 반경쟁 행위를 예방하기 위한 내부적 기준과 지침이 마련되어 있는지 확인 | L14: [데이터 원천] 상품이나 용역의 거래 내역(수량/내용·거래상대방), 공정거래 업무처리 지침, 거래 시 활용하고 있는 자가진단 체크리스트 등 [데이터 기간] 직전 회계연도 기준 [데이터 범위] 사업장 | M14: ▶ 국내에서 반경쟁 행위(불공정경쟁행위)는 기본적으로 공정거래법 위반 행위를 의미하며 "불공정 거래행위", "경쟁제한적 행위" 등으로 쓰이고 있으나, 국제적으로는 "반경쟁행위(anti-competitive activity)"라는 용어를 사용한다. 이외에 하도급법, 가맹사업법, 대규모유통업법, 대리점법 등이 반경쟁 행위의 관련법이라고 할 수 있다. ▶ 기업은 산업과 비즈니스 모델을 고려하여 적용될 수 있는 경쟁법의 내용을 파악하고 문서화할 필요성이 있음. ▶ 중소기업의 경우 전체 시장에서의 영향력이 크지 않기 때문에 공정거래법 상 반경쟁 행위 중 독과점, 시장지배적지위남용, 부당내부거래, 재판매가격유지행위 등을 따로 예방해야 할 필요성이 적다. 하지만 공정거래법 상 반경쟁 행위 중 불공정거래행위의 경우 살펴볼 필요성이 있다. ▶ 일반불공정거래행위의 유형 : ① 거래 거절, ② 차별적 취급, ③ 경쟁사업자 배제, ④ 부당한 고객유인, ⑤ 거래강제, ⑥ 거래상지위 남용, ⑦ 구속조건부 거래, ⑧ 사업활동 방해, ⑨ 부당한 자금·자산·인력의 지원 등 ▶ 특수불공정거래행위의 유형 : ① ｢신문업에 있어서의 불공정거래행위 및 시장지배적지위남용행위의 유형 및 기준｣ 고시, ②｢병행수입에 있어서의 불공정거래행위의 유형고시｣ ▶ 제재법률: 독점규제 및 공정거래에 관한 법률, 공정거래법
E15: 요건2 | F15: 기업에 적용될 수 있는 반경쟁 행위의 유형 및 관련 법규를 파악하고 점검할 수 있는 인력 또는 조직을 갖추고 있는 경우(준법지원(Compliance) 인력 또는 조직) | H15: 2개 충족
E16: 요건3 | F16: 반경쟁 행위 예방을 위해 거래 전 자가진단 체크리스트를 작성하고 있는 경우 | H16: 3개 충족
E17: 요건4 | F17: 불공정거래행위 발생 시 적발 및 개선 프로세스를 갖추고 있는 경우 | H17: 4개 충족
E18: 요건5 | F18: 불공정거래행위 발생 및 사후조치에 관한 정보공개 체계를 갖추고 있는 경우 | H18: 5개 충족
C19: G-1-4 | D19: 공익제보자 보호 | E19: 요건1 | F19: 기업 내외부로부터의 공익제보 신고제도를 운영하고 있는 경우 | H19: 1개 이하 충족 | K19: ▶ 기업 내외부로부터의 공익제보를 수용하는 창구를 마련하고 있는지 확인 ▶ 공익제보의 진위를 파악하고 합당한 조치를 취하는 체계를 갖추고 있는지 점검 ▶ 공익제보자의 신변을 보호하는 장치와 규정을 마련하고 있는지 확인 | L19: [데이터 원천] 공익제보 접수 채널, 공익제보 처리 이력, 공익제보 처리 지침, 공익제보자 보호 지침 [데이터 기간] 직전 회계연도 기준 [데이터 범위] 사업장 | M19: ▶ 공익신고자 보호법에 의해 법과 제도의 방향성에 따라 공익제보의 채널 및 제보자 보호 체계를 갖추어 공익 개선에 따른 사회적 책임을 다해야 한다. 신고자의 상황에 따라 실명 신고, 변호사를 통한 비실명 대리신고, 익명 신고를 모두 수용할 수 있도록 채널을 설계해야 하며, 각 신고 유형에 따라 제보를 처리하는 방식도 달라져야 한다. ▶ 공익신고자 보호법은 공익신고로 인해 신고자가 어떠한 신분상·행정적·경제적 불이익 조치를 당해서는 안 됨을 적시하고 있다. ▶ 제재법률: 공익신고자 보호법
E20: 요건2 | F20: 실명신고, 변호사를 통한 비실명 대리신고, 익명신고를 모두 수용하며, 각 유형에 따른 후속조치 프로세스를 마련하고 있는 경우 | H20: 2개 충족
E21: 요건3 | F21: 공익제보 접수 시 진위를 실사하기 위한 적절한 조치를 취하고 있는 경우 | H21: 3개 충족
E22: 요건4 | F22: 공익제보의 진위가 가려진 후, 적절한 조치를 취하고 공익을 개선하기 위한 체계를 갖추고 있는 경우 | H22: 4개 충족
E23: 요건5 | F23: 공익제보 접수 순간부터 사후 처리까지 제보자를 적절히 보호할 수 있는 장치를 마련하고 있는 경우 | H23: 5개 충족
C24: G-1-5 | D24: 정보공개 투명성 | E24: 요건1 | F24: 홈페이지 등 기업의 이해관계자를 위한 적절한 정보공개 채널을 갖추고 있는 경우 | H24: 1개 이하 충족 | K24: ▶ 기업 내외부 주요 이해관계자의 의사결정에 영향을 끼칠 수 있는 경영정보를 공개하고 있는지 점검 ▶ 기업 정보공개 담당 조직이나 인력을 갖추고 있는지 확인 ▶ 정보이용자의 피드백을 모니터링하고 정보공개의 내용 및 방식을 개선하는 체계를 마련하고 있는지 확인 | L24: [데이터 원천] 공개정보 목록, 공개정보 관리 지침 [데이터 기간] 직전 회계연도 기준 [데이터 범위] 사업장 | M24: ▶ 기업은 내외부의 다양한 이해관계자에게 경영활동에 대한 기업의 주요 정보와 성과를 공개하여 경영투명성을 제고해야 한다. 비재무적 성과에 대한 공시 의무도 제도화되어 가는 과정인데, 2025년부터는 자산 2조원 이상 코스피 상장사, 2030년부터는 전체 코스피 상장사가 지속가능경영보고서를 공시해야 한다. ▶ 기업은 홈페이지, 사업보고서, 언론매체, 지속가능경영보고서, 기업설명회 등의 공개 방법을 활용하여 자율공시를 할 수 있는데, 정기적으로 공시하는 것이 정보의 일관성과 신뢰성을 한층 더 제고할 수 있는 방법이다. ▶ 정보보호 관련 법: 개인정보보호법, 정보통신망법, 신용정보법(데이터3법), 생명윤리법, 의료법, 스마트도시법, 위치정보법, 전자상거래법, 전자금융거래법, GDPR(General Data Protection Regulation, 개인정보보호규정)
E25: 요건2 | F25: 기업이 정보공개 담당 인력이나 조직을 할당한 경우 | H25: 2개 충족
E26: 요건3 | F26: 주요 정보공개 이니셔티브와 기업의 경영성과 등을 고려하여 자사만의 공개 기준 및 공개 항목을 문서화한 경우 | H26: 3개 충족
E27: 요건4 | F27: 기업에 적용될 수 있는 정보공개 관련 법규를 파악하고 이에 따른 공개 항목을 문서화한 경우 | H27: 4개 충족
E28: 요건5 | F28: 정보이용자와의 소통 채널을 마련하여 정보공개의 내용 및 방식에 대한 피드백을 수용하고 개선하고 있는 경우 | H28: 5개 충족
C29: G-1-6 | D29: 윤리규범 위반사항 공시 | E29: 요건1 | F29: 윤리규범 위반 건수를 공시하고 있는 경우 | H29: 1개 이하 충족 | K29: ▶ 조직이 구성원의 윤리규범 위반 행위(부당한 이익이나 뇌물의 수수, 불공정 경쟁 및 거래, 제품/서비스 책임 소홀, 구성원 상호 간 모독 및 비하, 기타 사회적 책임 등)를 관리·감독함과 동시에, 구성원의 윤리규범 위반행위가 재발하지 않도록 내부 개선을 진행 중인지 확인 ▶ 이해관계자와의 신뢰성 및 투명성 관점을 고려하여, 조직이 윤리규범 위반 행위와 개선활동을 대외공시하고 있는지 점검 | L29: 지난 1개년에 발생한 윤리규범 위반 건수 및 관련 구성원 수, 윤리규범 위반 내용, 위반에 따른 처벌 및 관련 구성원 처분, 재발방지를 위한 개선활동을 공시하고 있는지 측정 [데이터 원천] 윤리규범 위반 내역 및 조치경과 [데이터 기간] 직전 회계연도 기준 | M29: ▶ 윤리규범이란 윤리경영을 실천하기 위한 올바른 의사결정과 윤리적 판단 기준을 구성원에게 제공하는 것으로서, 조직에 속한 구성원 및 해당 조직과 거래관계에 있는 자들이 업무수행 과정에서 준수해야 하는 행동방식을 담은 문서를 지칭한다. 조직마다 윤리규범을 일컫는 용어는 다양하며, 윤리헌장, 윤리강령, 행동강령, 행동규범, 청렴규범 등의 용어가 존재한다. ▶ 윤리규범 위반 사건은 1) 조직의 내부감사를 통해 확인하거나, 2) 조직 내외부의 제보자로부터 직접 제보를 받았거나, 3) 조직과 관련된 외부기관(ex. 주무관청 등)으로부터 이첩받은 사건 중 조직의 윤리심의위원회(또는 징계위원회) 개최 결과 확정된 건으로 한다. ▶ 제재법률: 자본시장과 금융투자업에 관한 법률
E30: 요건2 | F30: 윤리규범 위반한 구성원 수를 공시하고 있는 경우 | H30: 2개 충족
E31: 요건3 | F31: 윤리규범 위반 건과 관련한 처벌내역(사법상, 행정상)을 공시하고 있는 경우 | H31: 3개 충족
E32: 요건4 | F32: 윤리규범 위반 건과 관련된 구성원 처분내역(인사상)을 공시하고 있는 경우 | H32: 4개 충족
E33: 요건5 | F33: 윤리규범 위반 사건 재발방지를 위한 개선활동 및 계획을 공시하고 있는 경우 | H33: 5개 충족

Sheet 참고
J1: =COUNTA(B6:B23) -> 4 | K1: =COUNTA(E6:E23) -> 4
B2: 1. 항목별 가중치 | Z2: 2. 부문 평균평점 | AD2: 3. 분야별 가중치 | AH2: 4. 등급기준 | AL2: 5. 설문지 분석(항목별 가중치 산출)
D3: =SUM(D6:D170) -> 0 | F3: =SUMPRODUCT(D6:D170,F6:F170)/F4 -> #DIV/0! | J3: =SUM(J6:J170) -> 0 | L3: =SUMPRODUCT(J6:J170,L6:L170)/L4 -> #DIV/0! | P3: =SUM(P6:P170) -> 0 | R3: =SUMPRODUCT(P6:P170,R6:R170)/R4 -> #DIV/0! | V3: =SUM(V6:V170) -> 0 | X3: =SUMPRODUCT(V6:V170,X6:X170)/X4 -> #DIV/0!
B4: P | C4: =COUNT(C6:C170) -> 18 | F4: =SUM(F6:F170)-SUMIF(E6:E170,"x",F6:F170) -> 0 | H4: E | I4: =COUNT(I6:I170) -> 99 | L4: =SUM(L6:L170)-SUMIF(K6:K170,"x",L6:L170) -> 0 | N4: S | O4: =COUNT(O6:O170) -> 165 | R4: =SUM(R6:R170)-SUMIF(Q6:Q170,"x",R6:R170) -> 0 | T4: G | U4: =COUNT(U6:U170) -> 30 | X4: =SUM(X6:X170)-SUMIF(W6:W170,"x",X6:X170) -> 0 | AB4: 가중치미반영 | BF4: 이상치
B5: 분류번호 | C5: 배점 | D5: 평점 | E5: 해당 유무 | F5: 가중치 | H5: 분류번호 | I5: 배점 | J5: 평점 | K5: 해당 유무 | L5: 가중치 | N5: 분류번호 | O5: 배점 | P5: 평점 | Q5: 해당 유무 | R5: 가중치 | T5: 분류번호 | U5: 배점 | V5: 평점 | W5: 해당 유무 | X5: 가중치 | AA5: 구분 | AB5: 분야점수 | AD5: 구분 | AE5: 가증치 | AF5: 분야평균 | AH5: 등급구분점 | AI5: 참고 | AJ5: 등급 | AL5: 구분 | AM5: 배점 | AN5: 평균 | AO5: 클라 | AP5: 대명 | AQ5: 그린 | AR5: 도청 | AS5: 성우 | AT5: 연성 | AU5: 제이 | AV5: 충주 | AW5: 함원규(?) | AX5: 한국 | AY5: 태성 | AZ5: 옥산 | BA5: 성원 | BB5: 동서 | BC5: 대성 | BD5: 트로프 | BE5: 컨설턴트 | BF5: 정도 | BG5: 중앙 | BH5: 대흥 | BI5: 천우 | BJ5: 한양 | BK5: 삼일 | BL5: 구분 | BM5: 1단계 | BN5: 2단계 | BO5: 3단계 | BP5: 4단계 | BQ5: 5단계
B6: P-1-1 | C6: 0 | D6: =IF(E6="x",0,SUMPRODUCT('P-공시'!I4:I8,C6:C10)) -> 0 | E6: =IF(SUM('P-공시'!I4:I8)=1,"","x") -> x | F6: =VLOOKUP(B6,$AL$15:$AM$74,2,FALSE) -> 1.7372794 | H6: E-1-1 | I6: 0 | J6: =IF(K6="x",0,SUMPRODUCT('E-환경'!I4:I8,I6:I10)) -> 0 | K6: =IF(SUM('E-환경'!I4:I8)=1,"","x") -> x | L6: =VLOOKUP(H6,$AL$15:$AM$74,2,FALSE) -> 1.7444582 | N6: S-1-1 | O6: 0 | P6: =IF(Q6="x",0,SUMPRODUCT('S-사회'!I4:I8,O6:O10)) -> 0 | Q6: =IF(SUM('S-사회'!I4:I8)=1,"","x") -> x | R6: =VLOOKUP(N6,$AL$15:$AM$74,2,FALSE) -> 1.7147173 | T6: G-1-1 | U6: 0 | V6: =IF(W6="x",0,SUMPRODUCT('G-지배구조'!I4:I8,U6:U10)) -> 0 | W6: =IF(SUM('G-지배구조'!I4:I8)=1,"","x") -> x | X6: =VLOOKUP(T6,$AL$15:$AM$74,2,FALSE) -> 1.6152391 | Z6: P-1-1 | AA6: 정보공시 방식 | AB6: =D6 -> 0 | AD6: P: 공시영역 | AE6: =AM10 -> 10 | AF6: =F3*AE6/100 -> #DIV/0! | AH6: 0 | AJ6: 7등급 | AL6: 총자산 | AP6: 4900 | AQ6: 300 | AR6: 6599 | AS6: 66000 | AU6: 6755 | AV6: 5200 | AX6: 5752 | AY6: 330 | AZ6: 500 | BA6: 400 | BB6: 7320 | BD6: 3776 | BI6: 1706 | BJ6: 12300 | BL6: 가중치 | BM6: 0 | BN6: 25 | BO6: 50 | BP6: 75 | BQ6: 100
C7: 25 | I7: 25 | O7: 25 | U7: 25 | Z7: P-1-2 | AA7: 정보공시 주기 | AB7: =D11 -> 0 | AD7: E: 환경영역 | AE7: =AM11 -> 43 | AF7: =L3*AE7/100 -> #DIV/0! | AH7: 15 | AI7: 0 | AJ7: 6등급 | AL7: 매츌액 | AP7: 2000 | AQ7: 6225 | AR7: 6698 | AS7: 85000 | AU7: 1159 | AV7: 5900 | AX7: 1661 | AY7: 550 | AZ7: 16000 | BA7: 6924 | BB7: 2328 | BD7: 1770 | BI7: 1526 | BJ7: 8600
C8: 50 | I8: 50 | O8: 50 | U8: 50 | Z8: P-1-3 | AA8: 정보공시 범위 | AB8: =D14 -> 0 | AD8: S: 사회영역 | AE8: =AM12 -> 31 | AF8: =R3*AE8/100 -> #DIV/0! | AH8: 30 | AI8: 16.666667 | AJ8: 5등급 | AL8: 종업원수 | AP8: 11 | AQ8: 14 | AR8: 34 | AS8: 120 | AT8: 15 | AU8: 11 | AV8: 39 | AX8: 25 | AY8: 9 | AZ8: 16 | BA8: 13 | BB8: 19 | BD8: 11 | BI8: 11 | BJ8: 19 | BL8: 구분 | BM8: 1단계 | BO8: 2단계 | BQ8: 3단계
C9: 75 | I9: 75 | O9: 75 | U9: 75 | Z9: P-1-4 | AA9: 정보공시 검증 | AB9: =D19 -> 0 | AD9: G: 지배구조영역 | AE9: =AM13 -> 16 | AF9: =X3*AE9/100 -> #DIV/0! | AH9: 50 | AI9: 33.333333 | AJ9: 4등급 | AL9: 합계 | AM9: =SUM(AM10:AM13) -> 100 | AN9: =SUM(AN10:AN13) -> 100 | AO9: =SUM(AO10:AO13) -> 100 | AP9: =SUM(AP10:AP13) -> 100 | AQ9: =SUM(AQ10:AQ13) -> 100 | AR9: =SUM(AR10:AR13) -> 100 | AS9: =SUM(AS10:AS13) -> 100 | AT9: =SUM(AT10:AT13) -> 100 | ... BG9: =SUM(BG10:BG13) -> 100 | BI9: =SUM(BI10:BI13) -> 100 | BJ9: =SUM(BJ10:BJ13) -> 90 | BK9: =SUM(BK10:BK13) -> 0 | BL9: 가중치 | BM9: 0 | BO9: 75 | BQ9: 100
C10: 100 | I10: 100 | O10: 100 | U10: 100 | AD10: 총평점 | AE10: =SUM(AE6:AE9) -> 100 | AF10: =SUM(AF6:AF9) -> #DIV/0! | AH10: 70 | AI10: 50 | AJ10: 3등급 | AL10: P: 공시영역 | AM10: 10
B11: P-1-2 | C11: 0 | D11: =IF(E11="x",0,SUMPRODUCT('P-공시'!I9:I11,C11:C13)) -> 0 | E11: =IF(SUM('P-공시'!I9:I11)=1,"","x") -> x | F11: =VLOOKUP(B11,$AL$15:$AM$74,2,FALSE) -> 1.624469 | H11: E-1-2 | I11: 0 | J11: =IF(K11="x",0,SUMPRODUCT('E-환경'!I9:I13,I11:I15)) -> 0 | K11: =IF(SUM('E-환경'!I9:I13)=1,"","x") -> x | L11: =VLOOKUP(H11,$AL$15:$AM$74,2,FALSE) -> 1.624469 | N11: S-1-2 | O11: 0 | P11: =IF(Q11="x",0,SUMPRODUCT('S-사회'!I9:I13,O11:O15)) -> 0 | Q11: =IF(SUM('S-사회'!I9:I13)=1,"","x") -> x | R11: =VLOOKUP(N11,$AL$15:$AM$74,2,FALSE) -> 1.4665345 | T11: G-1-2 | U11: 0 | V11: =IF(W11="x",0,SUMPRODUCT('G-지배구조'!I9:I13,U11:U15)) -> 0 | W11: =IF(SUM('G-지배구조'!I9:I13)=1,"","x") -> x | X11: =VLOOKUP(T11,$AL$15:$AM$74,2,FALSE) -> 1.6583121 | Z11: E -1 | AA11: 환경경영 체계 | AB11: =IF(COUNTIF(K6:K30,"x")=0,AVERAGE(J6:J30),SUM(J6:J30)/(COUNTA(H6:H30)-COUNTIF(K6:K30,"x"))) -> #DIV/0! | AD11: 종합등급 | AF11: =VLOOKUP(AF10,AH6:AJ12,3) -> #DIV/0! | AH11: 85 | AI11: 66.666667 | AJ11: 2등급 | AL11: E: 환경영역 | AM11: =ROUND(AN11*(100-$AM$10)/$AN$9,0) -> 43 | AN11: =SUM(AO11:BI11)/COUNTA(AO11:BI11) -> 47.75 | AO11: 60 | AP11: 15 | AQ11: 70 | AR11: 40 | AS11: 50 | AT11: 40 | AU11: 20 | AV11: 50 | AW11: 30 | AX11: 50 | AY11: 60 | AZ11: 40 | BA11: 40 | BB11: 70 | BC11: 80 | BD11: 60 | BE11: 50 | BF11: 30 | BG11: 50 | BI11: 50 | BJ11: 30 | BL11: 구분 | BM11: 1단계 | BO11: 2단계 | BQ11: 3단계
C12: 75 | I12: 25 | O12: 25 | U12: 25 | Z12: E -2 | AA12: 자원 | AB12: =IF(COUNTIF(K31:K38,"x")=0,AVERAGE(J31:J38),SUM(J31:J38)/(COUNTA(H31:H38)-COUNTIF(K31:K38,"x"))) -> #DIV/0! | AH12: 95 | AI12: 83.333333 | AJ12: 1등급 | AL12: S: 사회영역 | AM12: =ROUND(AN12*(100-$AM$10)/$AN$9,0) -> 31 | AN12: =SUM(AO12:BI12)/COUNTA(AO12:BI12) -> 34.25 | AO12: 30 | AP12: 80 | AQ12: 30 | AR12: 30 | AS12: 30 | AT12: 30 | AU12: 50 | AV12: 30 | AW12: 30 | AX12: 40 | AY12: 30 | AZ12: 30 | BA12: 30 | BB12: 20 | BC12: 10 | BD12: 30 | BE12: 35 | BF12: 50 | BG12: 40 | BI12: 30 | BJ12: 30 | BL12: 가중치 | BM12: 0 | BO12: 50 | BQ12: 100
C13: 100 | I13: 50 | O13: 50 | U13: 50 | Z13: E -3 | AA13: 에너지/온실가스 | AB13: =IF(COUNTIF(K39:K62,"x")=0,AVERAGE(J39:J62),SUM(J39:J62)/(COUNTA(H39:H62)-COUNTIF(K39:K62,"x"))) -> #DIV/0! | AH13: ~ 이상 | AL13: G: 지배구조영역 | AM13: =100-SUM(AM10:AM12) -> 16 | AN13: =SUM(AO13:BI13)/COUNTA(AO13:BI13) -> 18 | AO13: 10 | AP13: 5 | AQ13: 0 | AR13: 30 | AS13: 20 | AT13: 30 | AU13: 30 | AV13: 20 | AW13: 40 | AX13: 10 | AY13: 10 | AZ13: 30 | BA13: 30 | BB13: 10 | BC13: 10 | BD13: 10 | BE13: 15 | BF13: 20 | BG13: 10 | BI13: 20 | BJ13: 30
B14: P-1-3 | C14: 0 | D14: =IF(E14="x",0,SUMPRODUCT('P-공시'!I12:I16,C14:C18)) -> 0 | E14: =IF(SUM('P-공시'!I12:I16)=1,"","x") -> x | F14: =VLOOKUP(B14,$AL$15:$AM$74,2,FALSE) -> 1.7056925 | I14: 75 | O14: 75 | U14: 75 | Z14: E -4 | AA14: 유해물질 | AB14: =IF(COUNTIF(K63:K75,"x")=0,AVERAGE(J63:J75),SUM(J63:J75)/(COUNTA(H63:H75)-COUNTIF(K63:K75,"x"))) -> #DIV/0! | AL14: 합계 | AM14: =SUM(AM15:AM74) -> 100 | AN14: =SUM(AN15:AN74) -> 211.05797 | BL14: 구분 | BM14: 요건1 | BN14: 요건2 | BO14: 요건3 | BP14: 요건4 | BQ14: 요건5
C15: 25 | I15: 100 | O15: 100 | U15: 100 | Z15: E -5 | AA15: 대기오염 | AB15: =IF(COUNTIF(K76:K88,"x")=0,AVERAGE(J76:J88),SUM(J76:J88)/(COUNTA(H76:H88)-COUNTIF(K76:K88,"x"))) -> #DIV/0! | AL15: P-1-1 | AM15: =AN15*100/$AN$14 -> 1.7372794 | AN15: =SUM(AO15:BJ15)/COUNTA(AO15:BJ15) -> 3.6666667 | AO15: 3 | AP15: 5 | AR15: 4 | AS15: 2 | AT15: 4 | AU15: 2 | AV15: 5 | AW15: 4 | AX15: 4 | AY15: 2 | AZ15: 3 | BA15: 4 | BB15: 3 | BC15: 5 | BD15: 4 | BE15: 4 | BF15: 4 | BG15: 5 | BH15: 4 | BI15: 4 | BJ15: 2 | BL15: 진단조건 | BM15: 요건 1개 이하 충족 | BN15: 요건 2개 충족 | BO15: 요건 3개 충족 | BP15: 요건 4개 충족 | BQ15: 요건 5개 충족
C16: 50 | H16: E-1-3 | I16: 0 | J16: =IF(K21="x",0,SUMPRODUCT('E-환경'!I14:I18,I16:I20)/2+SUMPRODUCT('E-환경'!I19:I23,I21:I25)/2) -> 0 | K16: =IF(SUM('E-환경'!I14:I23)=2,"","x") -> x | L16: =VLOOKUP(H16,$AL$15:$AM$74,2,FALSE) -> 1.7147173 | N16: S-1-3 | O16: 0 | P16: =IF(Q16="x",0,SUMPRODUCT('S-사회'!I14:I18,O16:O20)) -> 0 | Q16: =IF(SUM('S-사회'!I14:I18)=1,"","x") -> x | R16: =VLOOKUP(N16,$AL$15:$AM$74,2,FALSE) -> 1.4924809 | T16: G-1-3 | U16: 0 | V16: =IF(W16="x",0,SUMPRODUCT('G-지배구조'!I14:I18,U16:U20)) -> 0 | W16: =IF(SUM('G-지배구조'!I14:I18)=1,"","x") -> x | X16: =VLOOKUP(T16,$AL$15:$AM$74,2,FALSE) -> 1.6152391 | Z16: E -6 | AA16: 수질오염 | AB16: =IF(COUNTIF(K89:K104,"x")=0,AVERAGE(J89:J104),SUM(J89:J104)/(COUNTA(H89:H104)-COUNTIF(K89:K104,"x"))) -> #DIV/0! | AL16: P-1-2 | AM16: =AN16*100/$AN$14 -> 1.624469 | AN16: =SUM(AO16:BJ16)/COUNTA(AO16:BJ16) -> 3.4285714 | AO16: 4 | AP16: 5 | AR16: 3 | AS16: 3 | AT16: 4 | AU16: 2 | AV16: 5 | AW16: 3 | AX16: 3 | AY16: 1 | AZ16: 4 | BA16: 3 | BB16: 4 | BC16: 5 | BD16: 3 | BE16: 1 | BF16: 4 | BG16: 5 | BH16: 4 | BI16: 4 | BJ16: 2
C17: 75 | I17: 25 | O17: 25 | U17: 25 | AL17: P-1-3 | AM17: =AN17*100/$AN$14 -> 1.7056925 | AN17: =SUM(AO17:BJ17)/COUNTA(AO17:BJ17) -> 3.6 | AO17: 3 | AP17: 5 | AR17: 3 | AS17: 3 | AT17: 4 | AU17: 3 | AV17: 5 | AW17: 3 | AX17: 3 | AZ17: 4 | BA17: 3 | BB17: 4 | BC17: 5 | BD17: 3 | BE17: 3 | BF17: 4 | BG17: 5 | BH17: 3 | BI17: 4 | BJ17: 2 | BL17: 가중치 | BM17: 0 | BN17: 25 | BO17: 50 | BP17: 75 | BQ17: 100
C18: 100 | I18: 50 | O18: 50 | U18: 50 | Z18: S -1 | AA18: 노동 | AB18: =IF(COUNTIF(Q6:Q20,"x")=0,AVERAGE(P6:P20),SUM(P6:P20)/(COUNTA(N6:N20)-COUNTIF(Q6:Q20,"x"))) -> #DIV/0! | AL18: P-1-4 | AM18: =AN18*100/$AN$14 -> 1.6470311 | AN18: =SUM(AO18:BJ18)/COUNTA(AO18:BJ18) -> 3.4761905 | AO18: 3 | AP18: 4 | AR18: 4 | AS18: 3 | AT18: 4 | AU18: 3 | AV18: 5 | AW18: 3 | AX18: 3 | AY18: 3 | AZ18: 4 | BA18: 4 | BB18: 3 | BC18: 5 | BD18: 3 | BE18: 1 | BF18: 4 | BG18: 5 | BH18: 3 | BI18: 4 | BJ18: 2
B19: P-1-4 | C19: 0 | D19: =IF(E19="x",0,SUMPRODUCT('P-공시'!I17:I21,C19:C23)) -> 0 | E19: =IF(SUM('P-공시'!I17:I21)=1,"","x") -> x | F19: =VLOOKUP(B19,$AL$15:$AM$74,2,FALSE) -> 1.6470311 | I19: 75 | O19: 75 | U19: 75 | Z19: S -2 | AA19: 인권 | AB19: =IF(COUNTIF(Q21:Q50,"x")=0,AVERAGE(P21:P50),SUM(P21:P50)/(COUNTA(N21:N50)-COUNTIF(Q21:Q50,"x"))) -> #DIV/0! | AL19: E-1-1 | AM19: =AN19*100/$AN$14 -> 1.7444582 | AN19: =SUM(AO19:BJ19)/COUNTA(AO19:BJ19) -> 3.6818182 | AO19: 5 | AP19: 4 | AQ19: 1 | AR19: 3 | AS19: 4 | AT19: 3 | AU19: 3 | AV19: 5 | AW19: 4 | AX19: 4 | AY19: 3 | AZ19: 4 | BA19: 3 | BB19: 3 | BC19: 4 | BD19: 4 | BE19: 5 | BF19: 4 | BG19: 5 | BH19: 4 | BI19: 4 | BJ19: 2
C20: 25 | I20: 100 | O20: 100 | U20: 100 | Z20: S -3 | AA20: 다양성/양성평등 | AB20: =IF(COUNTIF(Q51:Q65,"x")=0,AVERAGE(P51:P65),SUM(P51:P65)/(COUNTA(N51:N65)-COUNTIF(Q51:Q65,"x"))) -> #DIV/0! | AL20: E-1-2 | AM20: =AN20*100/$AN$14 -> 1.624469 | AN20: =SUM(AO20:BJ20)/COUNTA(AO20:BJ20) -> 3.4285714 | AO20: 4 | AP20: 4 | AQ20: 2 | AR20: 3 | AS20: 4 | AT20: 3 | AU20: 3 | AV20: 5 | AW20: 4 | AX20: 2 | AY20: 4 | AZ20: 4 | BA20: 3 | BB20: 2 | BC20: 4 | BD20: 2 | BE20: 4 | BF20: 4 | BG20: 5 | BH20: 4 | BJ20: 2
C21: 50 | I21: 0 | N21: S-2-1 | O21: 0 | P21: =IF(Q21="x",0,SUMPRODUCT('S-사회'!I19:I23,O21:O25)) -> 0 | Q21: =IF(SUM('S-사회'!I19:I23)=1,"","x") -> x | R21: =VLOOKUP(N21,$AL$15:$AM$74,2,FALSE) -> 1.601907 | T21: G-1-4 | U21: 0 | V21: =IF(W21="x",0,SUMPRODUCT('G-지배구조'!I19:I23,U21:U25)) -> 0 | W21: =IF(SUM('G-지배구조'!I19:I23)=1,"","x") -> x | X21: =VLOOKUP(T21,$AL$15:$AM$74,2,FALSE) -> 1.5937026 | Z21: S -4 | AA21: 안전보건 | AB21: =IF(COUNTIF(Q66:Q80,"x")=0,AVERAGE(P66:P80),SUM(P66:P80)/(COUNTA(N66:N80)-COUNTIF(Q66:Q80,"x"))) -> #DIV/0! | AL21: E-1-3 | AM21: =AN21*100/$AN$14 -> 1.7147173 | AN21: =SUM(AO21:BJ21)/COUNTA(AO21:BJ21) -> 3.6190476 | AO21: 4 | AP21: 5 | AQ21: 2 | AR21: 3 | AS21: 4 | AT21: 4 | AU21: 3 | AV21: 5 | AW21: 4 | AX21: 2 | AY21: 3 | AZ21: 4 | BA21: 4 | BB21: 4 | BC21: 4 | BD21: 2 | BE21: 4 | BF21: 4 | BG21: 5 | BH21: 3 | BJ21: 3
C22: 75 | I22: 25 | O22: 25 | U22: 25 | Z22: S -5 | AA22: 작업환경개선 | AB22: =IF(COUNTIF(Q81:Q98,"x")=0,AVERAGE(P81:P98),SUM(P81:P98)/(COUNTA(N81:N98)-COUNTIF(Q81:Q98,"x"))) -> #DIV/0! | AL22: E-1-4 | AM22: =AN22*100/$AN$14 -> 1.8275277 | AN22: =SUM(AO22:BJ22)/COUNTA(AO22:BJ22) -> 3.8571429 | AO22: 4 | AP22: 5 | AQ22: 2 | AR22: 3 | AS22: 4 | AT22: 3 | AU22: 2 | AV22: 5 | AW22: 4 | AX22: 4 | AY22: 4 | AZ22: 5 | BA22: 3 | BB22: 4 | BC22: 4 | BD22: 4 | BE22: 5 | BF22: 4 | BG22: 5 | BH22: 4 | BJ22: 3
C23: 100 | I23: 50 | O23: 50 | U23: 50 | Z23: S -6 | AA23: 산재예방 | AB23: =IF(COUNTIF(Q99:Q128,"x")=0,AVERAGE(P99:P128),SUM(P99:P128)/(COUNTA(N99:N128)-COUNTIF(Q99:Q128,"x"))) -> #DIV/0! | AL23: E-2-1 | AM23: =AN23*100/$AN$14 -> 1.6109318 | AN23: =SUM(AO23:BJ23)/COUNTA(AO23:BJ23) -> 3.4 | AO23: 3 | AP23: 4 | AQ23: 3 | AR23: 3 | AS23: 3 | AT23: 4 | AV23: 5 | AW23: 4 | AX23: 1 | AY23: 3 | AZ23: 4 | BA23: 4 | BB23: 4 | BC23: 4 | BD23: 1 | BE23: 3 | BF23: 4 | BG23: 5 | BH23: 3 | BJ23: 3
I24: 75 | O24: 75 | U24: 75 | Z24: S -7 | AA24: 동반성장 | AB24: =IF(COUNTIF(Q129:Q138,"x")=0,AVERAGE(P129:P138),SUM(P129:P138)/(COUNTA(N129:N138)-COUNTIF(Q129:Q138,"x"))) -> #DIV/0! | AL24: E-2-2 | AM24: =AN24*100/$AN$14 -> 1.7372794 | AN24: =SUM(AO24:BJ24)/COUNTA(AO24:BJ24) -> 3.6666667 | AO24: 4 | AP24: 4 | AQ24: 4 | AR24: 3 | AS24: 4 | AT24: 4 | AU24: 3 | AV24: 3 | AW24: 4 | AX24: 3 | AY24: 4 | AZ24: 5 | BA24: 4 | BB24: 4 | BC24: 4 | BD24: 3 | BE24: 3 | BF24: 4 | BG24: 3 | BH24: 4 | BJ24: 3
I25: 100 | O25: 100 | U25: 100 | Z25: S -8 | AA25: 지역사회 | AB25: =IF(COUNTIF(Q139:Q148,"x")=0,AVERAGE(P139:P148),SUM(P139:P148)/(COUNTA(N139:N148)-COUNTIF(Q139:Q148,"x"))) -> #DIV/0! | AL25: E-3-1 | AM25: =AN25*100/$AN$14 -> 1.5635514 | AN25: =SUM(AO25:BJ25)/COUNTA(AO25:BJ25) -> 3.3 | AO25: 4 | AP25: 5 | AQ25: 4 | AR25: 4 | AS25: 3 | AT25: 4 | AV25: 3 | AW25: 3 | AX25: 1 | AY25: 2 | AZ25: 4 | BA25: 3 | BB25: 3 | BC25: 5 | BD25: 1 | BE25: 5 | BF25: 4 | BG25: 3 | BH25: 3 | BJ25: 2
H26: E-1-4 | I26: 0 | J26: =IF(K26="x",0,SUMPRODUCT('E-환경'!I24:I28,I26:I30)) -> 0 | K26: =IF(SUM('E-환경'!I24:I28)=1,"","x") -> x | L26: =VLOOKUP(H26,$AL$15:$AM$74,2,FALSE) -> 1.8275277 | N26: S-2-2 | O26: 0 | P26: =IF(Q26="x",0,SUMPRODUCT('S-사회'!I24:I28,O26:O30)) -> 0 | Q26: =IF(SUM('S-사회'!I24:I28)=1,"","x") -> x | R26: =VLOOKUP(N26,$AL$15:$AM$74,2,FALSE) -> 1.6921552 | T26: G-1-5 | U26: 0 | V26: =IF(W26="x",0,SUMPRODUCT('G-지배구조'!I24:I28,U26:U30)) -> 0 | W26: =IF(SUM('G-지배구조'!I24:I28)=1,"","x") -> x | X26: =VLOOKUP(T26,$AL$15:$AM$74,2,FALSE) -> 1.7444582 | Z26: S -9 | AA26: 정보보호 | AB26: =IF(COUNTIF(Q149:Q157,"x")=0,AVERAGE(P149:P157),SUM(P149:P157)/(COUNTA(N149:N157)-COUNTIF(Q149:Q157,"x"))) -> #DIV/0! | AL26: E-3-2 | AM26: =AN26*100/$AN$14 -> 1.5635514 | AN26: =SUM(AO26:BJ26)/COUNTA(AO26:BJ26) -> 3.3 | AO26: 3 | AP26: 4 | AQ26: 4 | AR26: 3 | AS26: 4 | AT26: 4 | AV26: 3 | AW26: 4 | AX26: 2 | AY26: 3 | AZ26: 3 | BA26: 4 | BB26: 3 | BC26: 4 | BD26: 2 | BE26: 4 | BF26: 4 | BG26: 3 | BH26: 2 | BJ26: 3
I27: 25 | O27: 25 | U27: 25 | Z27: S -10 | AA27: 고객관계 | AB27: =IF(COUNTIF(Q158:Q170,"x")=0,AVERAGE(P158:P170),SUM(P158:P170)/(COUNTA(N158:N170)-COUNTIF(Q158:Q170,"x"))) -> #DIV/0! | AL27: E-3-3 | AM27: =AN27*100/$AN$14 -> 1.5872416 | AN27: =SUM(AO27:BJ27)/COUNTA(AO27:BJ27) -> 3.35 | AO27: 5 | AP27: 4 | AQ27: 2 | AR27: 4 | AS27: 3 | AT27: 4 | AV27: 3 | AW27: 3 | AX27: 2 | AY27: 3 | AZ27: 5 | BA27: 4 | BB27: 3 | BC27: 5 | BD27: 2 | BE27: 4 | BF27: 4 | BG27: 3 | BH27: 2 | BJ27: 2
I28: 50 | O28: 50 | U28: 50 | AL28: E-3-4 | AM28: =AN28*100/$AN$14 -> 1.5398613 | AN28: =SUM(AO28:BJ28)/COUNTA(AO28:BJ28) -> 3.25 | AO28: 4 | AP28: 4 | AQ28: 2 | AR28: 4 | AS28: 3 | AT28: 4 | AV28: 3 | AW28: 3 | AX28: 3 | AY28: 3 | AZ28: 4 | BA28: 3 | BB28: 4 | BC28: 5 | BD28: 3 | BE28: 1 | BF28: 4 | BG28: 3 | BH28: 2 | BJ28: 3
I29: 75 | O29: 75 | U29: 75 | Z29: G -1 | AA29: 윤리헌장/실천규범 | AB29: =V6 -> 0 | AL29: E-4-1 | AM29: =AN29*100/$AN$14 -> 1.6820023 | AN29: =SUM(AO29:BJ29)/COUNTA(AO29:BJ29) -> 3.55 | AO29: 3 | AP29: 4 | AQ29: 3 | AR29: 3 | AS29: 3 | AT29: 4 | AV29: 3 | AW29: 4 | AX29: 3 | AY29: 3 | AZ29: 5 | BA29: 4 | BB29: 4 | BC29: 4 | BD29: 3 | BE29: 4 | BF29: 4 | BG29: 3 | BH29: 4 | BJ29: 3
I30: 100 | O30: 100 | U30: 100 | Z30: G -2 | AA30: 비윤리예방조치 | AB30: =V11 -> 0 | AL30: E-4-2 | AM30: =AN30*100/$AN$14 -> 1.7444582 | AN30: =SUM(AO30:BJ30)/COUNTA(AO30:BJ30) -> 3.6818182 | AO30: 3 | AP30: 5 | AQ30: 3 | AR30: 3 | AS30: 4 | AT30: 4 | AU30: 3 | AV30: 4 | AW30: 4 | AX30: 3 | AY30: 4 | AZ30: 4 | BA30: 3 | BB30: 4 | BC30: 4 | BD30: 3 | BE30: 4 | BF30: 4 | BG30: 4 | BH30: 4 | BI30: 4 | BJ30: 3
H31: E-2-1 | I31: 0 | J31: =IF(K31="x",0,SUMPRODUCT('E-환경'!I29:I33,I31:I35)) -> 0 | K31: =IF(SUM('E-환경'!I29:I33)=1,"","x") -> x | L31: =VLOOKUP(H31,$AL$15:$AM$74,2,FALSE) -> 1.6109318 | N31: S-2-3 | O31: 0 | P31: =IF(Q31="x",0,SUMPRODUCT('S-사회'!I29:I33,O31:O35)) -> 0 | Q31: =IF(SUM('S-사회'!I29:I33)=1,"","x") -> x | R31: =VLOOKUP(N31,$AL$15:$AM$74,2,FALSE) -> 1.8715237 | T31: G-1-6 | U31: 0 | V31: =IF(W31="x",0,SUMPRODUCT('G-지배구조'!I29:I33,U31:U35)) -> 0 | W31: =IF(SUM('G-지배구조'!I29:I33)=1,"","x") -> x | X31: =VLOOKUP(T31,$AL$15:$AM$74,2,FALSE) -> 1.6152391 | Z31: G -3 | AA31: 반경쟁예방조치 | AB31: =V16 -> 0 | AL31: E-4-3 | AM31: =AN31*100/$AN$14 -> 1.7824035 | AN31: =SUM(AO31:BJ31)/COUNTA(AO31:BJ31) -> 3.7619048 | AO31: 3 | AP31: 4 | AQ31: 4 | AR31: 4 | AS31: 4 | AT31: 4 | AV31: 5 | AW31: 3 | AX31: 4 | AY31: 3 | AZ31: 4 | BA31: 3 | BB31: 4 | BC31: 4 | BD31: 4 | BE31: 3 | BF31: 4 | BG31: 5 | BH31: 3 | BI31: 4 | BJ31: 3
I32: 25 | O32: 25 | U32: 25 | Z32: G -4 | AA32: 공익제보자보호 | AB32: =V21 -> 0 | AL32: E-5-1 | AM32: =AN32*100/$AN$14 -> 1.8500897 | AN32: =SUM(AO32:BJ32)/COUNTA(AO32:BJ32) -> 3.9047619 | AO32: 4 | AP32: 4 | AQ32: 4 | AR32: 4 | AS32: 4 | AT32: 4 | AV32: 5 | AW32: 3 | AX32: 4 | AY32: 2 | AZ32: 4 | BA32: 4 | BB32: 4 | BC32: 3 | BD32: 4 | BE32: 5 | BF32: 4 | BG32: 5 | BH32: 4 | BI32: 4 | BJ32: 3
I33: 50 | O33: 50 | U33: 50 | Z33: G -5 | AA33: 정보공개투명성 | AB33: =V26 -> 0 | AL33: E-5-2 | AM33: =AN33*100/$AN$14 -> 1.7372794 | AN33: =SUM(AO33:BJ33)/COUNTA(AO33:BJ33) -> 3.6666667 | AO33: 2 | AP33: 4 | AQ33: 4 | AR33: 4 | AS33: 4 | AT33: 4 | AV33: 5 | AW33: 3 | AX33: 3 | AY33: 2 | AZ33: 4 | BA33: 4 | BB33: 4 | BC33: 3 | BD33: 3 | BE33: 4 | BF33: 4 | BG33: 5 | BH33: 4 | BI33: 4 | BJ33: 3
I34: 75 | O34: 75 | U34: 75 | Z34: G -6 | AA34: 윤리규범위반공시 | AB34: =V31 -> 0 | AL34: E-6-1 | AM34: =AN34*100/$AN$14 -> 1.6583121 | AN34: =SUM(AO34:BJ34)/COUNTA(AO34:BJ34) -> 3.5 | AO34: 3 | AP34: 4 | AQ34: 4 | AR34: 3 | AS34: 4 | AT34: 4 | AU34: 3 | AV34: 4 | AW34: 3 | AX34: 2 | AY34: 2 | AZ34: 5 | BA34: 4 | BB34: 4 | BC34: 3 | BD34: 2 | BE34: 3 | BF34: 4 | BG34: 4 | BH34: 5 | BI34: 4 | BJ34: 3
I35: 100 | O35: 100 | U35: 100 | AL35: E-6-2 | AM35: =AN35*100/$AN$14 -> 1.4665345 | AN35: =SUM(AO35:BJ35)/COUNTA(AO35:BJ35) -> 3.0952381 | AO35: 3 | AP35: 4 | AQ35: 3 | AR35: 3 | AS35: 4 | AT35: 3 | AU35: 3 | AV35: 3 | AW35: 3 | AX35: 1 | AY35: 3 | AZ35: 5 | BA35: 4 | BB35: 3 | BC35: 3 | BD35: 1 | BE35: 2 | BF35: 4 | BG35: 3 | BH35: 4 | BJ35: 3
H36: E-2-2 | I36: 0 | J36: =IF(K36="x",0,SUMPRODUCT('E-환경'!I34:I36,I36:I38)) -> 0 | K36: =IF(SUM('E-환경'!I34:I36)=1,"","x") -> x | L36: =VLOOKUP(H36,$AL$15:$AM$74,2,FALSE) -> 1.7372794 | N36: S-2-4 | O36: 0 | P36: =IF(Q36="x",0,SUMPRODUCT('S-사회'!I34:I38,O36:O40)) -> 0 | Q36: =IF(SUM('S-사회'!I34:I38)=1,"","x") -> x | R36: =VLOOKUP(N36,$AL$15:$AM$74,2,FALSE) -> 1.6695932 | AL36: E-6-3 | AM36: =AN36*100/$AN$14 -> 1.5161711 | AN36: =SUM(AO36:BJ36)/COUNTA(AO36:BJ36) -> 3.2 | AO36: 2 | AP36: 4 | AQ36: 4 | AR36: 3 | AS36: 4 | AT36: 3 | AV36: 3 | AW36: 3 | AX36: 2 | AY36: 1 | AZ36: 5 | BA36: 4 | BB36: 4 | BC36: 3 | BD36: 2 | BE36: 3 | BF36: 4 | BG36: 3 | BH36: 4 | BJ36: 3
I37: 50 | O37: 25 | AL37: S-1-1 | AM37: =AN37*100/$AN$14 -> 1.7147173 | AN37: =SUM(AO37:BJ37)/COUNTA(AO37:BJ37) -> 3.6190476 | AO37: 3 | AP37: 5 | AQ37: 4 | AR37: 4 | AS37: 4 | AT37: 4 | AU37: 3 | AV37: 5 | AW37: 3 | AX37: 3 | AY37: 1 | AZ37: 4 | BA37: 4 | BB37: 3 | BC37: 2 | BD37: 3 | BE37: 3 | BF37: 4 | BG37: 5 | BH37: 5 | BJ37: 4
I38: 100 | O38: 50 | AL38: S-1-2 | AM38: =AN38*100/$AN$14 -> 1.4665345 | AN38: =SUM(AO38:BJ38)/COUNTA(AO38:BJ38) -> 3.0952381 | AO38: 3 | AP38: 5 | AQ38: 2 | AR38: 3 | AS38: 3 | AT38: 4 | AU38: 4 | AV38: 5 | AW38: 3 | AX38: 1 | AY38: 2 | AZ38: 3 | BA38: 3 | BB38: 4 | BC38: 2 | BD38: 1 | BE38: 2 | BF38: 4 | BG38: 5 | BH38: 4 | BJ38: 2
H39: E-3-1 | I39: 0 | J39: =IF(K39="x",0,SUMPRODUCT('E-환경'!I37:I41,I39:I43)/3+SUMPRODUCT('E-환경'!I42:I46,I44:I48)/3+SUMPRODUCT('E-환경'!I47:I49,I49:I51)/3) -> 0 | K39: =IF(SUM('E-환경'!I37:I49)=3,"","x") -> x | L39: =VLOOKUP(H39,$AL$15:$AM$74,2,FALSE) -> 1.5635514 | O39: 75 | AL39: S-1-3 | AM39: =AN39*100/$AN$14 -> 1.4924809 | AN39: =SUM(AO39:BJ39)/COUNTA(AO39:BJ39) -> 3.15 | AO39: 3 | AP39: 4 | AQ39: 2 | AR39: 3 | AS39: 3 | AT39: 4 | AV39: 5 | AW39: 3 | AX39: 2 | AY39: 2 | AZ39: 4 | BA39: 3 | BB39: 3 | BC39: 2 | BD39: 2 | BE39: 2 | BF39: 4 | BG39: 5 | BH39: 5 | BJ39: 2
I40: 25 | O40: 100 | AL40: S-2-1 | AM40: =AN40*100/$AN$14 -> 1.601907 | AN40: =SUM(AO40:BJ40)/COUNTA(AO40:BJ40) -> 3.3809524 | AO40: 3 | AP40: 4 | AQ40: 2 | AR40: 3 | AS40: 4 | AT40: 4 | AU40: 3 | AV40: 5 | AW40: 3 | AX40: 2 | AY40: 2 | AZ40: 4 | BA40: 3 | BB40: 4 | BC40: 2 | BD40: 2 | BE40: 5 | BF40: 4 | BG40: 5 | BH40: 5 | BJ40: 2
...
