Workbook

Sheet  배점 기준
A1: < 연구개발 혁신역량 및 성장단계별 배점 기준 >
A2: 연구개발 혁신 역량 | C2: 5점 | D2: 4점 | E2: 3점 | F2: 2점 | G2: 1점
A3: 연구개발 투자 비율 | C3: 10% 이상 | D3: 5%이상~ 10%미만 | E3: 3% 이상~ 5%미만 | F3: 0%초과~ 3% 이하 | G3: 없음
A4: 연구개발 인력 비율 | C4: 30% 이상 | D4: 20%이상~ 30%미만 | E4: 10% 이상~20%미만 | F4: 0%초과~ 10% 이하 | G4: 없음
A5: 특허 | C5: 10개 이상 | D5: 6개~ 10개 미만 | E5: 2개~ 5개 미만 | F5: 1개 | G5: 없음
A6: 성장단계 | C6: 5점 | D6: 4점 | E6: 3점 | F6: 2점 | G6: 1점
A7: 매출액 증가율 | C7: 30% 이상 | D7: 20%이상 ~30%미만 | E7: 10%이상~ 20%미만 | F7: 0%초과~ 10%미만 | G7: 없음(-성장)
A8: 매출액 규모 | C8: 50억 이상 | D8: 30억 이상~ 50억 미만 | E8: 10억 이상~ 30억 미만 | F8: 3억 초과~ 10억 미만 | G8: 3억 미만
A9: 고용규모 | C9: 100명 이상 | D9: 30인 이상~100인 미만 | E9: 10인 이상~ 30인 미만 | F9: 5인 초과~10인 이하 | G9: 5인 미만
A11: < 연구개발 및 성장단계별 수준 정의 >
A12: 연구개발 혁신역량 구분 | B12: 기술선도 | C12: 기술추격 | D12: 기술반응 | E12: 단순생산기업
A13: 점수 평균 | B13: 4점 이상 | C13: 3점 이상~ 4점 미만 | D13: 1점 초과~ 3점 미만 | E13: 1점
A15: 성장단계 구분 | B15: 성숙기 | C15: 성장기 | D15: 도약기 | E15: 창업기
A16: 점수 평균 | B16: 4점 이상 | C16: 3점 이상~ 4점 미만 | D16: 1점 초과~ 3점 미만 | E16: 1점

Sheet 1. 업체별 연구개발 투자현황
D1: 노란색 부분만 기입 요망, 다른 부분은 수정 금지(배점 기준 시트 외 전체 작성)
C3: 연구개발 투자금액 | S3: 매출액(원)
C4: ①재무상태표 (개발비 총증가액) | F4: ②손익계산서 (연구비, 경상개발비 또는 (경상)연구개발비) | I4: ③제조원가명세서 (연구비, 경상개발비 또는 (경상)연구개발비) | L4: ④기타원가명세서 (연구비, 경상개발비 또는 (경상)연구개발비) | O4: ⑤연구개발비합계(=①+②+③+④)
C5: 2022 | D5: 2023 | E5: 2024 | F5: 2022 | G5: 2023 | H5: 2024 | I5: 2022 | J5: 2023 | K5: 2024 | L5: 2022 | M5: 2023 | N5: 2024 | O5: 2022 | P5: 2023 | Q5: 2024 | R5: 3개년도 합산 | S5: 2022 | T5: 2023 | U5: 2024 | V5: 3개년도 합산
A6: 1 | B6: 업체1 | C6: 0 | D6: 0 | E6: 0 | O6: =SUM(C6,F6,I6,L6) -> 0 | P6: =SUM(D6,G6,J6,M6) -> 0 | Q6: =SUM(D6,G6,J6,M6) -> 0 | R6: =SUM(O6:Q6) -> 0 | V6: =SUM(S6:U6) -> 0
A7: 2 | B7: 업체2 | O7: =SUM(C7,F7,I7,L7) -> 0 | P7: =SUM(D7,G7,J7,M7) -> 0 | Q7: =SUM(D7,G7,J7,M7) -> 0 | R7: =SUM(O7:Q7) -> 0 | V7: =SUM(S7:U7) -> 0
A8: 3 | B8: 업체3 | O8: =SUM(C8,F8,I8,L8) -> 0 | P8: =SUM(D8,G8,J8,M8) -> 0 | Q8: =SUM(D8,G8,J8,M8) -> 0 | R8: =SUM(O8:Q8) -> 0 | V8: =SUM(S8:U8) -> 0
A9: 4 | B9: 업체4 | O9: =SUM(C9,F9,I9,L9) -> 0 | P9: =SUM(D9,G9,J9,M9) -> 0 | Q9: =SUM(D9,G9,J9,M9) -> 0 | R9: =SUM(O9:Q9) -> 0 | V9: =SUM(S9:U9) -> 0
A10: 5 | B10: 업체5 | O10: =SUM(C10,F10,I10,L10) -> 0 | P10: =SUM(D10,G10,J10,M10) -> 0 | Q10: =SUM(D10,G10,J10,M10) -> 0 | R10: =SUM(O10:Q10) -> 0 | V10: =SUM(S10:U10) -> 0
A11: 총 | C11: =SUM(C6:C10) -> 0 | D11: =SUM(D6:D10) -> 0 | E11: =SUM(E6:E10) -> 0 | F11: =SUM(F6:F10) -> 0 | G11: =SUM(G6:G10) -> 0 | H11: =SUM(H6:H10) -> 0 | I11: =SUM(I6:I10) -> 0 | J11: =SUM(J6:J10) -> 0 | ... V11: =SUM(V6:V10) -> 0
D16: ※ 작성간 참고사항 3개년도(2022~2024) 과제수행 대상 업체 전체에 대한 각 연도별 '연구개발 투자금액' 및 '매출액' 기재 1) '연구개발 투자금액' : 하단 참고하여 작성 - 외부감사 대상기업: 감사보고서, 제조원가명세서에 등 - 외부감사 비대상기업: 재무제표 확인원, 제조원가 명세서 등 2) '매출액' : 손익계산서, 부가가치 증명원 등 참고하여 작성

Sheet 2. 업체별 연구개발 투입인력현황
C1: 노란색 부분만 기입 요망, 다른 부분은 수정 금지(배점 기준 시트 외 전체 작성)
C3: 2025
C4: 연구개발 인력수 | D4: 총 종사자수 | E4: (단위 : 명)
A5: 1 | B5: 업체1
A6: 2 | B6: 업체2 | F6: ※ 작성간 참고사항 2025년도 업체별 '연구개발 인력 수' 및 '총 종사자수' 기재 1) 연구개발 인력 수' : 조직내에서 기술개발, 연구 및 기술개발을 수행하고 있는 부서인원을 작성하되, 단순 사무보조, 지원인력등은 제외 (예시)연구개발(ICT) 인력이라함은 R&D분야 수행경험을 보유하고 있는 경력자(3년이상) 또는 석박사급 인력에 해당하는 인원 수, 이외에 연구개발인력이라 증명할 수 있는 경우 인정가능 2) 총 종사자수 : 2025년 현재 등재된 근무자 수
A7: 3 | B7: 업체3
A8: 4 | B8: 업체4
A9: 5 | B9: 업체5
A10: 총 | C10: =SUM(C5:C9) -> 0 | D10: =SUM(D5:D9) -> 0

Sheet 3. 업체별 특허현황
C1: 노란색 부분만 기입 요망, 다른 부분은 수정 금지(배점 기준 시트 외 전체 작성)
C3: 2022~2025
C4: 국내특허개수 | D4: 해외특허개수 | E4: 단위 : 건
A5: 1 | B5: 업체1
A6: 2 | B6: 업체2 | F6: ※ 작성간 참고사항 2022~2025년에 출원일자, 등록일자로 명시된 국내, 해외특허 (기술개발과 무관한 디자인 특허등 제외)
A7: 3 | B7: 업체3
A8: 4 | B8: 업체4
A9: 5 | B9: 업체5
A10: 총 | C10: =SUM(C5:C9) -> 0 | D10: =SUM(D5:D9) -> 0

Sheet 4. 혁신역량 및 성장단계 산식
C1: 노란색 부분만 기입 요망, 다른 부분은 수정 금지(배점 기준 시트 외 전체 작성)
C3: 연구개발혁신역량 | F3: 성장단계 | I3: 종합점수 | O3: 역량 및 단계구분
C4: 연구개발 투자비율(%) | D4: 연구개발 인력비율(%) | E4: 특허(건) | F4: 매출액증가율(%) | G4: 매출액규모(원) | H4: 고용규모(명) | I4: 연구개발 투자비율 | J4: 연구개발인력비율 | K4: 특허 | L4: 매출액증가율 | M4: 매출액규모 | N4: 고용규모 | O4: 역량수준 | P4: 성장단계
A5: 1 | B5: 업체1 | C5: ='1. 업체별 연구개발 투자현황'!R6/'1. 업체별 연구개발 투자현황'!V6*100 -> #DIV/0! | D5: ='2. 업체별 연구개발 투입인력현황'!C5/'2. 업체별 연구개발 투입인력현황'!D5*100 -> #DIV/0! | E5: ='3. 업체별 특허현황'!C5+'3. 업체별 특허현황'!D5 -> 0 | F5: =((('1. 업체별 연구개발 투자현황'!T6-'1. 업체별 연구개발 투자현황'!S6)/'1. 업체별 연구개발 투자현황'!S6)+(('1. 업체별 연구개발 투자현황'!U6-'1. 업체별 연구개발 투자현황'!T6)/'1. 업체별 연구개발 투자현황'!T6))/2*100 -> #DIV/0! | G5: =AVERAGE('1. 업체별 연구개발 투자현황'!S6,'1. 업체별 연구개발 투자현황'!T6,'1. 업체별 연구개발 투자현황'!U6) -> #DIV/0! | H5: ='2. 업체별 연구개발 투입인력현황'!D5 -> 0 | I5: =IF(C5>=10,5, IF(C5>=5,4, IF(C5>=3,3, IF(C5>0,2, IF(C5=0,1) ) ) ) ) -> #DIV/0! | J5: =IF(D5>=30,5, IF(D5>=20,4, IF(D5>=10,3, IF(D5>0,2, IF(D5=0,1) ) ) ) ) -> #DIV/0! | K5: =IF(E5>=10,5, IF(E5>=6,4, IF(E5>=2,3, IF(E5>=1,2, IF(E5=0,1) ) ) ) ) -> 1 | L5: =IF(F5>=30,5, IF(F5>=20,4, IF(F5>=10,3, IF(F5>0,2, IF(F5<0,1) ) ) ) ) -> #DIV/0! | M5: =IF(G5>=5000000000,5, IF(G5>=3000000000,4, IF(G5>=1000000000,3, IF(G5>=300000000,2, IF(G5<300000000,1) ) ) ) ) -> #DIV/0! | N5: =IF(H5>=100,5, IF(H5>=30,4, IF(H5>=10,3, IF(H5>=5,2, IF(H5<5,1) ) ) ) ) -> 1 | O5: =IF(AVERAGE(I5:K5)>=4,"기술선도", IF(AVERAGE(I5:K5)>=3,"기술추격", IF(AVERAGE(I5:K5)>1,"기술반응", IF(AVERAGE(I5:K5)=1,"단순생산기업", ) ) ) ) -> #DIV/0! | P5: =IF(AVERAGE(L5:N5)>=4,"성숙기", IF(AVERAGE(L5:N5)>=3,"성장기", IF(AVERAGE(L5:N5)>1,"도약기", IF(AVERAGE(L5:N5)=1,"창업기", ) ) ) ) -> #DIV/0!
A6: 2 | B6: 업체2 | C6: ='1. 업체별 연구개발 투자현황'!R7/'1. 업체별 연구개발 투자현황'!V7*100 -> #DIV/0! | D6: ='2. 업체별 연구개발 투입인력현황'!C6/'2. 업체별 연구개발 투입인력현황'!D6*100 -> #DIV/0! | E6: ='3. 업체별 특허현황'!C6+'3. 업체별 특허현황'!D6 -> 0 | F6: =((('1. 업체별 연구개발 투자현황'!T7-'1. 업체별 연구개발 투자현황'!S7)/'1. 업체별 연구개발 투자현황'!S7)+(('1. 업체별 연구개발 투자현황'!U7-'1. 업체별 연구개발 투자현황'!T7)/'1. 업체별 연구개발 투자현황'!T7))/2*100 -> #DIV/0! | G6: =AVERAGE('1. 업체별 연구개발 투자현황'!S7,'1. 업체별 연구개발 투자현황'!T7,'1. 업체별 연구개발 투자현황'!U7) -> #DIV/0! | H6: ='2. 업체별 연구개발 투입인력현황'!D6 -> 0 | I6: =IF(C6>=10,5, IF(C6>=5,4, IF(C6>=3,3, IF(C6>0,2, IF(C6=0,1) ) ) ) ) -> #DIV/0! | J6: =IF(D6>=30,5, IF(D6>=20,4, IF(D6>=10,3, IF(D6>0,2, IF(D6=0,1) ) ) ) ) -> #DIV/0! | K6: =IF(E6>=10,5, IF(E6>=6,4, IF(E6>=2,3, IF(E6>=1,2, IF(E6=0,1) ) ) ) ) -> 1 | L6: =IF(F6>=30,5, IF(F6>=20,4, IF(F6>=10,3, IF(F6>0,2, IF(F6<0,1) ) ) ) ) -> #DIV/0! | M6: =IF(G6>=5000000000,5, IF(G6>=3000000000,4, IF(G6>=1000000000,3, IF(G6>=300000000,2, IF(G6<300000000,1) ) ) ) ) -> #DIV/0! | N6: =IF(H6>=100,5, IF(H6>=30,4, IF(H6>=10,3, IF(H6>=5,2, IF(H6<5,1) ) ) ) ) -> 1 | O6: =IF(AVERAGE(I6:K6)>=4,"기술선도", IF(AVERAGE(I6:K6)>=3,"기술추격", IF(AVERAGE(I6:K6)>1,"기술반응", IF(AVERAGE(I6:K6)=1,"단순생산기업", ) ) ) ) -> #DIV/0! | P6: =IF(AVERAGE(L6:N6)>=4,"성숙기", IF(AVERAGE(L6:N6)>=3,"성장기", IF(AVERAGE(L6:N6)>1,"도약기", IF(AVERAGE(L6:N6)=1,"창업기", ) ) ) ) -> #DIV/0!
A7: 3 | B7: 업체3 | C7: ='1. 업체별 연구개발 투자현황'!R8/'1. 업체별 연구개발 투자현황'!V8*100 -> #DIV/0! | D7: ='2. 업체별 연구개발 투입인력현황'!C7/'2. 업체별 연구개발 투입인력현황'!D7*100 -> #DIV/0! | E7: ='3. 업체별 특허현황'!C7+'3. 업체별 특허현황'!D7 -> 0 | F7: =((('1. 업체별 연구개발 투자현황'!T8-'1. 업체별 연구개발 투자현황'!S8)/'1. 업체별 연구개발 투자현황'!S8)+(('1. 업체별 연구개발 투자현황'!U8-'1. 업체별 연구개발 투자현황'!T8)/'1. 업체별 연구개발 투자현황'!T8))/2*100 -> #DIV/0! | G7: =AVERAGE('1. 업체별 연구개발 투자현황'!S8,'1. 업체별 연구개발 투자현황'!T8,'1. 업체별 연구개발 투자현황'!U8) -> #DIV/0! | H7: ='2. 업체별 연구개발 투입인력현황'!D7 -> 0 | I7: =IF(C7>=10,5, IF(C7>=5,4, IF(C7>=3,3, IF(C7>0,2, IF(C7=0,1) ) ) ) ) -> #DIV/0! | J7: =IF(D7>=30,5, IF(D7>=20,4, IF(D7>=10,3, IF(D7>0,2, IF(D7=0,1) ) ) ) ) -> #DIV/0! | K7: =IF(E7>=10,5, IF(E7>=6,4, IF(E7>=2,3, IF(E7>=1,2, IF(E7=0,1) ) ) ) ) -> 1 | L7: =IF(F7>=30,5, IF(F7>=20,4, IF(F7>=10,3, IF(F7>0,2, IF(F7<0,1) ) ) ) ) -> #DIV/0! | M7: =IF(G7>=5000000000,5, IF(G7>=3000000000,4, IF(G7>=1000000000,3, IF(G7>=300000000,2, IF(G7<300000000,1) ) ) ) ) -> #DIV/0! | N7: =IF(H7>=100,5, IF(H7>=30,4, IF(H7>=10,3, IF(H7>=5,2, IF(H7<5,1) ) ) ) ) -> 1 | O7: =IF(AVERAGE(I7:K7)>=4,"기술선도", IF(AVERAGE(I7:K7)>=3,"기술추격", IF(AVERAGE(I7:K7)>1,"기술반응", IF(AVERAGE(I7:K7)=1,"단순생산기업", ) ) ) ) -> #DIV/0! | P7: =IF(AVERAGE(L7:N7)>=4,"성숙기", IF(AVERAGE(L7:N7)>=3,"성장기", IF(AVERAGE(L7:N7)>1,"도약기", IF(AVERAGE(L7:N7)=1,"창업기", ) ) ) ) -> #DIV/0!
A8: 4 | B8: 업체4 | C8: ='1. 업체별 연구개발 투자현황'!R9/'1. 업체별 연구개발 투자현황'!V9*100 -> #DIV/0! | D8: ='2. 업체별 연구개발 투입인력현황'!C8/'2. 업체별 연구개발 투입인력현황'!D8*100 -> #DIV/0! | E8: ='3. 업체별 특허현황'!C8+'3. 업체별 특허현황'!D8 -> 0 | F8: =((('1. 업체별 연구개발 투자현황'!T9-'1. 업체별 연구개발 투자현황'!S9)/'1. 업체별 연구개발 투자현황'!S9)+(('1. 업체별 연구개발 투자현황'!U9-'1. 업체별 연구개발 투자현황'!T9)/'1. 업체별 연구개발 투자현황'!T9))/2*100 -> #DIV/0! | G8: =AVERAGE('1. 업체별 연구개발 투자현황'!S9,'1. 업체별 연구개발 투자현황'!T9,'1. 업체별 연구개발 투자현황'!U9) -> #DIV/0! | H8: ='2. 업체별 연구개발 투입인력현황'!D8 -> 0 | I8: =IF(C8>=10,5, IF(C8>=5,4, IF(C8>=3,3, IF(C8>0,2, IF(C8=0,1) ) ) ) ) -> #DIV/0! | J8: =IF(D8>=30,5, IF(D8>=20,4, IF(D8>=10,3, IF(D8>0,2, IF(D8=0,1) ) ) ) ) -> #DIV/0! | K8: =IF(E8>=10,5, IF(E8>=6,4, IF(E8>=2,3, IF(E8>=1,2, IF(E8=0,1) ) ) ) ) -> 1 | L8: =IF(F8>=30,5, IF(F8>=20,4, IF(F8>=10,3, IF(F8>0,2, IF(F8<0,1) ) ) ) ) -> #DIV/0! | M8: =IF(G8>=5000000000,5, IF(G8>=3000000000,4, IF(G8>=1000000000,3, IF(G8>=300000000,2, IF(G8<300000000,1) ) ) ) ) -> #DIV/0! | N8: =IF(H8>=100,5, IF(H8>=30,4, IF(H8>=10,3, IF(H8>=5,2, IF(H8<5,1) ) ) ) ) -> 1 | O8: =IF(AVERAGE(I8:K8)>=4,"기술선도", IF(AVERAGE(I8:K8)>=3,"기술추격", IF(AVERAGE(I8:K8)>1,"기술반응", IF(AVERAGE(I8:K8)=1,"단순생산기업", ) ) ) ) -> #DIV/0! | P8: =IF(AVERAGE(L8:N8)>=4,"성숙기", IF(AVERAGE(L8:N8)>=3,"성장기", IF(AVERAGE(L8:N8)>1,"도약기", IF(AVERAGE(L8:N8)=1,"창업기", ) ) ) ) -> #DIV/0!
A9: 5 | B9: 업체5 | C9: ='1. 업체별 연구개발 투자현황'!R10/'1. 업체별 연구개발 투자현황'!V10*100 -> #DIV/0! | D9: ='2. 업체별 연구개발 투입인력현황'!C9/'2. 업체별 연구개발 투입인력현황'!D9*100 -> #DIV/0! | E9: ='3. 업체별 특허현황'!C9+'3. 업체별 특허현황'!D9 -> 0 | F9: =((('1. 업체별 연구개발 투자현황'!T10-'1. 업체별 연구개발 투자현황'!S10)/'1. 업체별 연구개발 투자현황'!S10)+(('1. 업체별 연구개발 투자현황'!U10-'1. 업체별 연구개발 투자현황'!T10)/'1. 업체별 연구개발 투자현황'!T10))/2*100 -> #DIV/0! | G9: =AVERAGE('1. 업체별 연구개발 투자현황'!S10,'1. 업체별 연구개발 투자현황'!T10,'1. 업체별 연구개발 투자현황'!U10) -> #DIV/0! | H9: ='2. 업체별 연구개발 투입인력현황'!D9 -> 0 | I9: =IF(C9>=10,5, IF(C9>=5,4, IF(C9>=3,3, IF(C9>0,2, IF(C9=0,1) ) ) ) ) -> #DIV/0! | J9: =IF(D9>=30,5, IF(D9>=20,4, IF(D9>=10,3, IF(D9>0,2, IF(D9=0,1) ) ) ) ) -> #DIV/0! | K9: =IF(E9>=10,5, IF(E9>=6,4, IF(E9>=2,3, IF(E9>=1,2, IF(E9=0,1) ) ) ) ) -> 1 | L9: =IF(F9>=30,5, IF(F9>=20,4, IF(F9>=10,3, IF(F9>0,2, IF(F9<0,1) ) ) ) ) -> #DIV/0! | M9: =IF(G9>=5000000000,5, IF(G9>=3000000000,4, IF(G9>=1000000000,3, IF(G9>=300000000,2, IF(G9<300000000,1) ) ) ) ) -> #DIV/0! | N9: =IF(H9>=100,5, IF(H9>=30,4, IF(H9>=10,3, IF(H9>=5,2, IF(H9<5,1) ) ) ) ) -> 1 | O9: =IF(AVERAGE(I9:K9)>=4,"기술선도", IF(AVERAGE(I9:K9)>=3,"기술추격", IF(AVERAGE(I9:K9)>1,"기술반응", IF(AVERAGE(I9:K9)=1,"단순생산기업", ) ) ) ) -> #DIV/0! | P9: =IF(AVERAGE(L9:N9)>=4,"성숙기", IF(AVERAGE(L9:N9)>=3,"성장기", IF(AVERAGE(L9:N9)>1,"도약기", IF(AVERAGE(L9:N9)=1,"창업기", ) ) ) ) -> #DIV/0!
A10: 종합 | C10: ='1. 업체별 연구개발 투자현황'!R11/'1. 업체별 연구개발 투자현황'!V11 -> #DIV/0! | D10: ='2. 업체별 연구개발 투입인력현황'!C10/'2. 업체별 연구개발 투입인력현황'!D10 -> #DIV/0! | E10: =SUM(E5:E9) -> 0 | F10: =((('1. 업체별 연구개발 투자현황'!T11-'1. 업체별 연구개발 투자현황'!S11)/'1. 업체별 연구개발 투자현황'!S11)+(('1. 업체별 연구개발 투자현황'!U11-'1. 업체별 연구개발 투자현황'!T11)/'1. 업체별 연구개발 투자현황'!T11))/2 -> #DIV/0! | G10: =SUM(G5:G9) -> #DIV/0! | H10: =SUM(H5:H9) -> 0
A11: 평균 | C11: =AVERAGE(C5:C9) -> #DIV/0! | D11: =AVERAGE(D5:D9) -> #DIV/0! | E11: =AVERAGE(E5:E9) -> 0 | F11: =AVERAGE(F5:F9) -> #DIV/0! | G11: =AVERAGE(G5:G9) -> #DIV/0! | H11: =AVERAGE(H5:H9) -> 0
