Workbook

Sheet INDEX(자동입력칸)
A3: No | B3: Company | C3: Homepage | D3: Employees# | E3: '23 Annual Revenue (USD) | F3: 23 US Export Amount (USD) | G3: Main Products | H3: Localization in NA | I3: Main Customer ① | J3: Main Customer ② | K3: Main Customer ③ | L3: Main Customer ④ | M3: Main Customer ⑤ | N3: Main Customer ⑤ | O3: Main Customer ⑤ | P3: Main Customer ⑤ | Q3: First Name | R3: Last Name | S3: Job Title | T3: Team | U3: Work phone | V3: Mobile Phone | W3: E-mail
A4: 1 | B4: =IF('Application(작성필요)'!$B$5<>"",'Application(작성필요)'!$B$5,"") -> EX) KOTRA | C4: =IF('Application(작성필요)'!C19<>"",'Application(작성필요)'!$C$19,"") | D4: =IF('Application(작성필요)'!C18<>"",'Application(작성필요)'!$C$18,"") | E4: =IF('Application(작성필요)'!#REF!<>"",'Application(작성필요)'!#REF!,"") -> #REF! | F4: =IF('Application(작성필요)'!$C$21<>"",'Application(작성필요)'!$C$21,"") | G4: =LEFT(CONCATENATE( IF('Application(작성필요)'!$C$27<>"", 'Application(작성필요)'!$C$27 & ", ", ""), IF('Application(작성필요)'!$N$27<>"", 'Application(작성필요)'!$N$27 & ", ", ""), IF('Application(작성필요)'!$C$41<>"", 'Application(작성필요)'!$C$41 & ", ", ""), IF('Application(작성필요)'!$N$41<>"", 'Application(작성필요)'!$N$41, "") ), LEN(CONCATENATE( IF('Application(작성필요)'!$C$27<>"", 'Application(작성필요)'!$C$27 & ", ", ""), IF('Application(작성필요)'!$N$27<>"", 'Application(작성필요)'!$N$27 & ", ", ""), IF('Application(작성필요)'!$C$41<>"", 'Application(작성필요)'!$C$41 & ", ", ""), IF('Application(작성필요)'!$N$41<>"", 'Application(작성필요)'!$N$41, "") ))-IF(RIGHT(CONCATENATE( IF('Application(작성필요)'!$C$27<>"", 'Application(작성필요)'!$C$27 & ", ", ""), IF('Application(작성필요)'!$N$27<>"", 'Application(작성필요)'!$N$27 & ", ", ""), IF('Application(작성필요)'!$C$41<>"", 'Application(작성필요)'!$C$41 & ", ", ""), IF('Application(작성필요)'!$N$41<>"", 'Application(작성필요)'!$N$41, "") ), 2)=", ",2,0)) -> 제품 명을 기입해주세요, 제품 명을 기입해주세요, 제품 명을 기입해주세요, 제품 명을 기입해주세요 | H4: =IF(SUM(COUNTIF('Application(작성필요)'!K16:V16, {"Canada","Mexico","US"})), "Plant(" & IF(COUNTIF('Application(작성필요)'!K16:V16, "Canada")>0, "Canada", "") & IF(AND(COUNTIF('Application(작성필요)'!K16:V16, "Canada")>0, COUNTIF('Application(작성필요)'!K16:V16, "Mexico")>0), ", ", "") & IF(COUNTIF('Application(작성필요)'!K16:V16, "Mexico")>0, "Mexico", "") & IF(AND(SUM(COUNTIF('Application(작성필요)'!K16:V16, {"Canada","Mexico"}))>0, COUNTIF('Application(작성필요)'!K16:V16, "US")>0), ", ", "") & IF(COUNTIF('Application(작성필요)'!K16:V16, "US")>0, "US", "") & ")", "" ) & IF(SUM(COUNTIF('Application(작성필요)'!K21:P21, {"Canada","Mexico","US"})), IF(SUM(COUNTIF('Application(작성필요)'!K16:V16, {"Canada","Mexico","US"}))>0, ", ", "") & "Warehouse(" & IF(COUNTIF('Application(작성필요)'!K21:P21, "Canada")>0, "Canada", "") & IF(AND(COUNTIF('Application(작성필요)'!K21:P21, "Canada")>0, COUNTIF('Application(작성필요)'!K21:P21, "Mexico")>0), ", ", "") & IF(COUNTIF('Application(작성필요)'!K21:P21, "Mexico")>0, "Mexico", "") & IF(AND(SUM(COUNTIF('Application(작성필요)'!K21:P21, {"Canada","Mexico"}))>0, COUNTIF('Application(작성필요)'!K21:P21, "US")>0), ", ", "") & IF(COUNTIF('Application(작성필요)'!K21:P21, "US")>0, "US", "") & ")", "" ) & IF(SUM(COUNTIF('Application(작성필요)'!S21:V21, {"Canada","Mexico","US"})), IF(SUM(COUNTIF('Application(작성필요)'!K21:P21, {"Canada","Mexico","US"}))>0, ", ", "") & "Sales Office(" & IF(COUNTIF('Application(작성필요)'!S21:V21, "Canada")>0, "Canada", "") & IF(AND(COUNTIF('Application(작성필요)'!S21:V21, "Canada")>0, COUNTIF('Application(작성필요)'!S21:V21, "Mexico")>0), ", ", "") & IF(COUNTIF('Application(작성필요)'!S21:V21, "Mexico")>0, "Mexico", "") & IF(AND(SUM(COUNTIF('Application(작성필요)'!S21:V21, {"Canada","Mexico"}))>0, COUNTIF('Application(작성필요)'!S21:V21, "US")>0), ", ", "") & IF(COUNTIF('Application(작성필요)'!S21:V21, "US")>0, "US", "") & ")", "" ) | I4: =IF(AND(NOT(ISBLANK('Application(작성필요)'!$G16)), NOT(ISBLANK('Application(작성필요)'!$F16))), 'Application(작성필요)'!$G16 & " - " & 'Application(작성필요)'!$F16, 'Application(작성필요)'!$G16 & 'Application(작성필요)'!$F16) | J4: =IF(AND(NOT(ISBLANK('Application(작성필요)'!$G17)), NOT(ISBLANK('Application(작성필요)'!$F17))), 'Application(작성필요)'!$G17 & " - " & 'Application(작성필요)'!$F17, 'Application(작성필요)'!$G17 & 'Application(작성필요)'!$F17) | K4: =IF(AND(NOT(ISBLANK('Application(작성필요)'!$G18)), NOT(ISBLANK('Application(작성필요)'!$F18))), 'Application(작성필요)'!$G18 & " - " & 'Application(작성필요)'!$F18, 'Application(작성필요)'!$G18 & 'Application(작성필요)'!$F18) | L4: =IF(AND(NOT(ISBLANK('Application(작성필요)'!$G19)), NOT(ISBLANK('Application(작성필요)'!$F19))), 'Application(작성필요)'!$G19 & " - " & 'Application(작성필요)'!$F19, 'Application(작성필요)'!$G19 & 'Application(작성필요)'!$F19) | M4: =IF(AND(NOT(ISBLANK('Application(작성필요)'!$G20)), NOT(ISBLANK('Application(작성필요)'!$F20))), 'Application(작성필요)'!$G20 & " - " & 'Application(작성필요)'!$F20, 'Application(작성필요)'!$G20 & 'Application(작성필요)'!$F20) | N4: =IF(AND(NOT(ISBLANK('Application(작성필요)'!$G21)), NOT(ISBLANK('Application(작성필요)'!$F21))), 'Application(작성필요)'!$G21 & " - " & 'Application(작성필요)'!$F21, 'Application(작성필요)'!$G21 & 'Application(작성필요)'!$F21) | O4: =IF(AND(NOT(ISBLANK('Application(작성필요)'!$G22)), NOT(ISBLANK('Application(작성필요)'!$F22))), 'Application(작성필요)'!$G22 & " - " & 'Application(작성필요)'!$F22, 'Application(작성필요)'!$G22 & 'Application(작성필요)'!$F22) | P4: =IF(AND(NOT(ISBLANK('Application(작성필요)'!$G23)), NOT(ISBLANK('Application(작성필요)'!$F23))), 'Application(작성필요)'!$G23 & " - " & 'Application(작성필요)'!$F23, 'Application(작성필요)'!$G23 & 'Application(작성필요)'!$F23) | Q4: =IF('Application(작성필요)'!I6<>"",'Application(작성필요)'!I6,"") -> GILDONG | R4: =IF('Application(작성필요)'!K6<>"",'Application(작성필요)'!K6,"") -> HONG | S4: =IF('Application(작성필요)'!M6<>"",'Application(작성필요)'!M6,"") -> MANAGER | T4: =IF('Application(작성필요)'!P6<>"",'Application(작성필요)'!P6,"") -> SALES | U4: =IF('Application(작성필요)'!R6<>"",'Application(작성필요)'!R6,"") -> +1 248-111-1111 | V4: =IF('Application(작성필요)'!U6<>"",'Application(작성필요)'!U6,"") -> +1 248-000-0000 | W4: =IF('Application(작성필요)'!W6<>"",'Application(작성필요)'!W6,"") -> GILDONGHONG@ KOTRA.OR.KR
A5: 2 | B5: =IF(ISBLANK('Application(작성필요)'!$I7),"",$B$4) | C5: =IF(ISBLANK('Application(작성필요)'!$I7),"",$C$4) | D5: =IF(ISBLANK('Application(작성필요)'!$I$7),"",$D$4) | E5: =IF(ISBLANK('Application(작성필요)'!$I$7),"",$E$4) | F5: =IF(ISBLANK('Application(작성필요)'!I7),"",$F$4) | G5: =IF(ISBLANK('Application(작성필요)'!I7),"",$G$4) | H5: =IF(ISBLANK('Application(작성필요)'!I7),"",$H$4) | I5: =IF(ISBLANK('Application(작성필요)'!$I7),"",I$4) | J5: =IF(ISBLANK('Application(작성필요)'!$I7),"",J$4) | K5: =IF(ISBLANK('Application(작성필요)'!$I7),"",K$4) | L5: =IF(ISBLANK('Application(작성필요)'!$I7),"",L$4) | M5: =IF(ISBLANK('Application(작성필요)'!$I7),"",M$4) | N5: =IF(ISBLANK('Application(작성필요)'!$I7),"",N$4) | O5: =IF(ISBLANK('Application(작성필요)'!$I7),"",O$4) | P5: =IF(ISBLANK('Application(작성필요)'!$I7),"",P$4) | Q5: =IF('Application(작성필요)'!I7<>"",'Application(작성필요)'!I7,"") | R5: =IF('Application(작성필요)'!K7<>"",'Application(작성필요)'!K7,"") | S5: =IF('Application(작성필요)'!M7<>"",'Application(작성필요)'!M7,"") | T5: =IF('Application(작성필요)'!P7<>"",'Application(작성필요)'!P7,"") | U5: =IF('Application(작성필요)'!R7<>"",'Application(작성필요)'!R7,"") | V5: =IF('Application(작성필요)'!U7<>"",'Application(작성필요)'!U7,"") | W5: =IF('Application(작성필요)'!W7<>"",'Application(작성필요)'!W7,"")
A6: 3 | B6: =IF(ISBLANK('Application(작성필요)'!$I8),"",$B$4) | C6: =IF(ISBLANK('Application(작성필요)'!$I8),"",$C$4) | D6: =IF(ISBLANK('Application(작성필요)'!$I$7),"",$D$4) | E6: =IF(ISBLANK('Application(작성필요)'!I8),"",$E$4) | F6: =IF(ISBLANK('Application(작성필요)'!I8),"",$F$4) | G6: =IF(ISBLANK('Application(작성필요)'!I8),"",$G$4) | H6: =IF(ISBLANK('Application(작성필요)'!I8),"",$H$4) | I6: =IF(ISBLANK('Application(작성필요)'!$I8),"",I$4) | J6: =IF(ISBLANK('Application(작성필요)'!$I8),"",J$4) | K6: =IF(ISBLANK('Application(작성필요)'!$I8),"",K$4) | L6: =IF(ISBLANK('Application(작성필요)'!$I8),"",L$4) | M6: =IF(ISBLANK('Application(작성필요)'!$I8),"",M$4) | N6: =IF(ISBLANK('Application(작성필요)'!$I8),"",N$4) | O6: =IF(ISBLANK('Application(작성필요)'!$I8),"",O$4) | P6: =IF(ISBLANK('Application(작성필요)'!$I8),"",P$4) | Q6: =IF('Application(작성필요)'!I8<>"",'Application(작성필요)'!I8,"") | R6: =IF('Application(작성필요)'!K8<>"",'Application(작성필요)'!K8,"") | S6: =IF('Application(작성필요)'!M8<>"",'Application(작성필요)'!M8,"") | T6: =IF('Application(작성필요)'!P8<>"",'Application(작성필요)'!P8,"") | U6: =IF('Application(작성필요)'!R8<>"",'Application(작성필요)'!R8,"") | V6: =IF('Application(작성필요)'!U8<>"",'Application(작성필요)'!U8,"") | W6: =IF('Application(작성필요)'!W8<>"",'Application(작성필요)'!W8,"")
A7: 4 | B7: =IF(ISBLANK('Application(작성필요)'!$I9),"",$B$4) | C7: =IF(ISBLANK('Application(작성필요)'!$I9),"",$C$4) | D7: =IF(ISBLANK('Application(작성필요)'!$I$7),"",$D$4) | E7: =IF(ISBLANK('Application(작성필요)'!I9),"",$E$4) | F7: =IF(ISBLANK('Application(작성필요)'!I9),"",$F$4) | G7: =IF(ISBLANK('Application(작성필요)'!I9),"",$G$4) | H7: =IF(ISBLANK('Application(작성필요)'!I9),"",$H$4) | I7: =IF(ISBLANK('Application(작성필요)'!$I9),"",I$4) | J7: =IF(ISBLANK('Application(작성필요)'!$I9),"",J$4) | K7: =IF(ISBLANK('Application(작성필요)'!$I9),"",K$4) | L7: =IF(ISBLANK('Application(작성필요)'!$I9),"",L$4) | M7: =IF(ISBLANK('Application(작성필요)'!$I9),"",M$4) | N7: =IF(ISBLANK('Application(작성필요)'!$I9),"",N$4) | O7: =IF(ISBLANK('Application(작성필요)'!$I9),"",O$4) | P7: =IF(ISBLANK('Application(작성필요)'!$I9),"",P$4) | Q7: =IF('Application(작성필요)'!I9<>"",'Application(작성필요)'!I9,"") | R7: =IF('Application(작성필요)'!K9<>"",'Application(작성필요)'!K9,"") | S7: =IF('Application(작성필요)'!M9<>"",'Application(작성필요)'!M9,"") | T7: =IF('Application(작성필요)'!P9<>"",'Application(작성필요)'!P9,"") | U7: =IF('Application(작성필요)'!R9<>"",'Application(작성필요)'!R9,"") | V7: =IF('Application(작성필요)'!U9<>"",'Application(작성필요)'!U9,"") | W7: =IF('Application(작성필요)'!W9<>"",'Application(작성필요)'!W9,"")
A8: 5 | B8: =IF(ISBLANK('Application(작성필요)'!$I10),"",$B$4) | C8: =IF(ISBLANK('Application(작성필요)'!$I10),"",$C$4) | D8: =IF(ISBLANK('Application(작성필요)'!$I$7),"",$D$4) | E8: =IF(ISBLANK('Application(작성필요)'!I10),"",$E$4) | F8: =IF(ISBLANK('Application(작성필요)'!I10),"",$F$4) | G8: =IF(ISBLANK('Application(작성필요)'!I10),"",$G$4) | H8: =IF(ISBLANK('Application(작성필요)'!I10),"",$H$4) | I8: =IF(ISBLANK('Application(작성필요)'!$I10),"",I$4) | J8: =IF(ISBLANK('Application(작성필요)'!$I10),"",J$4) | K8: =IF(ISBLANK('Application(작성필요)'!$I10),"",K$4) | L8: =IF(ISBLANK('Application(작성필요)'!$I10),"",L$4) | M8: =IF(ISBLANK('Application(작성필요)'!$I10),"",M$4) | N8: =IF(ISBLANK('Application(작성필요)'!$I10),"",N$4) | O8: =IF(ISBLANK('Application(작성필요)'!$I10),"",O$4) | P8: =IF(ISBLANK('Application(작성필요)'!$I10),"",P$4) | Q8: =IF('Application(작성필요)'!I10<>"",'Application(작성필요)'!I10,"") | R8: =IF('Application(작성필요)'!K10<>"",'Application(작성필요)'!K10,"") | S8: =IF('Application(작성필요)'!M10<>"",'Application(작성필요)'!M10,"") | T8: =IF('Application(작성필요)'!P10<>"",'Application(작성필요)'!P10,"") | U8: =IF('Application(작성필요)'!R10<>"",'Application(작성필요)'!R10,"") | V8: =IF('Application(작성필요)'!U10<>"",'Application(작성필요)'!U10,"") | W8: =IF('Application(작성필요)'!W10<>"",'Application(작성필요)'!W10,"")

Sheet Application(작성필요)
B2: A. Supplier Profile
B4: Name of Company | D4: LOGO IMAGE (이미지파일 첨부 요망) | I4: Person in Charge
B5: EX) KOTRA | I5: First Name | K5: Last Name | M5: Job Title | P5: Team | R5: Work phone | U5: Mobile Phone | W5: E-mail | Y5: Located at (Country)
I6: GILDONG | K6: HONG | M6: MANAGER | P6: SALES | R6: +1 248-111-1111 | U6: +1 248-000-0000 | W6: GILDONGHONG@ KOTRA.OR.KR | Y6: US
B10: 0. Company Introduction
B13: 1. Company Overview | E13: 2. Main Customer | I13: 3. Global Footprint (Localization)
B14: General Information | E14: 주요 바이어 / 거래처 | I14: Manufacturing location(s) and Warehouse(s)/Sales Office(s)
B15: Company Type | E15: No | F15: Country | G15: Name of Customer | I15: Manufactruing | K15: Plant #1 | M15: Plant #2 | P15: Plant #3 | S15: Plant #4 | V15: Plant #5
B16: Main Products | E16: 1 | I16: Country
B17: Established Year | E17: 2 | I17: Region(City)
B18: Number of Employees | E18: 3 | I18: Product
B19: Homepage | E19: 4 | I19: Number of Employees
E20: 5 | I20: Warehouse / Sales Office | K20: Warehouse #1 | M20: Warehouse #2 | P20: Warehouse #3 | S20: Sales Office #1 | V20: Sales Office #2
E21: 6 | I21: Country
E22: 7 | I22: Region(City)
E23: 8 | I23: Product
B25: B. Product Description
B27: Product #1 | C27: 제품 명을 기입해주세요 | H27: PRODUCT IMAGE | L27: Product #2 | N27: 제품 명을 기입해주세요 | T27: PRODUCT IMAGE
B28: Summary of Primary products produced Please describe as much as in detail * Part name, spcifications, material, process, technology etc, 최대한 자세하게 바이어가 반드시 알아야하는 정보들로 작성해주세요 | H28: Picture 1, 2 | L28: Summary of Primary products produced Please describe as much as in detail * Part name, spcifications, material, process, technology etc, 최대한 자세하게 바이어가 반드시 알아야하는 정보들로 작성해주세요 | T28: Picture 1, 2
B39: Supply directly to | C39: 직납하는 바이어 명을 기입해주세요 | L39: Supply directly to | O39: 직납하는 바이어 명을 기입해주세요
B41: Product #3 | C41: 제품 명을 기입해주세요 | H41: PRODUCT IMAGE | L41: Product #4 | N41: 제품 명을 기입해주세요 | T41: PRODUCT IMAGE
B42: Summary of Primary products produced Please describe as much as in detail * Part name, spcifications, material, process, technology etc, 최대한 자세하게 바이어가 반드시 알아야하는 정보들로 작성해주세요 | H42: Picture 1, 2 | L42: Summary of Primary products produced Please describe as much as in detail * Part name, spcifications, material, process, technology etc, 최대한 자세하게 바이어가 반드시 알아야하는 정보들로 작성해주세요 | T42: Picture 1, 2
B53: Supply directly to | C53: 직납하는 바이어 명을 기입해주세요 | L53: Supply directly to | O53: 직납하는 바이어 명을 기입해주세요
B55: C. Supplier Innovation Submission
B56: Innovative Technology ① : 제안하고자 하는 기술 Title을 작성해주세요 | J56: Innovative Technology ② : 제안하고자 하는 기술 Title을 작성해주세요
B57: Strength Point | J57: Strength Point
B58: 1. 글로벌 경쟁사 대비 강점으로 제시할 수 있는 세일즈 포인트를 반드시 적어주세요 2. 3. | J58: 1. 글로벌 경쟁사 대비 강점으로 제시할 수 있는 세일즈 포인트를 반드시 적어주세요 2. 3.
B59: Detail : 자사의 기술을 영문으로 최대한 자세하게 설명해주세요. 반드시 경쟁사 대비 우수한 진일보된 기술을 작성해주시기 바라며, 개발 중이거나 거래를 앞둔 제품이 해당될 수 있습니다. | J59: Detail : 자사의 기술을 영문으로 최대한 자세하게 설명해주세요. 반드시 경쟁사 대비 우수한 진일보된 기술을 작성해주시기 바라며, 개발 중이거나 거래를 앞둔 제품이 해당될 수 있습니다.
B61: Pictures | J61: Pictures
B67: * Supply directly to : 직납하는 바이어 명을 적어주세요 | J67: * Supply directly to :
